{"text_format":"1","workbook":"xlsx","n_sheets":8,"sheets":["Data Validation","Import","INSTRUCCIONES","Step 1. LA INSTITUCIÓN","Step 2. IHECO","Step 3. Resultados del IHECO","Step 4. Plan de Acción","Step 5. Presupuesto"],"not_rendered":{"charts":0,"images":14,"macros":1,"external_links":3,"defined_names":143,"comments":0,"pivot_tables":0},"unopened":[],"bounds":{"document_bytes":16777216,"sheet_cells":100000,"rows_first":2000,"rows_last":500,"rows_between":2000,"halvings":0,"cell_chars":16384,"cell_head_chars":4096},"cells_cut":0,"cells_raw":0,"read":"whole","date_system":"1900"}

{"sheet":"Data Validation","index":0,"n_rows":120,"n_cols":66,"rows_kept":120,"cut":false,"hidden":true,"merged":[]}
["CS Modality","F2F_Distance","Level of Achievement",null,"PD1",null,"PD2",null,"PD3",null,"PD4",null,"PD5",null,"PD6",null,"PD7",null,"PD8",null,"PDI1",null,"PDI2",null,"PDI3",null,"PDI4",null,"PDI5",null,"PDI6",null,"PDI7",null,"MER1",null,"MER2",null,"MER3",null,"MER4",null,"MER5",null,"MER6",null,"MER7",null,null,"Financial Level of Achievement",null,null,"Priority",null,"Evaluation Tool","IHECO",{"$f":"BD2","v":" 1. Identidad Y Gobernanza"},{"$f":"BD3","v":" 2. Estrategia Y Planificación"},{"$f":"BD4","v":" 3. Gestión General"},{"$f":"BD5","v":" 4. Relaciones Externas Y Asociaciones"},{"$f":"BD6","v":" 5. Sostenibilidad"},{"$f":"BD7","v":" 6. Aprendizaj E Organizativo"},{"$f":"BD8","v":" 7. Gestión De Recursos Humanos"},{"$f":"BD9","v":" 8. Gestión De Recursos Financieros Y Físicos"},{"$f":"BD10","v":" 9. Programas, Servicios Y Resultados"},{"$f":"BD11","v":" 10. Integración de la Igualdad Entre Los Géneros"}]
["Desarrollo de capacidades","En persona","Fuerte, satisface las necesidades actuales",1,"Fuerte, satisface las necesidades actuales: El personal está familiarizado con las herramientas y los manuales pertinentes en materia de diseño y ejecución de proyectos y los utiliza siempre.",1,"Fuerte, satisface las necesidades actuales: El personal está familiarizado con la misión, la visión y la estrategia de la organización y las aplica siempre.",1,"Fuerte, satisface las necesidades actuales: El personal comprende y utiliza métodos participativos en los proyectos.",1,"Fuerte, satisface las necesidades actuales: La organización cuenta con políticas, procesos o procedimientos operativos normalizados que garantizan que los proyectos no perjudiquen a los beneficiarios, y los aplica siempre.",1,"Fuerte, satisface las necesidades actuales: Los proyectos ponen en tela de juicio las estructuras sociales y fomentan la participación de personas marginadas. ",1,"Fuerte, satisface las necesidades actuales: La organización cuenta con una política de gestión de los recursos naturales y el personal la aplica siempre.",1,"Fuerte, satisface las necesidades actuales: La organización siempre apoya a los agentes de la sociedad civil en sus programas.",1,"Fuerte, satisface las necesidades actuales: La organización siempre integra una perspectiva de género en sus programas.",1,"Fuerte, satisface las necesidades actuales: El personal comprende y sabe cómo elaborar propuestas lógicas y bien escritas, utilizando permanentemente los términos del donante.",1,"Fuerte, satisface las necesidades actuales: El personal comprende muy bien y sabe cómo elaborar notas conceptuales que proporcionen la información solicitada por el donante.",1,"Fuerte, satisface las necesidades actuales: El personal siempre presenta a los donantes propuestas oportunas y adaptadas.",1,"Fuerte, satisface las necesidades actuales: El personal comprende y establece objetivos de proyecto que siempre están enfocados hacia los resultados.",1,"Fuerte, satisface las necesidades actuales: El personal comprende muy bien y sabe cómo elaborar notas conceptuales que proporcionen la información solicitada por el donante.",1,"Fuerte, satisface las necesidades actuales: La organización crea siempre indicadores de producto y de impacto para sus proyectos.",1,"Fuerte, satisface las necesidades actuales: La organización siempre hace un seguimiento del avance con respecto a los indicadores de impacto.",1,"Fuerte, satisface las necesidades actuales: La organización cuenta con un sistema completo de seguimiento y evaluación para todos los proyectos.",1,"Fuerte, satisface las necesidades actuales: La administración siempre hace un seguimiento, evalúa e informa sistemáticamente con respecto a los proyectos.",1,"Fuerte, satisface las necesidades actuales: La organización siempre utiliza la información de las evaluaciones para crear proyectos sostenibles.",1,"Fuerte, satisface las necesidades actuales: La organización siempre utiliza las lecciones aprendidas de las evaluaciones intermedias/revisiones para rever la estrategia del proyecto.",1,"Fuerte, satisface las necesidades actuales: La organización siempre mide el impacto de sus servicios en los participantes hombres y mujeres.",1,"Fuerte, satisface las necesidades actuales: El personal encargado del proyecto siempre efectúa evaluaciones continuas de las deficiencias en los proyectos en vigor.",1,"Fuerte, satisface las necesidades actuales: La organización siempre realiza revisiones de fin de proyecto/evaluaciones de impacto en todos los proyectos.",1,null,"Sí / siempre",1,null,"Superior",null,"IHECO",{"$f":"CONCATENATE(\" \",IFERROR(INDEX('Step 2. IHECO'!$A$5:$A$1000,_xlfn.AGGREGATE(15,6,(ROW('Step 2. IHECO'!$A$5:$A$1000)-ROW('Step 2. IHECO'!$A$5)+1)/('Step 2. IHECO'!$A$5:$A$1000<>\"\"),ROWS(BD$2:BD2))),\"\"))","v":" 1. Identidad Y Gobernanza"},{"$f":"CONCATENATE(\" \",IFERROR(INDEX('Step 2. IHECO'!$B$5:$B$33,_xlfn.AGGREGATE(15,6,(ROW('Step 2. IHECO'!$B$5:$B$33)-ROW('Step 2. IHECO'!$B$5)+1)/('Step 2. IHECO'!$B$5:$B$33<>\"\"),ROWS(BE$2:BE2))),\"\"))","v":" 1.1. Gobernanza"},{"$f":"CONCATENATE(\" \",IFERROR(INDEX('Step 2. IHECO'!$B$34:$B$61,_xlfn.AGGREGATE(15,6,(ROW('Step 2. IHECO'!$B$34:$B$61)-ROW('Step 2. IHECO'!$B$34)+1)/('Step 2. IHECO'!$B$34:$B$61<>\"\"),ROWS(BF$2:BF2))),\"\"))","v":" 2.1. Proceso de planificación general"},{"$f":"CONCATENATE(\" \",IFERROR(INDEX('Step 2. IHECO'!$B$62:$B$87,_xlfn.AGGREGATE(15,6,(ROW('Step 2. IHECO'!$B$62:$B$87)-ROW('Step 2. IHECO'!$B$62)+1)/('Step 2. IHECO'!$B$62:$B$87<>\"\"),ROWS(BG$2:BG2))),\"\"))","v":" 3.1. Gerencia"},{"$f":"CONCATENATE(\" \",IFERROR(INDEX('Step 2. IHECO'!$B$88:$B$103,_xlfn.AGGREGATE(15,6,(ROW('Step 2. IHECO'!$B$88:$B$103)-ROW('Step 2. IHECO'!$B$88)+1)/('Step 2. IHECO'!$B$88:$B$103<>\"\"),ROWS(BH$2:BH2))),\"\"))","v":" 4.1. Relaciones con los encargados de elaborar políticas"},{"$f":"CONCATENATE(\" \",IFERROR(INDEX('Step 2. IHECO'!$B$104:$B$144,_xlfn.AGGREGATE(15,6,(ROW('Step 2. IHECO'!$B$104:$B$144)-ROW('Step 2. IHECO'!$B$104)+1)/('Step 2. IHECO'!$B$104:$B$144<>\"\"),ROWS(BI$2:BI2))),\"\"))","v":" 5.1. Sostenibilidad del programa"},{"$f":"CONCATENATE(\" \",IFERROR(INDEX('Step 2. IHECO'!$B$145:$B$162,_xlfn.AGGREGATE(15,6,(ROW('Step 2. IHECO'!$B$145:$B$162)-ROW('Step 2. IHECO'!$B$145)+1)/('Step 2. IHECO'!$B$145:$B$162<>\"\"),ROWS(BJ$2:BJ2))),\"\"))","v":" 6.1. Estrategia de aprendizaje organizativo"},{"$f":"CONCATENATE(\" \",IFERROR(INDEX('Step 2. IHECO'!$B$163:$B$201,_xlfn.AGGREGATE(15,6,(ROW('Step 2. IHECO'!$B$163:$B$201)-ROW('Step 2. IHECO'!$B$163)+1)/('Step 2. IHECO'!$B$163:$B$201<>\"\"),ROWS(BK$2:BK2))),\"\"))","v":" 7.1. Capacidad de recursos humanos"},{"$f":"CONCATENATE(\" \",IFERROR(INDEX('Step 2. IHECO'!$B$202:$B$252,_xlfn.AGGREGATE(15,6,(ROW('Step 2. IHECO'!$B$202:$B$252)-ROW('Step 2. IHECO'!$B$202)+1)/('Step 2. IHECO'!$B$202:$B$252<>\"\"),ROWS(BL$2:BL2))),\"\"))","v":" 8.1. Personal financiero"},{"$f":"CONCATENATE(\" \",IFERROR(INDEX('Step 2. IHECO'!$B$253:$B$302,_xlfn.AGGREGATE(15,6,(ROW('Step 2. IHECO'!$B$253:$B$302)-ROW('Step 2. IHECO'!$B$253)+1)/('Step 2. IHECO'!$B$253:$B$302<>\"\"),ROWS(BM$2:BM2))),\"\"))","v":" 9.1. Pericia sectorial"},{"$f":"CONCATENATE(\" \",IFERROR(INDEX('Step 2. IHECO'!$B$303:$B$331,_xlfn.AGGREGATE(15,6,(ROW('Step 2. IHECO'!$B$303:$B$331)-ROW('Step 2. IHECO'!$B$303)+1)/('Step 2. IHECO'!$B$303:$B$331<>\"\"),ROWS(BN$2:BN2))),\"\"))","v":" 10.1. Dimensiones organizacionales: las políticas y su aplicación"}]
["Fortalecimiento institucional","A distancia","Bueno, contará con una mejora",0.66600000000000004,"Bueno, contará con una mejora: El personal está familiarizado con las herramientas y los manuales pertinentes en materia de diseño y ejecución de proyectos, pero los utiliza con poca frecuencia.",0.66600000000000004,"Bueno, contará con una mejora: El personal está familiarizado con la misión, la visión y la estrategia de la organización, pero las aplica con poca frecuencia.",0.66600000000000004,"Bueno, contará con una mejora: El personal comprende los métodos participativos, pero los utiliza con poca frecuencia.",0.66600000000000004,"Bueno, contará con una mejora: La organización cuenta con políticas, procesos o procedimientos operativos normalizados que garantizan que los proyectos no perjudiquen a los beneficiarios, y a veces los aplica.",0.66600000000000004,"Bueno, contará con una mejora: Los proyectos ponen en tela de juicio las estructuras sociales, pero muy pocas veces fomentan la participación de personas marginadas. ",0.66600000000000004,"Bueno, contará con una mejora: La organización cuenta con una política de gestión de los recursos naturales, pero el personal la aplica con poca frecuencia.",0.66600000000000004,"Bueno, contará con una mejora: La organización a veces apoya a los agentes de la sociedad civil.",0.66600000000000004,"Bueno, contará con una mejora: La organización a veces integra una perspectiva de género en sus programas.",0.66600000000000004,"Bueno, contará con una mejora: El personal comprende y sabe cómo elaborar propuestas lógicas y bien escritas, utilizando a veces los términos del donante.",0.66600000000000004,"Bueno, contará con una mejora: El personal comprende y sabe cómo elaborar notas conceptuales que proporcionen la información solicitada por el donante.",0.66600000000000004,"Bueno, contará con una mejora: El personal a veces presenta a los donantes propuestas oportunas y adaptadas.",0.66600000000000004,"Bueno, contará con una mejora: El personal comprende y establece objetivos de proyecto que a veces están enfocados hacia los resultados.",0.66600000000000004,"Bueno, contará con una mejora: El personal comprende y sabe cómo elaborar notas conceptuales que proporcionen la información solicitada por el donante.",0.66600000000000004,"Bueno, contará con una mejora: La organización crea a veces indicadores de producto y de impacto para sus proyectos.",0.66600000000000004,"Bueno, contará con una mejora: La organización a veces hace un seguimiento del avance con respecto a los indicadores de impacto.",0.66600000000000004,"Bueno, contará con una mejora: La organización cuenta con un sistema completo de seguimiento y evaluación para algunos proyectos.",0.66600000000000004,"Bueno, contará con una mejora: La administración a veces hace un seguimiento, evalúa e informa sistemáticamente con respecto a los proyectos.",0.66600000000000004,"Bueno, contará con una mejora: La organización a veces utiliza la información de las evaluaciones para crear proyectos sostenibles.",0.66600000000000004,"Bueno, contará con una mejora: La organización a veces utiliza las lecciones aprendidas de las evaluaciones intermedias/revisiones para rever la estrategia del proyecto.",0.66600000000000004,"Bueno, contará con una mejora: La organización a veces mide el impacto de sus servicios en los participantes hombres y mujeres.",0.66600000000000004,"Bueno, contará con una mejora: El personal encargado del proyecto a veces efectúa evaluaciones continuas de las deficiencias en los proyectos en vigor.",0.66600000000000004,"Bueno, contará con una mejora: La organización a veces realiza revisiones de fin de proyecto/evaluaciones de impacto en todos los proyectos.",0.66600000000000004,null,"Parcialmente / por lo general",0.66600000000000004,null,"Mediano",null,null,{"$f":"CONCATENATE(\" \",IFERROR(INDEX('Step 2. IHECO'!$A$5:$A$1000,_xlfn.AGGREGATE(15,6,(ROW('Step 2. IHECO'!$A$5:$A$1000)-ROW('Step 2. IHECO'!$A$5)+1)/('Step 2. IHECO'!$A$5:$A$1000<>\"\"),ROWS(BD$2:BD3))),\"\"))","v":" 2. Estrategia Y Planificación"},{"$f":"CONCATENATE(\" \",IFERROR(INDEX('Step 2. IHECO'!$B$5:$B$33,_xlfn.AGGREGATE(15,6,(ROW('Step 2. IHECO'!$B$5:$B$33)-ROW('Step 2. IHECO'!$B$5)+1)/('Step 2. IHECO'!$B$5:$B$33<>\"\"),ROWS(BE$2:BE3))),\"\"))","v":" 1.2. Misión, visión y valores"},{"$f":"CONCATENATE(\" \",IFERROR(INDEX('Step 2. IHECO'!$B$34:$B$61,_xlfn.AGGREGATE(15,6,(ROW('Step 2. IHECO'!$B$34:$B$61)-ROW('Step 2. IHECO'!$B$34)+1)/('Step 2. IHECO'!$B$34:$B$61<>\"\"),ROWS(BF$2:BF3))),\"\"))","v":" 2.2. Planificación estratégica"},{"$f":"CONCATENATE(\" \",IFERROR(INDEX('Step 2. IHECO'!$B$62:$B$87,_xlfn.AGGREGATE(15,6,(ROW('Step 2. IHECO'!$B$62:$B$87)-ROW('Step 2. IHECO'!$B$62)+1)/('Step 2. IHECO'!$B$62:$B$87<>\"\"),ROWS(BG$2:BG3))),\"\"))","v":" 3.2. Gestión de la generación de informes y de la información"},{"$f":"CONCATENATE(\" \",IFERROR(INDEX('Step 2. IHECO'!$B$88:$B$103,_xlfn.AGGREGATE(15,6,(ROW('Step 2. IHECO'!$B$88:$B$103)-ROW('Step 2. IHECO'!$B$88)+1)/('Step 2. IHECO'!$B$88:$B$103<>\"\"),ROWS(BH$2:BH3))),\"\"))","v":" 4.2. Asociaciones"},{"$f":"CONCATENATE(\" \",IFERROR(INDEX('Step 2. IHECO'!$B$104:$B$144,_xlfn.AGGREGATE(15,6,(ROW('Step 2. IHECO'!$B$104:$B$144)-ROW('Step 2. IHECO'!$B$104)+1)/('Step 2. IHECO'!$B$104:$B$144<>\"\"),ROWS(BI$2:BI3))),\"\"))","v":" 5.2. Sostenibilidad organizativa"},{"$f":"CONCATENATE(\" \",IFERROR(INDEX('Step 2. IHECO'!$B$145:$B$162,_xlfn.AGGREGATE(15,6,(ROW('Step 2. IHECO'!$B$145:$B$162)-ROW('Step 2. IHECO'!$B$145)+1)/('Step 2. IHECO'!$B$145:$B$162<>\"\"),ROWS(BJ$2:BJ3))),\"\"))","v":" 6.2. Procesos de reflexión crítica"},{"$f":"CONCATENATE(\" \",IFERROR(INDEX('Step 2. IHECO'!$B$163:$B$201,_xlfn.AGGREGATE(15,6,(ROW('Step 2. IHECO'!$B$163:$B$201)-ROW('Step 2. IHECO'!$B$163)+1)/('Step 2. IHECO'!$B$163:$B$201<>\"\"),ROWS(BK$2:BK3))),\"\"))","v":" 7.2. Sistemas de gestión de recursos humanos"},{"$f":"CONCATENATE(\" \",IFERROR(INDEX('Step 2. IHECO'!$B$202:$B$252,_xlfn.AGGREGATE(15,6,(ROW('Step 2. IHECO'!$B$202:$B$252)-ROW('Step 2. IHECO'!$B$202)+1)/('Step 2. IHECO'!$B$202:$B$252<>\"\"),ROWS(BL$2:BL3))),\"\"))","v":" 8.2. Sistemas financieros"},{"$f":"CONCATENATE(\" \",IFERROR(INDEX('Step 2. IHECO'!$B$253:$B$302,_xlfn.AGGREGATE(15,6,(ROW('Step 2. IHECO'!$B$253:$B$302)-ROW('Step 2. IHECO'!$B$253)+1)/('Step 2. IHECO'!$B$253:$B$302<>\"\"),ROWS(BM$2:BM3))),\"\"))","v":" 9.2. Involucramiento de las partes interesadas en los proyectos"},{"$f":"CONCATENATE(\" \",IFERROR(INDEX('Step 2. IHECO'!$B$303:$B$331,_xlfn.AGGREGATE(15,6,(ROW('Step 2. IHECO'!$B$303:$B$331)-ROW('Step 2. IHECO'!$B$303)+1)/('Step 2. IHECO'!$B$303:$B$331<>\"\"),ROWS(BN$2:BN3))),\"\"))","v":" 10.2. Dimensiones organizacionales: dotación de personal, contratación, promoción y retención"}]
["Acompañamiento",null,"Débil, necesita una mejora",0.33300000000000002,"Débil, necesita una mejora: El personal está familiarizado con las herramientas y los manuales pertinentes en materia de diseño y ejecución de proyectos, pero no sabe cómo utilizarlos.",0.33300000000000002,"Débil, necesita una mejora: El personal está familiarizado con la misión, la visión y la estrategia de la organización, pero no sabe cómo aplicarlas.",0.33300000000000002,"Débil, necesita una mejora: El personal sabe lo que son los enfoques participativos, pero no sabe cómo utilizarlos.",0.33300000000000002,"Débil, necesita una mejora: La organización cuenta con políticas, procesos o procedimientos operativos normalizados que garantizan que los proyectos no perjudiquen a los beneficiarios, pero los aplica con poca frecuencia.",0.33300000000000002,"Débil, necesita una mejora: Los proyectos ponen en tela de juicio las estructuras sociales y no fomentan la participación de personas marginadas. ",0.33300000000000002,"Débil, necesita una mejora: La organización cuenta con una política de gestión de los recursos naturales, pero el personal no la aplica.",0.33300000000000002,"Débil, necesita una mejora: La organización apoya, en contadas ocasiones, a los agentes de la sociedad civil en sus programas.",0.33300000000000002,"Débil, necesita una mejora: La organización no integra con mucha frecuencia una perspectiva de género en sus programas.",0.33300000000000002,"Débil, necesita una mejora: El personal comprende pero no sabe cómo elaborar propuestas lógicas y bien escritas utilizando los términos del donante.",0.33300000000000002,"Débil, necesita una mejora: El personal comprende pero no sabe cómo elaborar notas conceptuales que proporcionen la información solicitada por el donante.",0.33300000000000002,"Débil, necesita una mejora: En contadas ocasiones, el personal presenta a los donantes propuestas oportunas y adaptadas.",0.33300000000000002,"Débil, necesita una mejora: El personal establece objetivos de proyecto que pueden no estar enfocados hacia los resultados.",0.33300000000000002,"Débil, necesita una mejora: El personal comprende pero no sabe cómo elaborar notas conceptuales que proporcionen la información solicitada por el donante.",0.33300000000000002,"Débil, necesita una mejora: La organización crea en contadas ocasiones indicadores de producto y de impacto para sus proyectos.",0.33300000000000002,"Débil, necesita una mejora: En contadas ocasiones, la organización hace un seguimiento del avance con respecto a los indicadores de impacto.",0.33300000000000002,"Débil, necesita una mejora: La organización cuenta con un sistema de seguimiento y evaluación que no es completo.",0.33300000000000002,"Débil, necesita una mejora: Pocas veces la administración hace un seguimiento, evalúa e informa sistemáticamente con respecto a los proyectos.",0.33300000000000002,"Débil, necesita una mejora: En contadas ocasiones, la organización utiliza la información de las evaluaciones para crear proyectos sostenibles.",0.33300000000000002,"Débil, necesita una mejora: En contadas ocasiones, la organización utiliza las lecciones aprendidas de las evaluaciones intermedias/revisiones para rever la estrategia del proyecto.",0.33300000000000002,"Débil, necesita una mejora: En contadas ocasiones, la organización mide el impacto de sus servicios en los participantes hombres y mujeres.",0.33300000000000002,"Débil, necesita una mejora: En contadas ocasiones, el personal encargado del proyecto efectúa evaluaciones continuas de las deficiencias en los proyectos en vigor.",0.33300000000000002,"Débil, necesita una mejora: En contadas ocasiones, la organización realiza revisiones de fin de proyecto/evaluaciones de impacto en todos los proyectos.",0.33300000000000002,null,"Parcialmente / veces",0.33300000000000002,null,"Bajo",null,null,{"$f":"CONCATENATE(\" \",IFERROR(INDEX('Step 2. IHECO'!$A$5:$A$1000,_xlfn.AGGREGATE(15,6,(ROW('Step 2. IHECO'!$A$5:$A$1000)-ROW('Step 2. IHECO'!$A$5)+1)/('Step 2. IHECO'!$A$5:$A$1000<>\"\"),ROWS(BD$2:BD4))),\"\"))","v":" 3. Gestión General"},{"$f":"CONCATENATE(\" \",IFERROR(INDEX('Step 2. IHECO'!$B$5:$B$33,_xlfn.AGGREGATE(15,6,(ROW('Step 2. IHECO'!$B$5:$B$33)-ROW('Step 2. IHECO'!$B$5)+1)/('Step 2. IHECO'!$B$5:$B$33<>\"\"),ROWS(BE$2:BE4))),\"\"))","v":" 1.3. Participación de las partes interesadas"},{"$f":"CONCATENATE(\" \",IFERROR(INDEX('Step 2. IHECO'!$B$34:$B$61,_xlfn.AGGREGATE(15,6,(ROW('Step 2. IHECO'!$B$34:$B$61)-ROW('Step 2. IHECO'!$B$34)+1)/('Step 2. IHECO'!$B$34:$B$61<>\"\"),ROWS(BF$2:BF4))),\"\"))","v":" 2.3. Planes operativos"},{"$f":"CONCATENATE(\" \",IFERROR(INDEX('Step 2. IHECO'!$B$62:$B$87,_xlfn.AGGREGATE(15,6,(ROW('Step 2. IHECO'!$B$62:$B$87)-ROW('Step 2. IHECO'!$B$62)+1)/('Step 2. IHECO'!$B$62:$B$87<>\"\"),ROWS(BG$2:BG4))),\"\"))","v":" 3.3. Relaciones de equipo"},{"$f":"CONCATENATE(\" \",IFERROR(INDEX('Step 2. IHECO'!$B$88:$B$103,_xlfn.AGGREGATE(15,6,(ROW('Step 2. IHECO'!$B$88:$B$103)-ROW('Step 2. IHECO'!$B$88)+1)/('Step 2. IHECO'!$B$88:$B$103<>\"\"),ROWS(BH$2:BH4))),\"\"))","v":" 4.3. Relaciones con los donadores"},{"$f":"CONCATENATE(\" \",IFERROR(INDEX('Step 2. IHECO'!$B$104:$B$144,_xlfn.AGGREGATE(15,6,(ROW('Step 2. IHECO'!$B$104:$B$144)-ROW('Step 2. IHECO'!$B$104)+1)/('Step 2. IHECO'!$B$104:$B$144<>\"\"),ROWS(BI$2:BI4))),\"\"))","v":" 5.3. Sostenibilidad financiera y de recursos"},{"$f":"CONCATENATE(\" \",IFERROR(INDEX('Step 2. IHECO'!$B$145:$B$162,_xlfn.AGGREGATE(15,6,(ROW('Step 2. IHECO'!$B$145:$B$162)-ROW('Step 2. IHECO'!$B$145)+1)/('Step 2. IHECO'!$B$145:$B$162<>\"\"),ROWS(BJ$2:BJ4))),\"\"))","v":" 6.3. Documentación, almacenamiento e intercambio de conocimientos"},{"$f":"CONCATENATE(\" \",IFERROR(INDEX('Step 2. IHECO'!$B$163:$B$201,_xlfn.AGGREGATE(15,6,(ROW('Step 2. IHECO'!$B$163:$B$201)-ROW('Step 2. IHECO'!$B$163)+1)/('Step 2. IHECO'!$B$163:$B$201<>\"\"),ROWS(BK$2:BK4))),\"\"))","v":" 7.3. Reclutamiento y dotación de personal"},{"$f":"CONCATENATE(\" \",IFERROR(INDEX('Step 2. IHECO'!$B$202:$B$252,_xlfn.AGGREGATE(15,6,(ROW('Step 2. IHECO'!$B$202:$B$252)-ROW('Step 2. IHECO'!$B$202)+1)/('Step 2. IHECO'!$B$202:$B$252<>\"\"),ROWS(BL$2:BL4))),\"\"))","v":" 8.3. Documentación y mantenimiento de registros"},{"$f":"CONCATENATE(\" \",IFERROR(INDEX('Step 2. IHECO'!$B$253:$B$302,_xlfn.AGGREGATE(15,6,(ROW('Step 2. IHECO'!$B$253:$B$302)-ROW('Step 2. IHECO'!$B$253)+1)/('Step 2. IHECO'!$B$253:$B$302<>\"\"),ROWS(BM$2:BM4))),\"\"))","v":" 9.3. Participación de la comunidad"},{"$f":"CONCATENATE(\" \",IFERROR(INDEX('Step 2. IHECO'!$B$303:$B$331,_xlfn.AGGREGATE(15,6,(ROW('Step 2. IHECO'!$B$303:$B$331)-ROW('Step 2. IHECO'!$B$303)+1)/('Step 2. IHECO'!$B$303:$B$331<>\"\"),ROWS(BN$2:BN4))),\"\"))","v":" 10.3. Dimensiones organizacionales: entorno laboral y liderazgo"}]
[null,null,"Deficiente, necesita una mejora considerable",0.2,"Deficiente, necesita una mejora considerable: El personal no conoce las herramientas y los manuales pertinentes en materia de diseño y ejecución de proyectos y no sabe cómo utilizarlos.",0.2,"Deficiente, necesita una mejora considerable: El personal no está familiarizado con la misión, la visión y la estrategia de la organización, y no sabe cómo aplicarlas.",0.2,"Pobre, necesita una mejora considerable: El personal no conoce los enfoques participativos.",0.2,"Deficiente, necesita una mejora considerable: La organización no cuenta con políticas, procesos ni procedimientos operativos normalizados que garanticen que los proyectos no perjudiquen a los beneficiarios.",0.2,"Deficiente, necesita una mejora considerable: Los proyectos no ponen en tela de juicio las estructuras sociales y no fomentan la participación de personas marginadas. ",0.2,"Deficiente, necesita una mejora considerable: La organización no cuenta con una política de gestión de los recursos naturales.",0.2,"Deficiente, necesita una mejora considerable: La organización no apoya a los agentes de la sociedad civil en sus programas.",0.2,"Deficiente, necesita una mejora considerable: La organización no integra una perspectiva de género en sus programas.",0.2,"Deficiente, necesita una mejora considerable: El personal no comprende y no sabe cómo elaborar propuestas lógicas y bien escritas utilizando los términos del donante.",0.2,"Deficiente, necesita una mejora considerable: El personal no comprende y no sabe cómo elaborar notas conceptuales que proporcionen la información solicitada por el donante.",0.2,"Deficiente,  necesita una mejora considerable: El personal no presenta a los donantes propuestas oportunas y adaptadas.",0.2,"Deficiente, necesita una mejora considerable: El personal no establece objetivos de proyecto enfocados hacia los resultados.",0.2,"Deficiente, necesita una mejora considerable: El personal no comprende y no sabe cómo elaborar notas conceptuales que proporcionen la información solicitada por el donante.",0.2,"Deficiente, necesita una mejora considerable: La organización no crea indicadores de producto ni de impacto para sus proyectos.",0.2,"Deficiente, necesita una mejora considerable: La organización no hace un seguimiento del avance con respecto a los indicadores de impacto.",0.2,"Deficiente, necesita una mejora considerable: La organización no cuenta con un sistema de seguimiento y evaluación completo para sus proyectos.",0.2,"Deficiente, necesita una mejora considerable: La administración no hace un seguimiento, no evalúa ni informa sistemáticamente con respecto a los proyectos.",0.2,"Deficiente, necesita una mejora considerable: La organización no utiliza la información de las evaluaciones para crear proyectos sostenibles.",0.2,"Deficiente, necesita una mejora considerable: La organización no utiliza las lecciones aprendidas de las evaluaciones intermedias/revisiones para rever la estrategia del proyecto y no realiza revisiones intermedias.",0.2,"Deficiente, necesita una mejora considerable: La organización no mide el impacto de sus servicios en los participantes hombres y mujeres.",0.2,"Deficiente, necesita una mejora considerable: El personal encargado del proyecto no efectúa evaluaciones continuas de las deficiencias en los proyectos en vigor.",0.2,"Deficiente, necesita una mejora considerable: La organización no realiza revisiones de fin de proyecto/evaluaciones de impacto en todos los proyectos.",0.2,null,"No / nunca",0,null,null,null,null,{"$f":"CONCATENATE(\" \",IFERROR(INDEX('Step 2. IHECO'!$A$5:$A$1000,_xlfn.AGGREGATE(15,6,(ROW('Step 2. IHECO'!$A$5:$A$1000)-ROW('Step 2. IHECO'!$A$5)+1)/('Step 2. IHECO'!$A$5:$A$1000<>\"\"),ROWS(BD$2:BD5))),\"\"))","v":" 4. Relaciones Externas Y Asociaciones"},{"$f":"CONCATENATE(\" \",IFERROR(INDEX('Step 2. IHECO'!$B$5:$B$33,_xlfn.AGGREGATE(15,6,(ROW('Step 2. IHECO'!$B$5:$B$33)-ROW('Step 2. IHECO'!$B$5)+1)/('Step 2. IHECO'!$B$5:$B$33<>\"\"),ROWS(BE$2:BE5))),\"\"))","v":" 1.4. Constitución de la organización"},{"$f":"CONCATENATE(\" \",IFERROR(INDEX('Step 2. IHECO'!$B$34:$B$61,_xlfn.AGGREGATE(15,6,(ROW('Step 2. IHECO'!$B$34:$B$61)-ROW('Step 2. IHECO'!$B$34)+1)/('Step 2. IHECO'!$B$34:$B$61<>\"\"),ROWS(BF$2:BF5))),\"\"))","v":" 2.4. Supervisión de los planes estratégicos y operativos"},{"$f":"CONCATENATE(\" \",IFERROR(INDEX('Step 2. IHECO'!$B$62:$B$87,_xlfn.AGGREGATE(15,6,(ROW('Step 2. IHECO'!$B$62:$B$87)-ROW('Step 2. IHECO'!$B$62)+1)/('Step 2. IHECO'!$B$62:$B$87<>\"\"),ROWS(BG$2:BG5))),\"\"))","v":" 3.4. Gestión de cambios"},{"$f":"CONCATENATE(\" \",IFERROR(INDEX('Step 2. IHECO'!$B$88:$B$103,_xlfn.AGGREGATE(15,6,(ROW('Step 2. IHECO'!$B$88:$B$103)-ROW('Step 2. IHECO'!$B$88)+1)/('Step 2. IHECO'!$B$88:$B$103<>\"\"),ROWS(BH$2:BH5))),\"\"))","v":" 4.4. Relaciones públicas"},{"$f":"CONCATENATE(\" \",IFERROR(INDEX('Step 2. IHECO'!$B$104:$B$144,_xlfn.AGGREGATE(15,6,(ROW('Step 2. IHECO'!$B$104:$B$144)-ROW('Step 2. IHECO'!$B$104)+1)/('Step 2. IHECO'!$B$104:$B$144<>\"\"),ROWS(BI$2:BI5))),\"\"))","v":" 5.4. Sostenibilidad política"},{"$f":"CONCATENATE(\" \",IFERROR(INDEX('Step 2. IHECO'!$B$145:$B$162,_xlfn.AGGREGATE(15,6,(ROW('Step 2. IHECO'!$B$145:$B$162)-ROW('Step 2. IHECO'!$B$145)+1)/('Step 2. IHECO'!$B$145:$B$162<>\"\"),ROWS(BJ$2:BJ5))),\"\"))","v":" 6.4. Comunidades de práctica"},{"$f":"CONCATENATE(\" \",IFERROR(INDEX('Step 2. IHECO'!$B$163:$B$201,_xlfn.AGGREGATE(15,6,(ROW('Step 2. IHECO'!$B$163:$B$201)-ROW('Step 2. IHECO'!$B$163)+1)/('Step 2. IHECO'!$B$163:$B$201<>\"\"),ROWS(BK$2:BK5))),\"\"))","v":" 7.4. Compensación y beneficios"},{"$f":"CONCATENATE(\" \",IFERROR(INDEX('Step 2. IHECO'!$B$202:$B$252,_xlfn.AGGREGATE(15,6,(ROW('Step 2. IHECO'!$B$202:$B$252)-ROW('Step 2. IHECO'!$B$202)+1)/('Step 2. IHECO'!$B$202:$B$252<>\"\"),ROWS(BL$2:BL5))),\"\"))","v":" 8.4. Control interno"},{"$f":"CONCATENATE(\" \",IFERROR(INDEX('Step 2. IHECO'!$B$253:$B$302,_xlfn.AGGREGATE(15,6,(ROW('Step 2. IHECO'!$B$253:$B$302)-ROW('Step 2. IHECO'!$B$253)+1)/('Step 2. IHECO'!$B$253:$B$302<>\"\"),ROWS(BM$2:BM5))),\"\"))","v":" 9.4. Desarrollo de programas"},{"$f":"CONCATENATE(\" \",IFERROR(INDEX('Step 2. IHECO'!$B$303:$B$331,_xlfn.AGGREGATE(15,6,(ROW('Step 2. IHECO'!$B$303:$B$331)-ROW('Step 2. IHECO'!$B$303)+1)/('Step 2. IHECO'!$B$303:$B$331<>\"\"),ROWS(BN$2:BN5))),\"\"))","v":" 10.4. Dimensiones de la programación: planificación, diseño y ejecución de programas"}]
[null,null,"No se sabe",0,"No se sabe",0,"No se sabe",0,"No se sabe",0,"No se sabe",0,"No se sabe",0,"No se sabe",0,"No se sabe",0,"No se sabe",0,"No se sabe",0,"No se sabe",0,"No se sabe",0,"No se sabe",0,"No se sabe",0,"No se sabe",0,"No se sabe",0,"No se sabe",0,"No se sabe",0,"No se sabe",0,"No se sabe",0,"No se sabe",0,"No se sabe",0,"No se sabe",0,null,"No procede",null,null,null,null,null,{"$f":"CONCATENATE(\" \",IFERROR(INDEX('Step 2. IHECO'!$A$5:$A$1000,_xlfn.AGGREGATE(15,6,(ROW('Step 2. IHECO'!$A$5:$A$1000)-ROW('Step 2. IHECO'!$A$5)+1)/('Step 2. IHECO'!$A$5:$A$1000<>\"\"),ROWS(BD$2:BD6))),\"\"))","v":" 5. Sostenibilidad"},{"$f":"CONCATENATE(\" \",IFERROR(INDEX('Step 2. IHECO'!$B$5:$B$33,_xlfn.AGGREGATE(15,6,(ROW('Step 2. IHECO'!$B$5:$B$33)-ROW('Step 2. IHECO'!$B$5)+1)/('Step 2. IHECO'!$B$5:$B$33<>\"\"),ROWS(BE$2:BE6))),\"\"))","v":" 1.5. Cultura de la organización"},{"$f":"CONCATENATE(\" \",IFERROR(INDEX('Step 2. IHECO'!$B$34:$B$61,_xlfn.AGGREGATE(15,6,(ROW('Step 2. IHECO'!$B$34:$B$61)-ROW('Step 2. IHECO'!$B$34)+1)/('Step 2. IHECO'!$B$34:$B$61<>\"\"),ROWS(BF$2:BF6))),\"\"))","v":" "},{"$f":"CONCATENATE(\" \",IFERROR(INDEX('Step 2. IHECO'!$B$62:$B$87,_xlfn.AGGREGATE(15,6,(ROW('Step 2. IHECO'!$B$62:$B$87)-ROW('Step 2. IHECO'!$B$62)+1)/('Step 2. IHECO'!$B$62:$B$87<>\"\"),ROWS(BG$2:BG6))),\"\"))","v":" 3.5. Gestión de riesgos"},{"$f":"CONCATENATE(\" \",IFERROR(INDEX('Step 2. IHECO'!$B$88:$B$103,_xlfn.AGGREGATE(15,6,(ROW('Step 2. IHECO'!$B$88:$B$103)-ROW('Step 2. IHECO'!$B$88)+1)/('Step 2. IHECO'!$B$88:$B$103<>\"\"),ROWS(BH$2:BH6))),\"\"))","v":" "},{"$f":"CONCATENATE(\" \",IFERROR(INDEX('Step 2. IHECO'!$B$104:$B$144,_xlfn.AGGREGATE(15,6,(ROW('Step 2. IHECO'!$B$104:$B$144)-ROW('Step 2. IHECO'!$B$104)+1)/('Step 2. IHECO'!$B$104:$B$144<>\"\"),ROWS(BI$2:BI6))),\"\"))","v":" "},{"$f":"CONCATENATE(\" \",IFERROR(INDEX('Step 2. IHECO'!$B$145:$B$162,_xlfn.AGGREGATE(15,6,(ROW('Step 2. IHECO'!$B$145:$B$162)-ROW('Step 2. IHECO'!$B$145)+1)/('Step 2. IHECO'!$B$145:$B$162<>\"\"),ROWS(BJ$2:BJ6))),\"\"))","v":" "},{"$f":"CONCATENATE(\" \",IFERROR(INDEX('Step 2. IHECO'!$B$163:$B$201,_xlfn.AGGREGATE(15,6,(ROW('Step 2. IHECO'!$B$163:$B$201)-ROW('Step 2. IHECO'!$B$163)+1)/('Step 2. IHECO'!$B$163:$B$201<>\"\"),ROWS(BK$2:BK6))),\"\"))","v":" 7.5. Sistemas de gestión del desempeño"},{"$f":"CONCATENATE(\" \",IFERROR(INDEX('Step 2. IHECO'!$B$202:$B$252,_xlfn.AGGREGATE(15,6,(ROW('Step 2. IHECO'!$B$202:$B$252)-ROW('Step 2. IHECO'!$B$202)+1)/('Step 2. IHECO'!$B$202:$B$252<>\"\"),ROWS(BL$2:BL6))),\"\"))","v":" 8.5. Generación de informes financieros"},{"$f":"CONCATENATE(\" \",IFERROR(INDEX('Step 2. IHECO'!$B$253:$B$302,_xlfn.AGGREGATE(15,6,(ROW('Step 2. IHECO'!$B$253:$B$302)-ROW('Step 2. IHECO'!$B$253)+1)/('Step 2. IHECO'!$B$253:$B$302<>\"\"),ROWS(BM$2:BM6))),\"\"))","v":" 9.5. Diseño e implementación de proyectos"},{"$f":"CONCATENATE(\" \",IFERROR(INDEX('Step 2. IHECO'!$B$303:$B$331,_xlfn.AGGREGATE(15,6,(ROW('Step 2. IHECO'!$B$303:$B$331)-ROW('Step 2. IHECO'!$B$303)+1)/('Step 2. IHECO'!$B$303:$B$331<>\"\"),ROWS(BN$2:BN6))),\"\"))","v":" 10.5. Dimensiones de la programación: seguimiento, evaluación y aprendizaje"}]
[null,null,"No procede",null,"No procede",null,"No procede",null,"No procede",null,"No procede",null,"No procede",null,"No procede",null,"No procede",null,"No procede",null,"No procede",null,"No procede",null,"No procede",null,"No procede",null,"No procede",null,"No procede",null,"No procede",null,"No procede",null,"No procede",null,"No procede",null,"No procede",null,"No procede",null,"No procede",null,"No procede",null,null,null,null,null,null,null,null,{"$f":"CONCATENATE(\" \",IFERROR(INDEX('Step 2. IHECO'!$A$5:$A$1000,_xlfn.AGGREGATE(15,6,(ROW('Step 2. IHECO'!$A$5:$A$1000)-ROW('Step 2. IHECO'!$A$5)+1)/('Step 2. IHECO'!$A$5:$A$1000<>\"\"),ROWS(BD$2:BD7))),\"\"))","v":" 6. Aprendizaj E Organizativo"},{"$f":"CONCATENATE(\" \",IFERROR(INDEX('Step 2. IHECO'!$B$5:$B$33,_xlfn.AGGREGATE(15,6,(ROW('Step 2. IHECO'!$B$5:$B$33)-ROW('Step 2. IHECO'!$B$5)+1)/('Step 2. IHECO'!$B$5:$B$33<>\"\"),ROWS(BE$2:BE7))),\"\"))","v":" 1.6. Estructura organizativa"},{"$f":"CONCATENATE(\" \",IFERROR(INDEX('Step 2. IHECO'!$B$34:$B$61,_xlfn.AGGREGATE(15,6,(ROW('Step 2. IHECO'!$B$34:$B$61)-ROW('Step 2. IHECO'!$B$34)+1)/('Step 2. IHECO'!$B$34:$B$61<>\"\"),ROWS(BF$2:BF7))),\"\"))","v":" "},{"$f":"CONCATENATE(\" \",IFERROR(INDEX('Step 2. IHECO'!$B$62:$B$87,_xlfn.AGGREGATE(15,6,(ROW('Step 2. IHECO'!$B$62:$B$87)-ROW('Step 2. IHECO'!$B$62)+1)/('Step 2. IHECO'!$B$62:$B$87<>\"\"),ROWS(BG$2:BG7))),\"\"))","v":" "},{"$f":"CONCATENATE(\" \",IFERROR(INDEX('Step 2. IHECO'!$B$88:$B$103,_xlfn.AGGREGATE(15,6,(ROW('Step 2. IHECO'!$B$88:$B$103)-ROW('Step 2. IHECO'!$B$88)+1)/('Step 2. IHECO'!$B$88:$B$103<>\"\"),ROWS(BH$2:BH7))),\"\"))","v":" "},{"$f":"CONCATENATE(\" \",IFERROR(INDEX('Step 2. IHECO'!$B$104:$B$144,_xlfn.AGGREGATE(15,6,(ROW('Step 2. IHECO'!$B$104:$B$144)-ROW('Step 2. IHECO'!$B$104)+1)/('Step 2. IHECO'!$B$104:$B$144<>\"\"),ROWS(BI$2:BI7))),\"\"))","v":" "},{"$f":"CONCATENATE(\" \",IFERROR(INDEX('Step 2. IHECO'!$B$145:$B$162,_xlfn.AGGREGATE(15,6,(ROW('Step 2. IHECO'!$B$145:$B$162)-ROW('Step 2. IHECO'!$B$145)+1)/('Step 2. IHECO'!$B$145:$B$162<>\"\"),ROWS(BJ$2:BJ7))),\"\"))","v":" "},{"$f":"CONCATENATE(\" \",IFERROR(INDEX('Step 2. IHECO'!$B$163:$B$201,_xlfn.AGGREGATE(15,6,(ROW('Step 2. IHECO'!$B$163:$B$201)-ROW('Step 2. IHECO'!$B$163)+1)/('Step 2. IHECO'!$B$163:$B$201<>\"\"),ROWS(BK$2:BK7))),\"\"))","v":" 7.6. Desarrollo del personal"},{"$f":"CONCATENATE(\" \",IFERROR(INDEX('Step 2. IHECO'!$B$202:$B$252,_xlfn.AGGREGATE(15,6,(ROW('Step 2. IHECO'!$B$202:$B$252)-ROW('Step 2. IHECO'!$B$202)+1)/('Step 2. IHECO'!$B$202:$B$252<>\"\"),ROWS(BL$2:BL7))),\"\"))","v":" 8.6. Gestión del inventario"},{"$f":"CONCATENATE(\" \",IFERROR(INDEX('Step 2. IHECO'!$B$253:$B$302,_xlfn.AGGREGATE(15,6,(ROW('Step 2. IHECO'!$B$253:$B$302)-ROW('Step 2. IHECO'!$B$253)+1)/('Step 2. IHECO'!$B$253:$B$302<>\"\"),ROWS(BM$2:BM7))),\"\"))","v":" 9.6. Supervisión, evaluación y generación de informes"},{"$f":"CONCATENATE(\" \",IFERROR(INDEX('Step 2. IHECO'!$B$303:$B$331,_xlfn.AGGREGATE(15,6,(ROW('Step 2. IHECO'!$B$303:$B$331)-ROW('Step 2. IHECO'!$B$303)+1)/('Step 2. IHECO'!$B$303:$B$331<>\"\"),ROWS(BN$2:BN7))),\"\"))","v":" "}]
[null,null,null,null,null,null,null,null,null,null,null,null,null,null,null,null,null,null,null,null,null,null,null,null,null,null,null,null,null,null,null,null,null,null,null,null,null,null,null,null,null,null,null,null,null,null,null,null,null,null,null,null,null,null,null,{"$f":"CONCATENATE(\" \",IFERROR(INDEX('Step 2. IHECO'!$A$5:$A$1000,_xlfn.AGGREGATE(15,6,(ROW('Step 2. IHECO'!$A$5:$A$1000)-ROW('Step 2. IHECO'!$A$5)+1)/('Step 2. IHECO'!$A$5:$A$1000<>\"\"),ROWS(BD$2:BD8))),\"\"))","v":" 7. Gestión De Recursos Humanos"},{"$f":"CONCATENATE(\" \",IFERROR(INDEX('Step 2. IHECO'!$B$5:$B$33,_xlfn.AGGREGATE(15,6,(ROW('Step 2. IHECO'!$B$5:$B$33)-ROW('Step 2. IHECO'!$B$5)+1)/('Step 2. IHECO'!$B$5:$B$33<>\"\"),ROWS(BE$2:BE8))),\"\"))","v":" "},{"$f":"CONCATENATE(\" \",IFERROR(INDEX('Step 2. IHECO'!$B$34:$B$61,_xlfn.AGGREGATE(15,6,(ROW('Step 2. IHECO'!$B$34:$B$61)-ROW('Step 2. IHECO'!$B$34)+1)/('Step 2. IHECO'!$B$34:$B$61<>\"\"),ROWS(BF$2:BF8))),\"\"))","v":" "},{"$f":"CONCATENATE(\" \",IFERROR(INDEX('Step 2. IHECO'!$B$62:$B$87,_xlfn.AGGREGATE(15,6,(ROW('Step 2. IHECO'!$B$62:$B$87)-ROW('Step 2. IHECO'!$B$62)+1)/('Step 2. IHECO'!$B$62:$B$87<>\"\"),ROWS(BG$2:BG8))),\"\"))","v":" "},{"$f":"CONCATENATE(\" \",IFERROR(INDEX('Step 2. IHECO'!$B$88:$B$103,_xlfn.AGGREGATE(15,6,(ROW('Step 2. IHECO'!$B$88:$B$103)-ROW('Step 2. IHECO'!$B$88)+1)/('Step 2. IHECO'!$B$88:$B$103<>\"\"),ROWS(BH$2:BH8))),\"\"))","v":" "},{"$f":"CONCATENATE(\" \",IFERROR(INDEX('Step 2. IHECO'!$B$104:$B$144,_xlfn.AGGREGATE(15,6,(ROW('Step 2. IHECO'!$B$104:$B$144)-ROW('Step 2. IHECO'!$B$104)+1)/('Step 2. IHECO'!$B$104:$B$144<>\"\"),ROWS(BI$2:BI8))),\"\"))","v":" "},{"$f":"CONCATENATE(\" \",IFERROR(INDEX('Step 2. IHECO'!$B$145:$B$162,_xlfn.AGGREGATE(15,6,(ROW('Step 2. IHECO'!$B$145:$B$162)-ROW('Step 2. IHECO'!$B$145)+1)/('Step 2. IHECO'!$B$145:$B$162<>\"\"),ROWS(BJ$2:BJ8))),\"\"))","v":" "},{"$f":"CONCATENATE(\" \",IFERROR(INDEX('Step 2. IHECO'!$B$163:$B$201,_xlfn.AGGREGATE(15,6,(ROW('Step 2. IHECO'!$B$163:$B$201)-ROW('Step 2. IHECO'!$B$163)+1)/('Step 2. IHECO'!$B$163:$B$201<>\"\"),ROWS(BK$2:BK8))),\"\"))","v":" 7.7. Resolución de quejas y manejo de conflictos"},{"$f":"CONCATENATE(\" \",IFERROR(INDEX('Step 2. IHECO'!$B$202:$B$252,_xlfn.AGGREGATE(15,6,(ROW('Step 2. IHECO'!$B$202:$B$252)-ROW('Step 2. IHECO'!$B$202)+1)/('Step 2. IHECO'!$B$202:$B$252<>\"\"),ROWS(BL$2:BL8))),\"\"))","v":" 8.7. Propiedad, planta y equipo"},{"$f":"CONCATENATE(\" \",IFERROR(INDEX('Step 2. IHECO'!$B$253:$B$302,_xlfn.AGGREGATE(15,6,(ROW('Step 2. IHECO'!$B$253:$B$302)-ROW('Step 2. IHECO'!$B$253)+1)/('Step 2. IHECO'!$B$253:$B$302<>\"\"),ROWS(BM$2:BM8))),\"\"))","v":" 9.7. Calidad de los servicios"},{"$f":"CONCATENATE(\" \",IFERROR(INDEX('Step 2. IHECO'!$B$303:$B$331,_xlfn.AGGREGATE(15,6,(ROW('Step 2. IHECO'!$B$303:$B$331)-ROW('Step 2. IHECO'!$B$303)+1)/('Step 2. IHECO'!$B$303:$B$331<>\"\"),ROWS(BN$2:BN8))),\"\"))","v":" "}]
[null,null,null,null,null,null,null,null,null,null,null,null,null,null,null,null,null,null,null,null,null,null,null,null,null,null,null,null,null,null,null,null,null,null,null,null,null,null,null,null,null,null,null,null,null,null,null,null,null,null,null,null,null,null,null,{"$f":"CONCATENATE(\" \",IFERROR(INDEX('Step 2. IHECO'!$A$5:$A$1000,_xlfn.AGGREGATE(15,6,(ROW('Step 2. IHECO'!$A$5:$A$1000)-ROW('Step 2. IHECO'!$A$5)+1)/('Step 2. IHECO'!$A$5:$A$1000<>\"\"),ROWS(BD$2:BD9))),\"\"))","v":" 8. Gestión De Recursos Financieros Y Físicos"},{"$f":"CONCATENATE(\" \",IFERROR(INDEX('Step 2. IHECO'!$B$5:$B$33,_xlfn.AGGREGATE(15,6,(ROW('Step 2. IHECO'!$B$5:$B$33)-ROW('Step 2. IHECO'!$B$5)+1)/('Step 2. IHECO'!$B$5:$B$33<>\"\"),ROWS(BE$2:BE9))),\"\"))","v":" "},{"$f":"CONCATENATE(\" \",IFERROR(INDEX('Step 2. IHECO'!$B$34:$B$61,_xlfn.AGGREGATE(15,6,(ROW('Step 2. IHECO'!$B$34:$B$61)-ROW('Step 2. IHECO'!$B$34)+1)/('Step 2. IHECO'!$B$34:$B$61<>\"\"),ROWS(BF$2:BF9))),\"\"))","v":" "},{"$f":"CONCATENATE(\" \",IFERROR(INDEX('Step 2. IHECO'!$B$62:$B$87,_xlfn.AGGREGATE(15,6,(ROW('Step 2. IHECO'!$B$62:$B$87)-ROW('Step 2. IHECO'!$B$62)+1)/('Step 2. IHECO'!$B$62:$B$87<>\"\"),ROWS(BG$2:BG9))),\"\"))","v":" "},{"$f":"CONCATENATE(\" \",IFERROR(INDEX('Step 2. IHECO'!$B$88:$B$103,_xlfn.AGGREGATE(15,6,(ROW('Step 2. IHECO'!$B$88:$B$103)-ROW('Step 2. IHECO'!$B$88)+1)/('Step 2. IHECO'!$B$88:$B$103<>\"\"),ROWS(BH$2:BH9))),\"\"))","v":" "},{"$f":"CONCATENATE(\" \",IFERROR(INDEX('Step 2. IHECO'!$B$104:$B$144,_xlfn.AGGREGATE(15,6,(ROW('Step 2. IHECO'!$B$104:$B$144)-ROW('Step 2. IHECO'!$B$104)+1)/('Step 2. IHECO'!$B$104:$B$144<>\"\"),ROWS(BI$2:BI9))),\"\"))","v":" "},{"$f":"CONCATENATE(\" \",IFERROR(INDEX('Step 2. IHECO'!$B$145:$B$162,_xlfn.AGGREGATE(15,6,(ROW('Step 2. IHECO'!$B$145:$B$162)-ROW('Step 2. IHECO'!$B$145)+1)/('Step 2. IHECO'!$B$145:$B$162<>\"\"),ROWS(BJ$2:BJ9))),\"\"))","v":" "},{"$f":"CONCATENATE(\" \",IFERROR(INDEX('Step 2. IHECO'!$B$163:$B$201,_xlfn.AGGREGATE(15,6,(ROW('Step 2. IHECO'!$B$163:$B$201)-ROW('Step 2. IHECO'!$B$163)+1)/('Step 2. IHECO'!$B$163:$B$201<>\"\"),ROWS(BK$2:BK9))),\"\"))","v":" "},{"$f":"CONCATENATE(\" \",IFERROR(INDEX('Step 2. IHECO'!$B$202:$B$252,_xlfn.AGGREGATE(15,6,(ROW('Step 2. IHECO'!$B$202:$B$252)-ROW('Step 2. IHECO'!$B$202)+1)/('Step 2. IHECO'!$B$202:$B$252<>\"\"),ROWS(BL$2:BL9))),\"\"))","v":" 8.8. Gestión de cuentas por cobrar"},{"$f":"CONCATENATE(\" \",IFERROR(INDEX('Step 2. IHECO'!$B$253:$B$302,_xlfn.AGGREGATE(15,6,(ROW('Step 2. IHECO'!$B$253:$B$302)-ROW('Step 2. IHECO'!$B$253)+1)/('Step 2. IHECO'!$B$253:$B$302<>\"\"),ROWS(BM$2:BM9))),\"\"))","v":" 9.8. Terminación de proyecto/ Cierre de proyecto"},{"$f":"CONCATENATE(\" \",IFERROR(INDEX('Step 2. IHECO'!$B$303:$B$331,_xlfn.AGGREGATE(15,6,(ROW('Step 2. IHECO'!$B$303:$B$331)-ROW('Step 2. IHECO'!$B$303)+1)/('Step 2. IHECO'!$B$303:$B$331<>\"\"),ROWS(BN$2:BN9))),\"\"))","v":" "}]
[null,null,null,null,null,null,null,null,null,null,null,null,null,null,null,null,null,null,null,null,null,null,null,null,null,null,null,null,null,null,null,null,null,null,null,null,null,null,null,null,null,null,null,null,null,null,null,null,null,null,null,null,null,null,null,{"$f":"CONCATENATE(\" \",IFERROR(INDEX('Step 2. IHECO'!$A$5:$A$1000,_xlfn.AGGREGATE(15,6,(ROW('Step 2. IHECO'!$A$5:$A$1000)-ROW('Step 2. IHECO'!$A$5)+1)/('Step 2. IHECO'!$A$5:$A$1000<>\"\"),ROWS(BD$2:BD10))),\"\"))","v":" 9. Programas, Servicios Y Resultados"},{"$f":"CONCATENATE(\" \",IFERROR(INDEX('Step 2. IHECO'!$B$5:$B$33,_xlfn.AGGREGATE(15,6,(ROW('Step 2. IHECO'!$B$5:$B$33)-ROW('Step 2. IHECO'!$B$5)+1)/('Step 2. IHECO'!$B$5:$B$33<>\"\"),ROWS(BE$2:BE10))),\"\"))","v":" "},{"$f":"CONCATENATE(\" \",IFERROR(INDEX('Step 2. IHECO'!$B$34:$B$61,_xlfn.AGGREGATE(15,6,(ROW('Step 2. IHECO'!$B$34:$B$61)-ROW('Step 2. IHECO'!$B$34)+1)/('Step 2. IHECO'!$B$34:$B$61<>\"\"),ROWS(BF$2:BF10))),\"\"))","v":" "},{"$f":"CONCATENATE(\" \",IFERROR(INDEX('Step 2. IHECO'!$B$62:$B$87,_xlfn.AGGREGATE(15,6,(ROW('Step 2. IHECO'!$B$62:$B$87)-ROW('Step 2. IHECO'!$B$62)+1)/('Step 2. IHECO'!$B$62:$B$87<>\"\"),ROWS(BG$2:BG10))),\"\"))","v":" "},{"$f":"CONCATENATE(\" \",IFERROR(INDEX('Step 2. IHECO'!$B$88:$B$103,_xlfn.AGGREGATE(15,6,(ROW('Step 2. IHECO'!$B$88:$B$103)-ROW('Step 2. IHECO'!$B$88)+1)/('Step 2. IHECO'!$B$88:$B$103<>\"\"),ROWS(BH$2:BH10))),\"\"))","v":" "},{"$f":"CONCATENATE(\" \",IFERROR(INDEX('Step 2. IHECO'!$B$104:$B$144,_xlfn.AGGREGATE(15,6,(ROW('Step 2. IHECO'!$B$104:$B$144)-ROW('Step 2. IHECO'!$B$104)+1)/('Step 2. IHECO'!$B$104:$B$144<>\"\"),ROWS(BI$2:BI10))),\"\"))","v":" "},{"$f":"CONCATENATE(\" \",IFERROR(INDEX('Step 2. IHECO'!$B$145:$B$162,_xlfn.AGGREGATE(15,6,(ROW('Step 2. IHECO'!$B$145:$B$162)-ROW('Step 2. IHECO'!$B$145)+1)/('Step 2. IHECO'!$B$145:$B$162<>\"\"),ROWS(BJ$2:BJ10))),\"\"))","v":" "},{"$f":"CONCATENATE(\" \",IFERROR(INDEX('Step 2. IHECO'!$B$163:$B$201,_xlfn.AGGREGATE(15,6,(ROW('Step 2. IHECO'!$B$163:$B$201)-ROW('Step 2. IHECO'!$B$163)+1)/('Step 2. IHECO'!$B$163:$B$201<>\"\"),ROWS(BK$2:BK10))),\"\"))","v":" "},{"$f":"CONCATENATE(\" \",IFERROR(INDEX('Step 2. IHECO'!$B$202:$B$252,_xlfn.AGGREGATE(15,6,(ROW('Step 2. IHECO'!$B$202:$B$252)-ROW('Step 2. IHECO'!$B$202)+1)/('Step 2. IHECO'!$B$202:$B$252<>\"\"),ROWS(BL$2:BL10))),\"\"))","v":" 8.9. Elaboración de presupuestos"},{"$f":"CONCATENATE(\" \",IFERROR(INDEX('Step 2. IHECO'!$B$253:$B$302,_xlfn.AGGREGATE(15,6,(ROW('Step 2. IHECO'!$B$253:$B$302)-ROW('Step 2. IHECO'!$B$253)+1)/('Step 2. IHECO'!$B$253:$B$302<>\"\"),ROWS(BM$2:BM10))),\"\"))","v":" "},{"$f":"CONCATENATE(\" \",IFERROR(INDEX('Step 2. IHECO'!$B$303:$B$331,_xlfn.AGGREGATE(15,6,(ROW('Step 2. IHECO'!$B$303:$B$331)-ROW('Step 2. IHECO'!$B$303)+1)/('Step 2. IHECO'!$B$303:$B$331<>\"\"),ROWS(BN$2:BN10))),\"\"))","v":" "}]
[null,null,null,null,null,null,null,null,null,null,null,null,null,null,null,null,null,null,null,null,null,null,null,null,null,null,null,null,null,null,null,null,null,null,null,null,null,null,null,null,null,null,null,null,null,null,null,null,null,null,null,null,null,null,null,{"$f":"CONCATENATE(\" \",IFERROR(INDEX('Step 2. IHECO'!$A$5:$A$1000,_xlfn.AGGREGATE(15,6,(ROW('Step 2. IHECO'!$A$5:$A$1000)-ROW('Step 2. IHECO'!$A$5)+1)/('Step 2. IHECO'!$A$5:$A$1000<>\"\"),ROWS(BD$2:BD11))),\"\"))","v":" 10. Integración de la Igualdad Entre Los Géneros"},{"$f":"CONCATENATE(\" \",IFERROR(INDEX('Step 2. IHECO'!$B$5:$B$33,_xlfn.AGGREGATE(15,6,(ROW('Step 2. IHECO'!$B$5:$B$33)-ROW('Step 2. IHECO'!$B$5)+1)/('Step 2. IHECO'!$B$5:$B$33<>\"\"),ROWS(BE$2:BE11))),\"\"))","v":" "},{"$f":"BF2","v":" 2.1. Proceso de planificación general"},{"$f":"CONCATENATE(\" \",IFERROR(INDEX('Step 2. IHECO'!$B$62:$B$87,_xlfn.AGGREGATE(15,6,(ROW('Step 2. IHECO'!$B$62:$B$87)-ROW('Step 2. IHECO'!$B$62)+1)/('Step 2. IHECO'!$B$62:$B$87<>\"\"),ROWS(BG$2:BG11))),\"\"))","v":" "},{"$f":"BH2","v":" 4.1. Relaciones con los encargados de elaborar políticas"},{"$f":"BI2","v":" 5.1. Sostenibilidad del programa"},{"$f":"BJ2","v":" 6.1. Estrategia de aprendizaje organizativo"},{"$f":"CONCATENATE(\" \",IFERROR(INDEX('Step 2. IHECO'!$B$163:$B$201,_xlfn.AGGREGATE(15,6,(ROW('Step 2. IHECO'!$B$163:$B$201)-ROW('Step 2. IHECO'!$B$163)+1)/('Step 2. IHECO'!$B$163:$B$201<>\"\"),ROWS(BK$2:BK11))),\"\"))","v":" "},{"$f":"CONCATENATE(\" \",IFERROR(INDEX('Step 2. IHECO'!$B$202:$B$252,_xlfn.AGGREGATE(15,6,(ROW('Step 2. IHECO'!$B$202:$B$252)-ROW('Step 2. IHECO'!$B$202)+1)/('Step 2. IHECO'!$B$202:$B$252<>\"\"),ROWS(BL$2:BL11))),\"\"))","v":" "},{"$f":"CONCATENATE(\" \",IFERROR(INDEX('Step 2. IHECO'!$B$253:$B$302,_xlfn.AGGREGATE(15,6,(ROW('Step 2. IHECO'!$B$253:$B$302)-ROW('Step 2. IHECO'!$B$253)+1)/('Step 2. IHECO'!$B$253:$B$302<>\"\"),ROWS(BM$2:BM11))),\"\"))","v":" "},{"$f":"CONCATENATE(\" \",IFERROR(INDEX('Step 2. IHECO'!$B$303:$B$331,_xlfn.AGGREGATE(15,6,(ROW('Step 2. IHECO'!$B$303:$B$331)-ROW('Step 2. IHECO'!$B$303)+1)/('Step 2. IHECO'!$B$303:$B$331<>\"\"),ROWS(BN$2:BN11))),\"\"))","v":" "}]
[null,null,null,null,null,null,null,null,null,null,null,null,null,null,null,null,null,null,null,null,null,null,null,null,null,null,null,null,null,null,null,null,null,null,null,null,null,null,null,null,null,null,null,null,null,null,null,null,null,null,null,null,null,null,null,{"$f":"CONCATENATE(\" \",IFERROR(INDEX('Step 2. IHECO'!$A$5:$A$1000,_xlfn.AGGREGATE(15,6,(ROW('Step 2. IHECO'!$A$5:$A$1000)-ROW('Step 2. IHECO'!$A$5)+1)/('Step 2. IHECO'!$A$5:$A$1000<>\"\"),ROWS(BD$2:BD12))),\"\"))","v":" "},{"$f":"CONCATENATE(\" \",IFERROR(INDEX('Step 2. IHECO'!$B$5:$B$33,_xlfn.AGGREGATE(15,6,(ROW('Step 2. IHECO'!$B$5:$B$33)-ROW('Step 2. IHECO'!$B$5)+1)/('Step 2. IHECO'!$B$5:$B$33<>\"\"),ROWS(BE$2:BE12))),\"\"))","v":" "},{"$f":"CONCATENATE(\" \",IFERROR(INDEX('Step 2. IHECO'!$C$34:$C$39,_xlfn.AGGREGATE(15,6,(ROW('Step 2. IHECO'!$C$34:$C$39)-ROW('Step 2. IHECO'!$C$34)+1)/('Step 2. IHECO'!$C$34:$C$39<>\"\"),ROWS(BF$12:BF12))),\"\"))","v":" 2.1.1. El proceso de planificación refleja los valores centrales de la organización."},{"$f":"BG2","v":" 3.1. Gerencia"},{"$f":"CONCATENATE(\" \",IFERROR(INDEX('Step 2. IHECO'!$C$88:$C$93,_xlfn.AGGREGATE(15,6,(ROW('Step 2. IHECO'!$C$88:$C$93)-ROW('Step 2. IHECO'!$C$88)+1)/('Step 2. IHECO'!$C$88:$C$93<>\"\"),ROWS(BH$12:BH12))),\"\"))","v":" 4.1.1. La organización tiene estrategias en vigor para buscar la celebración de alianzas con otros grupos y redes que aboguen por las mismas cuestiones y propósitos."},{"$f":"CONCATENATE(\" \",IFERROR(INDEX('Step 2. IHECO'!$C$104:$C$113,_xlfn.AGGREGATE(15,6,(ROW('Step 2. IHECO'!$C$104:$C$113)-ROW('Step 2. IHECO'!$C$104)+1)/('Step 2. IHECO'!$C$104:$C$113<>\"\"),ROWS(BI$12:BI12))),\"\"))","v":" 5.1.1. El programa es orientado y se fijaron las prioridades para reflejar los valores y la dirección estratégica de la organización, y contribuye a alcanzar la misión."},{"$f":"CONCATENATE(\" \",IFERROR(INDEX('Step 2. IHECO'!$C$145:$C$150,_xlfn.AGGREGATE(15,6,(ROW('Step 2. IHECO'!$C$145:$C$150)-ROW('Step 2. IHECO'!$C$145)+1)/('Step 2. IHECO'!$C$145:$C$150<>\"\"),ROWS(BJ$12:BJ12))),\"\"))","v":" 6.1.1. La organización tiene una estrategia de aprendizaje que esquematiza la forma en que se creará, mantendrá y aplicará el conocimiento que es esencial para tomar decisiones y cumplir con las prioridades."},{"$f":"CONCATENATE(\" \",IFERROR(INDEX('Step 2. IHECO'!$B$163:$B$201,_xlfn.AGGREGATE(15,6,(ROW('Step 2. IHECO'!$B$163:$B$201)-ROW('Step 2. IHECO'!$B$163)+1)/('Step 2. IHECO'!$B$163:$B$201<>\"\"),ROWS(BK$2:BK12))),\"\"))","v":" "},{"$f":"CONCATENATE(\" \",IFERROR(INDEX('Step 2. IHECO'!$B$202:$B$252,_xlfn.AGGREGATE(15,6,(ROW('Step 2. IHECO'!$B$202:$B$252)-ROW('Step 2. IHECO'!$B$202)+1)/('Step 2. IHECO'!$B$202:$B$252<>\"\"),ROWS(BL$2:BL12))),\"\"))","v":" "},{"$f":"CONCATENATE(\" \",IFERROR(INDEX('Step 2. IHECO'!$B$253:$B$302,_xlfn.AGGREGATE(15,6,(ROW('Step 2. IHECO'!$B$253:$B$302)-ROW('Step 2. IHECO'!$B$253)+1)/('Step 2. IHECO'!$B$253:$B$302<>\"\"),ROWS(BM$2:BM12))),\"\"))","v":" "},{"$f":"BN2","v":" 10.1. Dimensiones organizacionales: las políticas y su aplicación"}]
[null,null,null,null,null,null,null,null,null,null,null,null,null,null,null,null,null,null,null,null,null,null,null,null,null,null,null,null,null,null,null,null,null,null,null,null,null,null,null,null,null,null,null,null,null,null,null,null,null,null,null,null,null,null,null,{"$f":"CONCATENATE(\" \",IFERROR(INDEX('Step 2. IHECO'!$A$5:$A$1000,_xlfn.AGGREGATE(15,6,(ROW('Step 2. IHECO'!$A$5:$A$1000)-ROW('Step 2. IHECO'!$A$5)+1)/('Step 2. IHECO'!$A$5:$A$1000<>\"\"),ROWS(BD$2:BD13))),\"\"))","v":" "},{"$f":"BE2","v":" 1.1. Gobernanza"},{"$f":"CONCATENATE(\" \",IFERROR(INDEX('Step 2. IHECO'!$C$34:$C$39,_xlfn.AGGREGATE(15,6,(ROW('Step 2. IHECO'!$C$34:$C$39)-ROW('Step 2. IHECO'!$C$34)+1)/('Step 2. IHECO'!$C$34:$C$39<>\"\"),ROWS(BF$12:BF13))),\"\"))","v":" 2.1.2. El proceso de planificación está documentado y se le hace un seguimiento."},{"$f":"CONCATENATE(\" \",IFERROR(INDEX('Step 2. IHECO'!$C$62:$C$67,_xlfn.AGGREGATE(15,6,(ROW('Step 2. IHECO'!$C$62:$C$67)-ROW('Step 2. IHECO'!$C$62)+1)/('Step 2. IHECO'!$C$62:$C$67<>\"\"),ROWS(BG$13:BG13))),\"\"))","v":" 3.1.1. La gerencia superior proporciona liderazgo para la integración de políticas, planificación, operaciones y procesos, y coordinación en línea con el plan estratégico."},{"$f":"CONCATENATE(\" \",IFERROR(INDEX('Step 2. IHECO'!$C$88:$C$93,_xlfn.AGGREGATE(15,6,(ROW('Step 2. IHECO'!$C$88:$C$93)-ROW('Step 2. IHECO'!$C$88)+1)/('Step 2. IHECO'!$C$88:$C$93<>\"\"),ROWS(BH$12:BH13))),\"\"))","v":" 4.1.2. La organización establece relaciones con los encargados de elaborar políticas para abogar por la aplicación o la creación de leyes, reglamentaciones y políticas que abordan las causas raíz de cuestiones y problemas sistémicos."},{"$f":"CONCATENATE(\" \",IFERROR(INDEX('Step 2. IHECO'!$C$104:$C$113,_xlfn.AGGREGATE(15,6,(ROW('Step 2. IHECO'!$C$104:$C$113)-ROW('Step 2. IHECO'!$C$104)+1)/('Step 2. IHECO'!$C$104:$C$113<>\"\"),ROWS(BI$12:BI13))),\"\"))","v":" 5.1.2. La comunidad es dueña de los beneficios que resultan de la implementación del programa."},{"$f":"CONCATENATE(\" \",IFERROR(INDEX('Step 2. IHECO'!$C$145:$C$150,_xlfn.AGGREGATE(15,6,(ROW('Step 2. IHECO'!$C$145:$C$150)-ROW('Step 2. IHECO'!$C$145)+1)/('Step 2. IHECO'!$C$145:$C$150<>\"\"),ROWS(BJ$12:BJ13))),\"\"))","v":" 6.1.2. Los gerentes comunican, a través de mensajes escritos o verbales, que el intercambio de conocimientos y el aprendizaje son prioritarios."},{"$f":"CONCATENATE(\" \",IFERROR(INDEX('Step 2. IHECO'!$B$163:$B$201,_xlfn.AGGREGATE(15,6,(ROW('Step 2. IHECO'!$B$163:$B$201)-ROW('Step 2. IHECO'!$B$163)+1)/('Step 2. IHECO'!$B$163:$B$201<>\"\"),ROWS(BK$2:BK13))),\"\"))","v":" "},{"$f":"CONCATENATE(\" \",IFERROR(INDEX('Step 2. IHECO'!$B$202:$B$252,_xlfn.AGGREGATE(15,6,(ROW('Step 2. IHECO'!$B$202:$B$252)-ROW('Step 2. IHECO'!$B$202)+1)/('Step 2. IHECO'!$B$202:$B$252<>\"\"),ROWS(BL$2:BL13))),\"\"))","v":" "},{"$f":"CONCATENATE(\" \",IFERROR(INDEX('Step 2. IHECO'!$B$253:$B$302,_xlfn.AGGREGATE(15,6,(ROW('Step 2. IHECO'!$B$253:$B$302)-ROW('Step 2. IHECO'!$B$253)+1)/('Step 2. IHECO'!$B$253:$B$302<>\"\"),ROWS(BM$2:BM13))),\"\"))","v":" "},{"$f":"CONCATENATE(\" \",IFERROR(INDEX('Step 2. IHECO'!$C$303:$C$310,_xlfn.AGGREGATE(15,6,(ROW('Step 2. IHECO'!$C$303:$C$310)-ROW('Step 2. IHECO'!$C$303)+1)/('Step 2. IHECO'!$C$303:$C$310<>\"\"),ROWS(BN$13:BN13))),\"\"))","v":" 10.1.1 La organización cuenta con una política o una estrategia documentada en materia de igualdad entre los géneros."}]
[null,null,null,null,null,null,null,null,null,null,null,null,null,null,null,null,null,null,null,null,null,null,null,null,null,null,null,null,null,null,null,null,null,null,null,null,null,null,null,null,null,null,null,null,null,null,null,null,null,null,null,null,null,null,null,{"$f":"CONCATENATE(\" \",IFERROR(INDEX('Step 2. IHECO'!$A$5:$A$1000,_xlfn.AGGREGATE(15,6,(ROW('Step 2. IHECO'!$A$5:$A$1000)-ROW('Step 2. IHECO'!$A$5)+1)/('Step 2. IHECO'!$A$5:$A$1000<>\"\"),ROWS(BD$2:BD14))),\"\"))","v":" "},{"$f":"CONCATENATE(\" \",IFERROR(INDEX('Step 2. IHECO'!$C$5:$C$8,_xlfn.AGGREGATE(15,6,(ROW('Step 2. IHECO'!$C$5:$C$8)-ROW('Step 2. IHECO'!$C$5)+1)/('Step 2. IHECO'!$C$5:$C$8<>\"\"),ROWS(BE$14:BE14))),\"\"))","v":" 1.1.1. Una junta directiva constituida legalmente supervisa la estrategia y la visión general de la organización."},{"$f":"CONCATENATE(\" \",IFERROR(INDEX('Step 2. IHECO'!$C$34:$C$39,_xlfn.AGGREGATE(15,6,(ROW('Step 2. IHECO'!$C$34:$C$39)-ROW('Step 2. IHECO'!$C$34)+1)/('Step 2. IHECO'!$C$34:$C$39<>\"\"),ROWS(BF$12:BF14))),\"\"))","v":" 2.1.3. Los datos relevantes de fuentes internas y externas se usan sistemáticamente para respaldar y mejorar la planificación."},{"$f":"CONCATENATE(\" \",IFERROR(INDEX('Step 2. IHECO'!$C$62:$C$67,_xlfn.AGGREGATE(15,6,(ROW('Step 2. IHECO'!$C$62:$C$67)-ROW('Step 2. IHECO'!$C$62)+1)/('Step 2. IHECO'!$C$62:$C$67<>\"\"),ROWS(BG$13:BG14))),\"\"))","v":" 3.1.2. La gerencia se asegura de que la organización tenga una cantidad de personal suficiente y de que todos tengan las calificaciones y la experiencia relevantes."},{"$f":"CONCATENATE(\" \",IFERROR(INDEX('Step 2. IHECO'!$C$88:$C$93,_xlfn.AGGREGATE(15,6,(ROW('Step 2. IHECO'!$C$88:$C$93)-ROW('Step 2. IHECO'!$C$88)+1)/('Step 2. IHECO'!$C$88:$C$93<>\"\"),ROWS(BH$12:BH14))),\"\"))","v":" 4.1.3. La organización entiende su rol en la defensa o el desarrollo de la política pública y participa en las actividades de defensoría."},{"$f":"CONCATENATE(\" \",IFERROR(INDEX('Step 2. IHECO'!$C$104:$C$113,_xlfn.AGGREGATE(15,6,(ROW('Step 2. IHECO'!$C$104:$C$113)-ROW('Step 2. IHECO'!$C$104)+1)/('Step 2. IHECO'!$C$104:$C$113<>\"\"),ROWS(BI$12:BI14))),\"\"))","v":" 5.1.3. La organización es un líder reconocido en las áreas de sus programas principales."},{"$f":"CONCATENATE(\" \",IFERROR(INDEX('Step 2. IHECO'!$C$145:$C$150,_xlfn.AGGREGATE(15,6,(ROW('Step 2. IHECO'!$C$145:$C$150)-ROW('Step 2. IHECO'!$C$145)+1)/('Step 2. IHECO'!$C$145:$C$150<>\"\"),ROWS(BJ$12:BJ14))),\"\"))","v":" 6.1.3. Los gerentes asignan recursos humanos, materiales y financieros para apoyar la estrategia de aprendizaje organizativo."},{"$f":"Human_Resource_Management","v":" 7.1. Capacidad de recursos humanos"},{"$f":"CONCATENATE(\" \",IFERROR(INDEX('Step 2. IHECO'!$B$202:$B$252,_xlfn.AGGREGATE(15,6,(ROW('Step 2. IHECO'!$B$202:$B$252)-ROW('Step 2. IHECO'!$B$202)+1)/('Step 2. IHECO'!$B$202:$B$252<>\"\"),ROWS(BL$2:BL14))),\"\"))","v":" "},{"$f":"CONCATENATE(\" \",IFERROR(INDEX('Step 2. IHECO'!$B$253:$B$302,_xlfn.AGGREGATE(15,6,(ROW('Step 2. IHECO'!$B$253:$B$302)-ROW('Step 2. IHECO'!$B$253)+1)/('Step 2. IHECO'!$B$253:$B$302<>\"\"),ROWS(BM$2:BM14))),\"\"))","v":" "},{"$f":"CONCATENATE(\" \",IFERROR(INDEX('Step 2. IHECO'!$C$303:$C$310,_xlfn.AGGREGATE(15,6,(ROW('Step 2. IHECO'!$C$303:$C$310)-ROW('Step 2. IHECO'!$C$303)+1)/('Step 2. IHECO'!$C$303:$C$310<>\"\"),ROWS(BN$13:BN14))),\"\"))","v":" 10.1.2. La organización cuenta con una política documentada en materia de igualdad de oportunidades."}]
["NAList2",null,null,null,null,null,null,null,null,null,null,null,null,null,null,null,null,null,null,null,null,null,null,null,null,null,null,null,null,null,null,null,null,null,null,null,null,null,null,null,null,null,null,null,null,null,null,null,null,null,null,null,null,null,null,{"$f":"CONCATENATE(\" \",IFERROR(INDEX('Step 2. IHECO'!$A$5:$A$1000,_xlfn.AGGREGATE(15,6,(ROW('Step 2. IHECO'!$A$5:$A$1000)-ROW('Step 2. IHECO'!$A$5)+1)/('Step 2. IHECO'!$A$5:$A$1000<>\"\"),ROWS(BD$2:BD15))),\"\"))","v":" "},{"$f":"CONCATENATE(\" \",IFERROR(INDEX('Step 2. IHECO'!$C$5:$C$8,_xlfn.AGGREGATE(15,6,(ROW('Step 2. IHECO'!$C$5:$C$8)-ROW('Step 2. IHECO'!$C$5)+1)/('Step 2. IHECO'!$C$5:$C$8<>\"\"),ROWS(BE$14:BE15))),\"\"))","v":" 1.1.2. Los roles de la junta directiva y de los comités de dicha junta están definidos en los estatutos."},{"$f":"CONCATENATE(\" \",IFERROR(INDEX('Step 2. IHECO'!$C$34:$C$39,_xlfn.AGGREGATE(15,6,(ROW('Step 2. IHECO'!$C$34:$C$39)-ROW('Step 2. IHECO'!$C$34)+1)/('Step 2. IHECO'!$C$34:$C$39<>\"\"),ROWS(BF$12:BF15))),\"\"))","v":" 2.1.4. El proceso de planificación incluye la consulta a las comunidades identificadas como blanco y el análisis objetivo de sus necesidades."},{"$f":"CONCATENATE(\" \",IFERROR(INDEX('Step 2. IHECO'!$C$62:$C$67,_xlfn.AGGREGATE(15,6,(ROW('Step 2. IHECO'!$C$62:$C$67)-ROW('Step 2. IHECO'!$C$62)+1)/('Step 2. IHECO'!$C$62:$C$67<>\"\"),ROWS(BG$13:BG15))),\"\"))","v":" 3.1.3. La gerencia supervisa los sistemas adecuados de información, generación de informes y coordinación."},{"$f":"CONCATENATE(\" \",IFERROR(INDEX('Step 2. IHECO'!$C$88:$C$93,_xlfn.AGGREGATE(15,6,(ROW('Step 2. IHECO'!$C$88:$C$93)-ROW('Step 2. IHECO'!$C$88)+1)/('Step 2. IHECO'!$C$88:$C$93<>\"\"),ROWS(BH$12:BH15))),\"\"))","v":" 4.1.4. La organización fortalece su relación con el gobierno sin comprometer su integridad e independencia."},{"$f":"CONCATENATE(\" \",IFERROR(INDEX('Step 2. IHECO'!$C$104:$C$113,_xlfn.AGGREGATE(15,6,(ROW('Step 2. IHECO'!$C$104:$C$113)-ROW('Step 2. IHECO'!$C$104)+1)/('Step 2. IHECO'!$C$104:$C$113<>\"\"),ROWS(BI$12:BI15))),\"\"))","v":" 5.1.4. El programa está diseñado e implementado equitativamente, e integra a aquellos que son más vulnerables y necesitan acceso a los servicios del programa."},{"$f":"CONCATENATE(\" \",IFERROR(INDEX('Step 2. IHECO'!$C$145:$C$150,_xlfn.AGGREGATE(15,6,(ROW('Step 2. IHECO'!$C$145:$C$150)-ROW('Step 2. IHECO'!$C$145)+1)/('Step 2. IHECO'!$C$145:$C$150<>\"\"),ROWS(BJ$12:BJ15))),\"\"))","v":" 6.1.4. Los gerentes recompensan y reconocen a los integrantes del personal que ayudan a los demás, documentan y comparten el aprendizaje, e innovan."},{"$f":"CONCATENATE(\" \",IFERROR(INDEX('Step 2. IHECO'!$C$163:$C$169,_xlfn.AGGREGATE(15,6,(ROW('Step 2. IHECO'!$C$163:$C$169)-ROW('Step 2. IHECO'!$C$163)+1)/('Step 2. IHECO'!$C$163:$C$169<>\"\"),ROWS(BK$15:BK15))),\"\"))","v":" 7.1.1. La organización cuenta con personal suficiente en cantidad y calidad para ejecutar tareas y programas con éxito y alcanzar la misión de la organización."},{"$f":"CONCATENATE(\" \",IFERROR(INDEX('Step 2. IHECO'!$B$202:$B$252,_xlfn.AGGREGATE(15,6,(ROW('Step 2. IHECO'!$B$202:$B$252)-ROW('Step 2. IHECO'!$B$202)+1)/('Step 2. IHECO'!$B$202:$B$252<>\"\"),ROWS(BL$2:BL15))),\"\"))","v":" "},{"$f":"BM2","v":" 9.1. Pericia sectorial"},{"$f":"CONCATENATE(\" \",IFERROR(INDEX('Step 2. IHECO'!$C$303:$C$310,_xlfn.AGGREGATE(15,6,(ROW('Step 2. IHECO'!$C$303:$C$310)-ROW('Step 2. IHECO'!$C$303)+1)/('Step 2. IHECO'!$C$303:$C$310<>\"\"),ROWS(BN$13:BN15))),\"\"))","v":" 10.1.3. La organización dispone de modalidades de trabajo flexibles (por ejemplo, trabajo a domicilio/trabajo a distancia, horario de trabajo alternativo, etc.)."}]
["Eliminar la selección derecha para cambiar",null,null,null,null,null,null,null,null,null,null,null,null,null,null,null,null,null,null,null,null,null,null,null,null,null,null,null,null,null,null,null,null,null,null,null,null,null,null,null,null,null,null,null,null,null,null,null,null,null,null,null,null,null,null,{"$f":"CONCATENATE(\" \",IFERROR(INDEX('Step 2. IHECO'!$A$5:$A$1000,_xlfn.AGGREGATE(15,6,(ROW('Step 2. IHECO'!$A$5:$A$1000)-ROW('Step 2. IHECO'!$A$5)+1)/('Step 2. IHECO'!$A$5:$A$1000<>\"\"),ROWS(BD$2:BD16))),\"\"))","v":" "},{"$f":"CONCATENATE(\" \",IFERROR(INDEX('Step 2. IHECO'!$C$5:$C$8,_xlfn.AGGREGATE(15,6,(ROW('Step 2. IHECO'!$C$5:$C$8)-ROW('Step 2. IHECO'!$C$5)+1)/('Step 2. IHECO'!$C$5:$C$8<>\"\"),ROWS(BE$14:BE16))),\"\"))","v":" 1.1.3. Se celebran reuniones de la junta directiva con regularidad; las decisiones se documentan y reflejan responsabilidad y administración de los recursos."},{"$f":"CONCATENATE(\" \",IFERROR(INDEX('Step 2. IHECO'!$C$34:$C$39,_xlfn.AGGREGATE(15,6,(ROW('Step 2. IHECO'!$C$34:$C$39)-ROW('Step 2. IHECO'!$C$34)+1)/('Step 2. IHECO'!$C$34:$C$39<>\"\"),ROWS(BF$12:BF16))),\"\"))","v":" 2.1.5. El proceso de planificación incluye la toma de decisiones participativas para fijar prioridades y asignar recursos."},{"$f":"CONCATENATE(\" \",IFERROR(INDEX('Step 2. IHECO'!$C$62:$C$67,_xlfn.AGGREGATE(15,6,(ROW('Step 2. IHECO'!$C$62:$C$67)-ROW('Step 2. IHECO'!$C$62)+1)/('Step 2. IHECO'!$C$62:$C$67<>\"\"),ROWS(BG$13:BG16))),\"\"))","v":" 3.1.4. El proceso de toma de decisiones es consultivo hasta el mayor grado posible y la gerencia comunica de manera clara y oportuna los argumentos que sustentan las decisiones tomadas a las personas que corresponda."},{"$f":"CONCATENATE(\" \",IFERROR(INDEX('Step 2. IHECO'!$C$88:$C$93,_xlfn.AGGREGATE(15,6,(ROW('Step 2. IHECO'!$C$88:$C$93)-ROW('Step 2. IHECO'!$C$88)+1)/('Step 2. IHECO'!$C$88:$C$93<>\"\"),ROWS(BH$12:BH16))),\"\"))","v":" 4.1.5. La organización está involucrada en fuerzas de trabajo o en grupos de trabajo con el gobierno."},{"$f":"CONCATENATE(\" \",IFERROR(INDEX('Step 2. IHECO'!$C$104:$C$113,_xlfn.AGGREGATE(15,6,(ROW('Step 2. IHECO'!$C$104:$C$113)-ROW('Step 2. IHECO'!$C$104)+1)/('Step 2. IHECO'!$C$104:$C$113<>\"\"),ROWS(BI$12:BI16))),\"\"))","v":" 5.1.5. La estrategia de sostenibilidad está incorporada en todos  los programas."},{"$f":"CONCATENATE(\" \",IFERROR(INDEX('Step 2. IHECO'!$C$145:$C$150,_xlfn.AGGREGATE(15,6,(ROW('Step 2. IHECO'!$C$145:$C$150)-ROW('Step 2. IHECO'!$C$145)+1)/('Step 2. IHECO'!$C$145:$C$150<>\"\"),ROWS(BJ$12:BJ16))),\"\"))","v":" 6.1.5. Los gerentes muestran la manera en que se usan para tomar decisiones los datos provenientes de las tareas de supervisión y evaluación y otros procesos de aprendizaje."},{"$f":"CONCATENATE(\" \",IFERROR(INDEX('Step 2. IHECO'!$C$163:$C$169,_xlfn.AGGREGATE(15,6,(ROW('Step 2. IHECO'!$C$163:$C$169)-ROW('Step 2. IHECO'!$C$163)+1)/('Step 2. IHECO'!$C$163:$C$169<>\"\"),ROWS(BK$15:BK16))),\"\"))","v":" 7.1.2. La organización puede atraer y retener personal calificado para alcanzar sus metas."},{"$f":"BL2","v":" 8.1. Personal financiero"},{"$f":"CONCATENATE(\" \",IFERROR(INDEX('Step 2. IHECO'!$C$253:$C$258,_xlfn.AGGREGATE(15,6,(ROW('Step 2. IHECO'!$C$253:$C$258)-ROW('Step 2. IHECO'!$C$253)+1)/('Step 2. IHECO'!$C$253:$C$258<>\"\"),ROWS(BM$16:BM16))),\"\"))","v":" 9.1.1. Las áreas de pericia sectorial de la organización la respaldan en el logro de su misión."},{"$f":"CONCATENATE(\" \",IFERROR(INDEX('Step 2. IHECO'!$C$303:$C$310,_xlfn.AGGREGATE(15,6,(ROW('Step 2. IHECO'!$C$303:$C$310)-ROW('Step 2. IHECO'!$C$303)+1)/('Step 2. IHECO'!$C$303:$C$310<>\"\"),ROWS(BN$13:BN16))),\"\"))","v":" 10.1.4. La organización cuenta con una política documentada en materia de permiso por maternidad."}]
[null,null,null,null,null,null,null,null,null,null,null,null,null,null,null,null,null,null,null,null,null,null,null,null,null,null,null,null,null,null,null,null,null,null,null,null,null,null,null,null,null,null,null,null,null,null,null,null,null,null,null,null,null,null,null,null,{"$f":"CONCATENATE(\" \",IFERROR(INDEX('Step 2. IHECO'!$C$5:$C$8,_xlfn.AGGREGATE(15,6,(ROW('Step 2. IHECO'!$C$5:$C$8)-ROW('Step 2. IHECO'!$C$5)+1)/('Step 2. IHECO'!$C$5:$C$8<>\"\"),ROWS(BE$14:BE17))),\"\"))","v":" 1.1.4. La composición de la junta directiva incluye a miembros que son reconocidos por su liderazgo o por sus áreas de especialidad y representan a las partes interesadas, incluidos los participantes del programa."},{"$f":"CONCATENATE(\" \",IFERROR(INDEX('Step 2. IHECO'!$C$34:$C$39,_xlfn.AGGREGATE(15,6,(ROW('Step 2. IHECO'!$C$34:$C$39)-ROW('Step 2. IHECO'!$C$34)+1)/('Step 2. IHECO'!$C$34:$C$39<>\"\"),ROWS(BF$12:BF17))),\"\"))","v":" 2.1.6. La responsabilidad de la planificación está incluida en las descripciones de los puestos de trabajo del personal y en el sistema de desempeño y evaluación del personal."},{"$f":"CONCATENATE(\" \",IFERROR(INDEX('Step 2. IHECO'!$C$62:$C$67,_xlfn.AGGREGATE(15,6,(ROW('Step 2. IHECO'!$C$62:$C$67)-ROW('Step 2. IHECO'!$C$62)+1)/('Step 2. IHECO'!$C$62:$C$67<>\"\"),ROWS(BG$13:BG17))),\"\"))","v":" 3.1.5. Las revisiones periódicas de las prácticas gerenciales y las capacidades organizativas son parte de las autoevaluaciones organizativas."},{"$f":"CONCATENATE(\" \",IFERROR(INDEX('Step 2. IHECO'!$C$88:$C$93,_xlfn.AGGREGATE(15,6,(ROW('Step 2. IHECO'!$C$88:$C$93)-ROW('Step 2. IHECO'!$C$88)+1)/('Step 2. IHECO'!$C$88:$C$93<>\"\"),ROWS(BH$12:BH17))),\"\"))","v":" 4.1.6. La organización posee estrategias de comunicación, intercambio de información y difusión para informar e influir en las políticas."},{"$f":"CONCATENATE(\" \",IFERROR(INDEX('Step 2. IHECO'!$C$104:$C$113,_xlfn.AGGREGATE(15,6,(ROW('Step 2. IHECO'!$C$104:$C$113)-ROW('Step 2. IHECO'!$C$104)+1)/('Step 2. IHECO'!$C$104:$C$113<>\"\"),ROWS(BI$12:BI17))),\"\"))","v":" 5.1.6. El programa aborda las cuestiones de género y otras cuestiones de equidad."},{"$f":"CONCATENATE(\" \",IFERROR(INDEX('Step 2. IHECO'!$C$145:$C$150,_xlfn.AGGREGATE(15,6,(ROW('Step 2. IHECO'!$C$145:$C$150)-ROW('Step 2. IHECO'!$C$145)+1)/('Step 2. IHECO'!$C$145:$C$150<>\"\"),ROWS(BJ$12:BJ17))),\"\"))","v":" 6.1.6. Los gerentes usan activamente los procesos y las herramientas de intercambio de conocimientos."},{"$f":"CONCATENATE(\" \",IFERROR(INDEX('Step 2. IHECO'!$C$163:$C$169,_xlfn.AGGREGATE(15,6,(ROW('Step 2. IHECO'!$C$163:$C$169)-ROW('Step 2. IHECO'!$C$163)+1)/('Step 2. IHECO'!$C$163:$C$169<>\"\"),ROWS(BK$15:BK17))),\"\"))","v":" 7.1.3. El modelo de dotación de personal de la organización incluye una representación equitativa de los grupos de identidad de las personas a las que sirve y las comunidades en que la organización trabaja."},{"$f":"CONCATENATE(\" \",IFERROR(INDEX('Step 2. IHECO'!$C$202:$C$203,_xlfn.AGGREGATE(15,6,(ROW('Step 2. IHECO'!$C$202:$C$203)-ROW('Step 2. IHECO'!$C$202)+1)/('Step 2. IHECO'!$C$202:$C$203<>\"\"),ROWS(BL$17:BL17))),\"\"))","v":" 8.1.1. La organización asigna una cantidad suficiente de miembros del personal para desempeñar la función financiera, la cual está a cargo de un director designado que tiene la experiencia relevante y las calificaciones educativas necesarias para desempeñar ese rol."},{"$f":"CONCATENATE(\" \",IFERROR(INDEX('Step 2. IHECO'!$C$253:$C$258,_xlfn.AGGREGATE(15,6,(ROW('Step 2. IHECO'!$C$253:$C$258)-ROW('Step 2. IHECO'!$C$253)+1)/('Step 2. IHECO'!$C$253:$C$258<>\"\"),ROWS(BM$16:BM17))),\"\"))","v":" 9.1.2. La organización mantiene una base de personal adecuada de expertos sectoriales."},{"$f":"CONCATENATE(\" \",IFERROR(INDEX('Step 2. IHECO'!$C$303:$C$310,_xlfn.AGGREGATE(15,6,(ROW('Step 2. IHECO'!$C$303:$C$310)-ROW('Step 2. IHECO'!$C$303)+1)/('Step 2. IHECO'!$C$303:$C$310<>\"\"),ROWS(BN$13:BN17))),\"\"))","v":" 10.1.5. La organización cuenta con una política documentada en materia de permiso parental."}]
[null,null,null,null,null,null,null,null,null,null,null,null,null,null,null,null,null,null,null,null,null,null,null,null,null,null,null,null,null,null,null,null,null,null,null,null,null,null,null,null,null,null,null,null,null,null,null,null,null,null,null,null,null,null,null,null,{"$f":"CONCATENATE(\" \",IFERROR(INDEX('Step 2. IHECO'!$C$5:$C$8,_xlfn.AGGREGATE(15,6,(ROW('Step 2. IHECO'!$C$5:$C$8)-ROW('Step 2. IHECO'!$C$5)+1)/('Step 2. IHECO'!$C$5:$C$8<>\"\"),ROWS(BE$14:BE18))),\"\"))","v":" "},{"$f":"CONCATENATE(\" \",IFERROR(INDEX('Step 2. IHECO'!$C$34:$C$39,_xlfn.AGGREGATE(15,6,(ROW('Step 2. IHECO'!$C$34:$C$39)-ROW('Step 2. IHECO'!$C$34)+1)/('Step 2. IHECO'!$C$34:$C$39<>\"\"),ROWS(BF$12:BF18))),\"\"))","v":" "},{"$f":"CONCATENATE(\" \",IFERROR(INDEX('Step 2. IHECO'!$C$62:$C$67,_xlfn.AGGREGATE(15,6,(ROW('Step 2. IHECO'!$C$62:$C$67)-ROW('Step 2. IHECO'!$C$62)+1)/('Step 2. IHECO'!$C$62:$C$67<>\"\"),ROWS(BG$13:BG18))),\"\"))","v":" 3.1.6. La gerencia se asegura de que la organización tenga políticas y procedimientos administrativos, financieros y de personal actualizados, y que todo el personal se adhiera a estos."},{"$f":"CONCATENATE(\" \",IFERROR(INDEX('Step 2. IHECO'!$C$88:$C$93,_xlfn.AGGREGATE(15,6,(ROW('Step 2. IHECO'!$C$88:$C$93)-ROW('Step 2. IHECO'!$C$88)+1)/('Step 2. IHECO'!$C$88:$C$93<>\"\"),ROWS(BH$12:BH18))),\"\"))","v":" "},{"$f":"CONCATENATE(\" \",IFERROR(INDEX('Step 2. IHECO'!$C$104:$C$113,_xlfn.AGGREGATE(15,6,(ROW('Step 2. IHECO'!$C$104:$C$113)-ROW('Step 2. IHECO'!$C$104)+1)/('Step 2. IHECO'!$C$104:$C$113<>\"\"),ROWS(BI$12:BI18))),\"\"))","v":" 5.1.7. Las estructuras y los sistemas de ejecución del programa son adecuados a la escala del programa, flexibles y se adaptan a los cambios de la dirección estratégica."},{"$f":"CONCATENATE(\" \",IFERROR(INDEX('Step 2. IHECO'!$C$145:$C$150,_xlfn.AGGREGATE(15,6,(ROW('Step 2. IHECO'!$C$145:$C$150)-ROW('Step 2. IHECO'!$C$145)+1)/('Step 2. IHECO'!$C$145:$C$150<>\"\"),ROWS(BJ$12:BJ18))),\"\"))","v":" "},{"$f":"CONCATENATE(\" \",IFERROR(INDEX('Step 2. IHECO'!$C$163:$C$169,_xlfn.AGGREGATE(15,6,(ROW('Step 2. IHECO'!$C$163:$C$169)-ROW('Step 2. IHECO'!$C$163)+1)/('Step 2. IHECO'!$C$163:$C$169<>\"\"),ROWS(BK$15:BK18))),\"\"))","v":" 7.1.4. La organización considera las preocupaciones particulares de las mujeres y de otros grupos marginados en sus políticas y prácticas."},{"$f":"CONCATENATE(\" \",IFERROR(INDEX('Step 2. IHECO'!$C$202:$C$203,_xlfn.AGGREGATE(15,6,(ROW('Step 2. IHECO'!$C$202:$C$203)-ROW('Step 2. IHECO'!$C$202)+1)/('Step 2. IHECO'!$C$202:$C$203<>\"\"),ROWS(BL$17:BL18))),\"\"))","v":" 8.1.2. El director de la función financiera participa en todas las decisiones que afectan los cambios de personal financiero."},{"$f":"CONCATENATE(\" \",IFERROR(INDEX('Step 2. IHECO'!$C$253:$C$258,_xlfn.AGGREGATE(15,6,(ROW('Step 2. IHECO'!$C$253:$C$258)-ROW('Step 2. IHECO'!$C$253)+1)/('Step 2. IHECO'!$C$253:$C$258<>\"\"),ROWS(BM$16:BM18))),\"\"))","v":" 9.1.3. La organización puede acceder rápidamente a asesores externos temporales para que proporcionen servicios técnicos."},{"$f":"CONCATENATE(\" \",IFERROR(INDEX('Step 2. IHECO'!$C$303:$C$310,_xlfn.AGGREGATE(15,6,(ROW('Step 2. IHECO'!$C$303:$C$310)-ROW('Step 2. IHECO'!$C$303)+1)/('Step 2. IHECO'!$C$303:$C$310<>\"\"),ROWS(BN$13:BN18))),\"\"))","v":" 10.1.6. La organización cuenta con una política documentada para permitir al personal ocuparse de sus hijos u otros dependientes. "}]
[null,null,null,null,null,null,null,null,null,null,null,null,null,null,null,null,null,null,null,null,null,null,null,null,null,null,null,null,null,null,null,null,null,null,null,null,null,null,null,null,null,null,null,null,null,null,null,null,null,null,null,null,null,null,null,null,{"$f":"CONCATENATE(\" \",IFERROR(INDEX('Step 2. IHECO'!$C$5:$C$8,_xlfn.AGGREGATE(15,6,(ROW('Step 2. IHECO'!$C$5:$C$8)-ROW('Step 2. IHECO'!$C$5)+1)/('Step 2. IHECO'!$C$5:$C$8<>\"\"),ROWS(BE$14:BE19))),\"\"))","v":" "},{"$f":"CONCATENATE(\" \",IFERROR(INDEX('Step 2. IHECO'!$C$34:$C$39,_xlfn.AGGREGATE(15,6,(ROW('Step 2. IHECO'!$C$34:$C$39)-ROW('Step 2. IHECO'!$C$34)+1)/('Step 2. IHECO'!$C$34:$C$39<>\"\"),ROWS(BF$12:BF19))),\"\"))","v":" "},{"$f":"CONCATENATE(\" \",IFERROR(INDEX('Step 2. IHECO'!$C$62:$C$67,_xlfn.AGGREGATE(15,6,(ROW('Step 2. IHECO'!$C$62:$C$67)-ROW('Step 2. IHECO'!$C$62)+1)/('Step 2. IHECO'!$C$62:$C$67<>\"\"),ROWS(BG$13:BG19))),\"\"))","v":" "},{"$f":"CONCATENATE(\" \",IFERROR(INDEX('Step 2. IHECO'!$C$88:$C$93,_xlfn.AGGREGATE(15,6,(ROW('Step 2. IHECO'!$C$88:$C$93)-ROW('Step 2. IHECO'!$C$88)+1)/('Step 2. IHECO'!$C$88:$C$93<>\"\"),ROWS(BH$12:BH19))),\"\"))","v":" "},{"$f":"CONCATENATE(\" \",IFERROR(INDEX('Step 2. IHECO'!$C$104:$C$113,_xlfn.AGGREGATE(15,6,(ROW('Step 2. IHECO'!$C$104:$C$113)-ROW('Step 2. IHECO'!$C$104)+1)/('Step 2. IHECO'!$C$104:$C$113<>\"\"),ROWS(BI$12:BI19))),\"\"))","v":" 5.1.8. La cantidad de personas que se benefician del programa va en aumento."},{"$f":"CONCATENATE(\" \",IFERROR(INDEX('Step 2. IHECO'!$C$145:$C$150,_xlfn.AGGREGATE(15,6,(ROW('Step 2. IHECO'!$C$145:$C$150)-ROW('Step 2. IHECO'!$C$145)+1)/('Step 2. IHECO'!$C$145:$C$150<>\"\"),ROWS(BJ$12:BJ19))),\"\"))","v":" "},{"$f":"CONCATENATE(\" \",IFERROR(INDEX('Step 2. IHECO'!$C$163:$C$169,_xlfn.AGGREGATE(15,6,(ROW('Step 2. IHECO'!$C$163:$C$169)-ROW('Step 2. IHECO'!$C$163)+1)/('Step 2. IHECO'!$C$163:$C$169<>\"\"),ROWS(BK$15:BK19))),\"\"))","v":" 7.1.5. El personal está plenamente comprometido con la misión de la organización."},{"$f":"CONCATENATE(\" \",IFERROR(INDEX('Step 2. IHECO'!$C$202:$C$203,_xlfn.AGGREGATE(15,6,(ROW('Step 2. IHECO'!$C$202:$C$203)-ROW('Step 2. IHECO'!$C$202)+1)/('Step 2. IHECO'!$C$202:$C$203<>\"\"),ROWS(BL$17:BL19))),\"\"))","v":" "},{"$f":"CONCATENATE(\" \",IFERROR(INDEX('Step 2. IHECO'!$C$253:$C$258,_xlfn.AGGREGATE(15,6,(ROW('Step 2. IHECO'!$C$253:$C$258)-ROW('Step 2. IHECO'!$C$253)+1)/('Step 2. IHECO'!$C$253:$C$258<>\"\"),ROWS(BM$16:BM19))),\"\"))","v":" 9.1.4. La organización es reconocida públicamente por proporcionar productos o servicios de calidad a sus partes constituyentes."},{"$f":"CONCATENATE(\" \",IFERROR(INDEX('Step 2. IHECO'!$C$303:$C$310,_xlfn.AGGREGATE(15,6,(ROW('Step 2. IHECO'!$C$303:$C$310)-ROW('Step 2. IHECO'!$C$303)+1)/('Step 2. IHECO'!$C$303:$C$310<>\"\"),ROWS(BN$13:BN19))),\"\"))","v":" 10.1.7. La organización cuenta con una política documentada en materia de prevención y sanción del acoso, incluido el acoso sexual."}]
[null,null,null,null,null,null,null,null,null,null,null,null,null,null,null,null,null,null,null,null,null,null,null,null,null,null,null,null,null,null,null,null,null,null,null,null,null,null,null,null,null,null,null,null,null,null,null,null,null,null,null,null,null,null,null,null,{"$f":"CONCATENATE(\" \",IFERROR(INDEX('Step 2. IHECO'!$C$5:$C$8,_xlfn.AGGREGATE(15,6,(ROW('Step 2. IHECO'!$C$5:$C$8)-ROW('Step 2. IHECO'!$C$5)+1)/('Step 2. IHECO'!$C$5:$C$8<>\"\"),ROWS(BE$14:BE20))),\"\"))","v":" "},{"$f":"CONCATENATE(\" \",IFERROR(INDEX('Step 2. IHECO'!$C$34:$C$39,_xlfn.AGGREGATE(15,6,(ROW('Step 2. IHECO'!$C$34:$C$39)-ROW('Step 2. IHECO'!$C$34)+1)/('Step 2. IHECO'!$C$34:$C$39<>\"\"),ROWS(BF$12:BF20))),\"\"))","v":" "},{"$f":"CONCATENATE(\" \",IFERROR(INDEX('Step 2. IHECO'!$C$62:$C$67,_xlfn.AGGREGATE(15,6,(ROW('Step 2. IHECO'!$C$62:$C$67)-ROW('Step 2. IHECO'!$C$62)+1)/('Step 2. IHECO'!$C$62:$C$67<>\"\"),ROWS(BG$13:BG20))),\"\"))","v":" "},{"$f":"CONCATENATE(\" \",IFERROR(INDEX('Step 2. IHECO'!$C$88:$C$93,_xlfn.AGGREGATE(15,6,(ROW('Step 2. IHECO'!$C$88:$C$93)-ROW('Step 2. IHECO'!$C$88)+1)/('Step 2. IHECO'!$C$88:$C$93<>\"\"),ROWS(BH$12:BH20))),\"\"))","v":" "},{"$f":"CONCATENATE(\" \",IFERROR(INDEX('Step 2. IHECO'!$C$104:$C$113,_xlfn.AGGREGATE(15,6,(ROW('Step 2. IHECO'!$C$104:$C$113)-ROW('Step 2. IHECO'!$C$104)+1)/('Step 2. IHECO'!$C$104:$C$113<>\"\"),ROWS(BI$12:BI20))),\"\"))","v":" 5.1.9. El programa tiene potencial de repetibilidad y aumento en escala."},{"$f":"CONCATENATE(\" \",IFERROR(INDEX('Step 2. IHECO'!$C$145:$C$150,_xlfn.AGGREGATE(15,6,(ROW('Step 2. IHECO'!$C$145:$C$150)-ROW('Step 2. IHECO'!$C$145)+1)/('Step 2. IHECO'!$C$145:$C$150<>\"\"),ROWS(BJ$12:BJ20))),\"\"))","v":" "},{"$f":"CONCATENATE(\" \",IFERROR(INDEX('Step 2. IHECO'!$C$163:$C$169,_xlfn.AGGREGATE(15,6,(ROW('Step 2. IHECO'!$C$163:$C$169)-ROW('Step 2. IHECO'!$C$163)+1)/('Step 2. IHECO'!$C$163:$C$169<>\"\"),ROWS(BK$15:BK20))),\"\"))","v":" 7.1.6. El personal piensa que la organización proporciona un entorno laboral seguro y saludable."},{"$f":"CONCATENATE(\" \",IFERROR(INDEX('Step 2. IHECO'!$C$202:$C$203,_xlfn.AGGREGATE(15,6,(ROW('Step 2. IHECO'!$C$202:$C$203)-ROW('Step 2. IHECO'!$C$202)+1)/('Step 2. IHECO'!$C$202:$C$203<>\"\"),ROWS(BL$17:BL20))),\"\"))","v":" "},{"$f":"CONCATENATE(\" \",IFERROR(INDEX('Step 2. IHECO'!$C$253:$C$258,_xlfn.AGGREGATE(15,6,(ROW('Step 2. IHECO'!$C$253:$C$258)-ROW('Step 2. IHECO'!$C$253)+1)/('Step 2. IHECO'!$C$253:$C$258<>\"\"),ROWS(BM$16:BM20))),\"\"))","v":" 9.1.5. La organización colabora con otros actores de la sociedad civil para diseñar e implementar proyectos que tengan servicios complementarios."},{"$f":"CONCATENATE(\" \",IFERROR(INDEX('Step 2. IHECO'!$C$303:$C$310,_xlfn.AGGREGATE(15,6,(ROW('Step 2. IHECO'!$C$303:$C$310)-ROW('Step 2. IHECO'!$C$303)+1)/('Step 2. IHECO'!$C$303:$C$310<>\"\"),ROWS(BN$13:BN20))),\"\"))","v":" 10.1.8. Todo el personal recibe información sobre las políticas mencionadas (10.1.1 a 10.1.7) en el marco del procedimiento de incorporación o de nueva contratación."}]
[null,null,null,null,null,null,null,null,null,null,null,null,null,null,null,null,null,null,null,null,null,null,null,null,null,null,null,null,null,null,null,null,null,null,null,null,null,null,null,null,null,null,null,null,null,null,null,null,null,null,null,null,null,null,null,null,{"$f":"CONCATENATE(\" \",IFERROR(INDEX('Step 2. IHECO'!$C$5:$C$8,_xlfn.AGGREGATE(15,6,(ROW('Step 2. IHECO'!$C$5:$C$8)-ROW('Step 2. IHECO'!$C$5)+1)/('Step 2. IHECO'!$C$5:$C$8<>\"\"),ROWS(BE$14:BE21))),\"\"))","v":" "},{"$f":"CONCATENATE(\" \",IFERROR(INDEX('Step 2. IHECO'!$C$34:$C$39,_xlfn.AGGREGATE(15,6,(ROW('Step 2. IHECO'!$C$34:$C$39)-ROW('Step 2. IHECO'!$C$34)+1)/('Step 2. IHECO'!$C$34:$C$39<>\"\"),ROWS(BF$12:BF21))),\"\"))","v":" "},{"$f":"CONCATENATE(\" \",IFERROR(INDEX('Step 2. IHECO'!$C$62:$C$67,_xlfn.AGGREGATE(15,6,(ROW('Step 2. IHECO'!$C$62:$C$67)-ROW('Step 2. IHECO'!$C$62)+1)/('Step 2. IHECO'!$C$62:$C$67<>\"\"),ROWS(BG$13:BG21))),\"\"))","v":" "},{"$f":"CONCATENATE(\" \",IFERROR(INDEX('Step 2. IHECO'!$C$88:$C$93,_xlfn.AGGREGATE(15,6,(ROW('Step 2. IHECO'!$C$88:$C$93)-ROW('Step 2. IHECO'!$C$88)+1)/('Step 2. IHECO'!$C$88:$C$93<>\"\"),ROWS(BH$12:BH21))),\"\"))","v":" "},{"$f":"CONCATENATE(\" \",IFERROR(INDEX('Step 2. IHECO'!$C$104:$C$113,_xlfn.AGGREGATE(15,6,(ROW('Step 2. IHECO'!$C$104:$C$113)-ROW('Step 2. IHECO'!$C$104)+1)/('Step 2. IHECO'!$C$104:$C$113<>\"\"),ROWS(BI$12:BI21))),\"\"))","v":" 5.1.10. El programa tiene una estrategia de salida clara y todas las personas correspondientes la entienden."},{"$f":"CONCATENATE(\" \",IFERROR(INDEX('Step 2. IHECO'!$C$145:$C$150,_xlfn.AGGREGATE(15,6,(ROW('Step 2. IHECO'!$C$145:$C$150)-ROW('Step 2. IHECO'!$C$145)+1)/('Step 2. IHECO'!$C$145:$C$150<>\"\"),ROWS(BJ$12:BJ21))),\"\"))","v":" "},{"$f":"CONCATENATE(\" \",IFERROR(INDEX('Step 2. IHECO'!$C$163:$C$169,_xlfn.AGGREGATE(15,6,(ROW('Step 2. IHECO'!$C$163:$C$169)-ROW('Step 2. IHECO'!$C$163)+1)/('Step 2. IHECO'!$C$163:$C$169<>\"\"),ROWS(BK$15:BK21))),\"\"))","v":" 7.1.7. La organización tiene la capacidad de recursos humanos  para crear programas innovadores y eficaces que satisfagan las necesidades de los destinatarios."},{"$f":"CONCATENATE(\" \",IFERROR(INDEX('Step 2. IHECO'!$C$202:$C$203,_xlfn.AGGREGATE(15,6,(ROW('Step 2. IHECO'!$C$202:$C$203)-ROW('Step 2. IHECO'!$C$202)+1)/('Step 2. IHECO'!$C$202:$C$203<>\"\"),ROWS(BL$17:BL21))),\"\"))","v":" "},{"$f":"CONCATENATE(\" \",IFERROR(INDEX('Step 2. IHECO'!$C$253:$C$258,_xlfn.AGGREGATE(15,6,(ROW('Step 2. IHECO'!$C$253:$C$258)-ROW('Step 2. IHECO'!$C$253)+1)/('Step 2. IHECO'!$C$253:$C$258<>\"\"),ROWS(BM$16:BM21))),\"\"))","v":" 9.1.6. La organización es capaz de adaptar la entrega de proyectos y servicios a las necesidades cambiantes de las partes constituyentes."},{"$f":"CONCATENATE(\" \",IFERROR(INDEX('Step 2. IHECO'!$C$303:$C$310,_xlfn.AGGREGATE(15,6,(ROW('Step 2. IHECO'!$C$303:$C$310)-ROW('Step 2. IHECO'!$C$303)+1)/('Step 2. IHECO'!$C$303:$C$310<>\"\"),ROWS(BN$13:BN21))),\"\"))","v":" "}]
[null,null,null,null,null,null,null,null,null,null,null,null,null,null,null,null,null,null,null,null,null,null,null,null,null,null,null,null,null,null,null,null,null,null,null,null,null,null,null,null,null,null,null,null,null,null,null,null,null,null,null,null,null,null,null,null,{"$f":"CONCATENATE(\" \",IFERROR(INDEX('Step 2. IHECO'!$C$5:$C$8,_xlfn.AGGREGATE(15,6,(ROW('Step 2. IHECO'!$C$5:$C$8)-ROW('Step 2. IHECO'!$C$5)+1)/('Step 2. IHECO'!$C$5:$C$8<>\"\"),ROWS(BE$14:BE22))),\"\"))","v":" "},{"$f":"CONCATENATE(\" \",IFERROR(INDEX('Step 2. IHECO'!$C$34:$C$39,_xlfn.AGGREGATE(15,6,(ROW('Step 2. IHECO'!$C$34:$C$39)-ROW('Step 2. IHECO'!$C$34)+1)/('Step 2. IHECO'!$C$34:$C$39<>\"\"),ROWS(BF$12:BF22))),\"\"))","v":" "},{"$f":"CONCATENATE(\" \",IFERROR(INDEX('Step 2. IHECO'!$C$62:$C$67,_xlfn.AGGREGATE(15,6,(ROW('Step 2. IHECO'!$C$62:$C$67)-ROW('Step 2. IHECO'!$C$62)+1)/('Step 2. IHECO'!$C$62:$C$67<>\"\"),ROWS(BG$13:BG22))),\"\"))","v":" "},{"$f":"CONCATENATE(\" \",IFERROR(INDEX('Step 2. IHECO'!$C$88:$C$93,_xlfn.AGGREGATE(15,6,(ROW('Step 2. IHECO'!$C$88:$C$93)-ROW('Step 2. IHECO'!$C$88)+1)/('Step 2. IHECO'!$C$88:$C$93<>\"\"),ROWS(BH$12:BH22))),\"\"))","v":" "},{"$f":"CONCATENATE(\" \",IFERROR(INDEX('Step 2. IHECO'!$C$104:$C$113,_xlfn.AGGREGATE(15,6,(ROW('Step 2. IHECO'!$C$104:$C$113)-ROW('Step 2. IHECO'!$C$104)+1)/('Step 2. IHECO'!$C$104:$C$113<>\"\"),ROWS(BI$12:BI22))),\"\"))","v":" "},{"$f":"CONCATENATE(\" \",IFERROR(INDEX('Step 2. IHECO'!$C$145:$C$150,_xlfn.AGGREGATE(15,6,(ROW('Step 2. IHECO'!$C$145:$C$150)-ROW('Step 2. IHECO'!$C$145)+1)/('Step 2. IHECO'!$C$145:$C$150<>\"\"),ROWS(BJ$12:BJ22))),\"\"))","v":" "},{"$f":"CONCATENATE(\" \",IFERROR(INDEX('Step 2. IHECO'!$C$163:$C$169,_xlfn.AGGREGATE(15,6,(ROW('Step 2. IHECO'!$C$163:$C$169)-ROW('Step 2. IHECO'!$C$163)+1)/('Step 2. IHECO'!$C$163:$C$169<>\"\"),ROWS(BK$15:BK22))),\"\"))","v":" "},{"$f":"CONCATENATE(\" \",IFERROR(INDEX('Step 2. IHECO'!$C$202:$C$203,_xlfn.AGGREGATE(15,6,(ROW('Step 2. IHECO'!$C$202:$C$203)-ROW('Step 2. IHECO'!$C$202)+1)/('Step 2. IHECO'!$C$202:$C$203<>\"\"),ROWS(BL$17:BL22))),\"\"))","v":" "},{"$f":"CONCATENATE(\" \",IFERROR(INDEX('Step 2. IHECO'!$C$253:$C$258,_xlfn.AGGREGATE(15,6,(ROW('Step 2. IHECO'!$C$253:$C$258)-ROW('Step 2. IHECO'!$C$253)+1)/('Step 2. IHECO'!$C$253:$C$258<>\"\"),ROWS(BM$16:BM22))),\"\"))","v":" "},{"$f":"CONCATENATE(\" \",IFERROR(INDEX('Step 2. IHECO'!$C$303:$C$310,_xlfn.AGGREGATE(15,6,(ROW('Step 2. IHECO'!$C$303:$C$310)-ROW('Step 2. IHECO'!$C$303)+1)/('Step 2. IHECO'!$C$303:$C$310<>\"\"),ROWS(BN$13:BN22))),\"\"))","v":" "}]
[null,null,null,null,null,null,null,null,null,null,null,null,null,null,null,null,null,null,null,null,null,null,null,null,null,null,null,null,null,null,null,null,null,null,null,null,null,null,null,null,null,null,null,null,null,null,null,null,null,null,null,null,null,null,null,null,{"$f":"BE3","v":" 1.2. Misión, visión y valores"},{"$f":"BF3","v":" 2.2. Planificación estratégica"},{"$f":"CONCATENATE(\" \",IFERROR(INDEX('Step 2. IHECO'!$C$62:$C$67,_xlfn.AGGREGATE(15,6,(ROW('Step 2. IHECO'!$C$62:$C$67)-ROW('Step 2. IHECO'!$C$62)+1)/('Step 2. IHECO'!$C$62:$C$67<>\"\"),ROWS(BG$13:BG23))),\"\"))","v":" "},{"$f":"BH3","v":" 4.2. Asociaciones"},{"$f":"CONCATENATE(\" \",IFERROR(INDEX('Step 2. IHECO'!$C$104:$C$113,_xlfn.AGGREGATE(15,6,(ROW('Step 2. IHECO'!$C$104:$C$113)-ROW('Step 2. IHECO'!$C$104)+1)/('Step 2. IHECO'!$C$104:$C$113<>\"\"),ROWS(BI$12:BI23))),\"\"))","v":" "},{"$f":"BJ3","v":" 6.2. Procesos de reflexión crítica"},{"$f":"CONCATENATE(\" \",IFERROR(INDEX('Step 2. IHECO'!$C$163:$C$169,_xlfn.AGGREGATE(15,6,(ROW('Step 2. IHECO'!$C$163:$C$169)-ROW('Step 2. IHECO'!$C$163)+1)/('Step 2. IHECO'!$C$163:$C$169<>\"\"),ROWS(BK$15:BK23))),\"\"))","v":" "},{"$f":"CONCATENATE(\" \",IFERROR(INDEX('Step 2. IHECO'!$C$202:$C$203,_xlfn.AGGREGATE(15,6,(ROW('Step 2. IHECO'!$C$202:$C$203)-ROW('Step 2. IHECO'!$C$202)+1)/('Step 2. IHECO'!$C$202:$C$203<>\"\"),ROWS(BL$17:BL23))),\"\"))","v":" "},{"$f":"CONCATENATE(\" \",IFERROR(INDEX('Step 2. IHECO'!$C$253:$C$258,_xlfn.AGGREGATE(15,6,(ROW('Step 2. IHECO'!$C$253:$C$258)-ROW('Step 2. IHECO'!$C$253)+1)/('Step 2. IHECO'!$C$253:$C$258<>\"\"),ROWS(BM$16:BM23))),\"\"))","v":" "},{"$f":"CONCATENATE(\" \",IFERROR(INDEX('Step 2. IHECO'!$C$303:$C$310,_xlfn.AGGREGATE(15,6,(ROW('Step 2. IHECO'!$C$303:$C$310)-ROW('Step 2. IHECO'!$C$303)+1)/('Step 2. IHECO'!$C$303:$C$310<>\"\"),ROWS(BN$13:BN23))),\"\"))","v":" "}]
[null,null,null,null,null,null,null,null,null,null,null,null,null,null,null,null,null,null,null,null,null,null,null,null,null,null,null,null,null,null,null,null,null,null,null,null,null,null,null,null,null,null,null,null,null,null,null,null,null,null,null,null,null,null,null,null,{"$f":"CONCATENATE(\" \",IFERROR(INDEX('Step 2. IHECO'!$C$9:$C$17,_xlfn.AGGREGATE(15,6,(ROW('Step 2. IHECO'!$C$9:$C$17)-ROW('Step 2. IHECO'!$C$9)+1)/('Step 2. IHECO'!$C$9:$C$17<>\"\"),ROWS(BE$24:BE24))),\"\"))","v":" 1.2.1. Las declaraciones de misión, visión y valores son claras, específicas, se desarrollaron de un modo participativo y son una descripción convincente de las aspiraciones."},{"$f":"CONCATENATE(\" \",IFERROR(INDEX('Step 2. IHECO'!$C$40:$C$52,_xlfn.AGGREGATE(15,6,(ROW('Step 2. IHECO'!$C$40:$C$52)-ROW('Step 2. IHECO'!$C$40)+1)/('Step 2. IHECO'!$C$40:$C$52<>\"\"),ROWS(BF$24:BF24))),\"\"))","v":" 2.2.1. La estrategia refleja la misión, la visión y los valores de la organización."},{"$f":"BG3","v":" 3.2. Gestión de la generación de informes y de la información"},{"$f":"CONCATENATE(\" \",IFERROR(INDEX('Step 2. IHECO'!$C$94:$C$99,_xlfn.AGGREGATE(15,6,(ROW('Step 2. IHECO'!$C$94:$C$99)-ROW('Step 2. IHECO'!$C$94)+1)/('Step 2. IHECO'!$C$94:$C$99<>\"\"),ROWS(BH$24:BH24))),\"\"))","v":" 4.2.1. La organización establece vínculos programáticos y técnicos con organizaciones nacionales e internacionales y el sector privado con el fin de obtener ventajas y recursos que mejoran su habilidad para lograr su misión."},{"$f":"CONCATENATE(\" \",IFERROR(INDEX('Step 2. IHECO'!$C$104:$C$113,_xlfn.AGGREGATE(15,6,(ROW('Step 2. IHECO'!$C$104:$C$113)-ROW('Step 2. IHECO'!$C$104)+1)/('Step 2. IHECO'!$C$104:$C$113<>\"\"),ROWS(BI$12:BI24))),\"\"))","v":" "},{"$f":"CONCATENATE(\" \",IFERROR(INDEX('Step 2. IHECO'!$C$151:$C$153,_xlfn.AGGREGATE(15,6,(ROW('Step 2. IHECO'!$C$151:$C$153)-ROW('Step 2. IHECO'!$C$151)+1)/('Step 2. IHECO'!$C$151:$C$153<>\"\"),ROWS(BJ$24:BJ24))),\"\"))","v":" 6.2.1. El personal y la dirección reflexionan y analizan las experiencias y los datos para la toma de decisiones sobre prácticas de gestión y programas."},{"$f":"CONCATENATE(\" \",IFERROR(INDEX('Step 2. IHECO'!$C$163:$C$169,_xlfn.AGGREGATE(15,6,(ROW('Step 2. IHECO'!$C$163:$C$169)-ROW('Step 2. IHECO'!$C$163)+1)/('Step 2. IHECO'!$C$163:$C$169<>\"\"),ROWS(BK$15:BK24))),\"\"))","v":" "},{"$f":"BL3","v":" 8.2. Sistemas financieros"},{"$f":"CONCATENATE(\" \",IFERROR(INDEX('Step 2. IHECO'!$C$253:$C$258,_xlfn.AGGREGATE(15,6,(ROW('Step 2. IHECO'!$C$253:$C$258)-ROW('Step 2. IHECO'!$C$253)+1)/('Step 2. IHECO'!$C$253:$C$258<>\"\"),ROWS(BM$16:BM24))),\"\"))","v":" "},{"$f":"CONCATENATE(\" \",IFERROR(INDEX('Step 2. IHECO'!$C$303:$C$310,_xlfn.AGGREGATE(15,6,(ROW('Step 2. IHECO'!$C$303:$C$310)-ROW('Step 2. IHECO'!$C$303)+1)/('Step 2. IHECO'!$C$303:$C$310<>\"\"),ROWS(BN$13:BN24))),\"\"))","v":" "}]
[null,null,null,null,null,null,null,null,null,null,null,null,null,null,null,null,null,null,null,null,null,null,null,null,null,null,null,null,null,null,null,null,null,null,null,null,null,null,null,null,null,null,null,null,null,null,null,null,null,null,null,null,null,null,null,null,{"$f":"CONCATENATE(\" \",IFERROR(INDEX('Step 2. IHECO'!$C$9:$C$17,_xlfn.AGGREGATE(15,6,(ROW('Step 2. IHECO'!$C$9:$C$17)-ROW('Step 2. IHECO'!$C$9)+1)/('Step 2. IHECO'!$C$9:$C$17<>\"\"),ROWS(BE$24:BE25))),\"\"))","v":" 1.2.2. Las declaraciones de misión, visión y valores reflejan las necesidades de la comunidad a la que sirve la organización."},{"$f":"CONCATENATE(\" \",IFERROR(INDEX('Step 2. IHECO'!$C$40:$C$52,_xlfn.AGGREGATE(15,6,(ROW('Step 2. IHECO'!$C$40:$C$52)-ROW('Step 2. IHECO'!$C$40)+1)/('Step 2. IHECO'!$C$40:$C$52<>\"\"),ROWS(BF$24:BF25))),\"\"))","v":" 2.2.2. La estrategia promueve el desarrollo humano."},{"$f":"CONCATENATE(\" \",IFERROR(INDEX('Step 2. IHECO'!$C$68:$C$71,_xlfn.AGGREGATE(15,6,(ROW('Step 2. IHECO'!$C$68:$C$71)-ROW('Step 2. IHECO'!$C$68)+1)/('Step 2. IHECO'!$C$68:$C$71<>\"\"),ROWS(BG$25:BG25))),\"\"))","v":" 3.2.1. Hay procedimientos actualizados en vigor para el intercambio de información y la generación de informes internos y externos, y todo el personal sigue los procedimientos."},{"$f":"CONCATENATE(\" \",IFERROR(INDEX('Step 2. IHECO'!$C$94:$C$99,_xlfn.AGGREGATE(15,6,(ROW('Step 2. IHECO'!$C$94:$C$99)-ROW('Step 2. IHECO'!$C$94)+1)/('Step 2. IHECO'!$C$94:$C$99<>\"\"),ROWS(BH$24:BH25))),\"\"))","v":" 4.2.2. La organización tiene como prioridad ser miembro de coaliciones, redes y alianzas, y juega un papel de liderazgo según corresponda."},{"$f":"CONCATENATE(\" \",IFERROR(INDEX('Step 2. IHECO'!$C$104:$C$113,_xlfn.AGGREGATE(15,6,(ROW('Step 2. IHECO'!$C$104:$C$113)-ROW('Step 2. IHECO'!$C$104)+1)/('Step 2. IHECO'!$C$104:$C$113<>\"\"),ROWS(BI$12:BI25))),\"\"))","v":" "},{"$f":"CONCATENATE(\" \",IFERROR(INDEX('Step 2. IHECO'!$C$151:$C$153,_xlfn.AGGREGATE(15,6,(ROW('Step 2. IHECO'!$C$151:$C$153)-ROW('Step 2. IHECO'!$C$151)+1)/('Step 2. IHECO'!$C$151:$C$153<>\"\"),ROWS(BJ$24:BJ25))),\"\"))","v":" 6.2.2. El personal y la dirección reflexionan regularmente sobre los proyectos, los programas y las estrategias antes, durante y después de su implementación, y documentan las lecciones aprendidas y las mejores prácticas."},{"$f":"CONCATENATE(\" \",IFERROR(INDEX('Step 2. IHECO'!$C$163:$C$169,_xlfn.AGGREGATE(15,6,(ROW('Step 2. IHECO'!$C$163:$C$169)-ROW('Step 2. IHECO'!$C$163)+1)/('Step 2. IHECO'!$C$163:$C$169<>\"\"),ROWS(BK$15:BK25))),\"\"))","v":" "},{"$f":"CONCATENATE(\" \",IFERROR(INDEX('Step 2. IHECO'!$C$204:$C$209,_xlfn.AGGREGATE(15,6,(ROW('Step 2. IHECO'!$C$204:$C$209)-ROW('Step 2. IHECO'!$C$204)+1)/('Step 2. IHECO'!$C$204:$C$209<>\"\"),ROWS(BL$25:BL25))),\"\"))","v":" 8.2.1. La organización mantiene un libro mayor formal con contabilidad por partida doble."},{"$f":"CONCATENATE(\" \",IFERROR(INDEX('Step 2. IHECO'!$C$253:$C$258,_xlfn.AGGREGATE(15,6,(ROW('Step 2. IHECO'!$C$253:$C$258)-ROW('Step 2. IHECO'!$C$253)+1)/('Step 2. IHECO'!$C$253:$C$258<>\"\"),ROWS(BM$16:BM25))),\"\"))","v":" "},{"$f":"CONCATENATE(\" \",IFERROR(INDEX('Step 2. IHECO'!$C$303:$C$310,_xlfn.AGGREGATE(15,6,(ROW('Step 2. IHECO'!$C$303:$C$310)-ROW('Step 2. IHECO'!$C$303)+1)/('Step 2. IHECO'!$C$303:$C$310<>\"\"),ROWS(BN$13:BN25))),\"\"))","v":" "}]
[null,null,null,null,null,null,null,null,null,null,null,null,null,null,null,null,null,null,null,null,null,null,null,null,null,null,null,null,null,null,null,null,null,null,null,null,null,null,null,null,null,null,null,null,null,null,null,null,null,null,null,null,null,null,null,null,{"$f":"CONCATENATE(\" \",IFERROR(INDEX('Step 2. IHECO'!$C$9:$C$17,_xlfn.AGGREGATE(15,6,(ROW('Step 2. IHECO'!$C$9:$C$17)-ROW('Step 2. IHECO'!$C$9)+1)/('Step 2. IHECO'!$C$9:$C$17<>\"\"),ROWS(BE$24:BE26))),\"\"))","v":" 1.2.3. Las declaraciones de misión, visión y valores cuentan con la aprobación de la junta directiva."},{"$f":"CONCATENATE(\" \",IFERROR(INDEX('Step 2. IHECO'!$C$40:$C$52,_xlfn.AGGREGATE(15,6,(ROW('Step 2. IHECO'!$C$40:$C$52)-ROW('Step 2. IHECO'!$C$40)+1)/('Step 2. IHECO'!$C$40:$C$52<>\"\"),ROWS(BF$24:BF26))),\"\"))","v":" 2.2.3. El ejercicio de la planificación estratégica se lleva a cabo periódicamente."},{"$f":"CONCATENATE(\" \",IFERROR(INDEX('Step 2. IHECO'!$C$68:$C$71,_xlfn.AGGREGATE(15,6,(ROW('Step 2. IHECO'!$C$68:$C$71)-ROW('Step 2. IHECO'!$C$68)+1)/('Step 2. IHECO'!$C$68:$C$71<>\"\"),ROWS(BG$25:BG26))),\"\"))","v":" 3.2.2. Todos los documentos de la organización se archivan y guardan sistemáticamente conforme a procedimientos documentados y se los pone a disposición de todas las partes correspondientes según sea necesario."},{"$f":"CONCATENATE(\" \",IFERROR(INDEX('Step 2. IHECO'!$C$94:$C$99,_xlfn.AGGREGATE(15,6,(ROW('Step 2. IHECO'!$C$94:$C$99)-ROW('Step 2. IHECO'!$C$94)+1)/('Step 2. IHECO'!$C$94:$C$99<>\"\"),ROWS(BH$24:BH26))),\"\"))","v":" 4.2.3. La organización tiene acuerdos escritos con sus asociaciones, que ayudan a definir y fomentar la confianza y la cooperación."},{"$f":"CONCATENATE(\" \",IFERROR(INDEX('Step 2. IHECO'!$C$104:$C$113,_xlfn.AGGREGATE(15,6,(ROW('Step 2. IHECO'!$C$104:$C$113)-ROW('Step 2. IHECO'!$C$104)+1)/('Step 2. IHECO'!$C$104:$C$113<>\"\"),ROWS(BI$12:BI26))),\"\"))","v":" "},{"$f":"CONCATENATE(\" \",IFERROR(INDEX('Step 2. IHECO'!$C$151:$C$153,_xlfn.AGGREGATE(15,6,(ROW('Step 2. IHECO'!$C$151:$C$153)-ROW('Step 2. IHECO'!$C$151)+1)/('Step 2. IHECO'!$C$151:$C$153<>\"\"),ROWS(BJ$24:BJ26))),\"\"))","v":" 6.2.3. La organización incorpora las lecciones aprendidas y las mejores prácticas en las prácticas organizativas y las actividades de los programas."},{"$f":"CONCATENATE(\" \",IFERROR(INDEX('Step 2. IHECO'!$C$163:$C$169,_xlfn.AGGREGATE(15,6,(ROW('Step 2. IHECO'!$C$163:$C$169)-ROW('Step 2. IHECO'!$C$163)+1)/('Step 2. IHECO'!$C$163:$C$169<>\"\"),ROWS(BK$15:BK26))),\"\"))","v":" "},{"$f":"CONCATENATE(\" \",IFERROR(INDEX('Step 2. IHECO'!$C$204:$C$209,_xlfn.AGGREGATE(15,6,(ROW('Step 2. IHECO'!$C$204:$C$209)-ROW('Step 2. IHECO'!$C$204)+1)/('Step 2. IHECO'!$C$204:$C$209<>\"\"),ROWS(BL$25:BL26))),\"\"))","v":" 8.2.2. Todas las transacciones financieras se registran en el libro mayor de contabilidad y hay un empleado que tiene la responsabilidad principal de hacerlo."},{"$f":"CONCATENATE(\" \",IFERROR(INDEX('Step 2. IHECO'!$C$253:$C$258,_xlfn.AGGREGATE(15,6,(ROW('Step 2. IHECO'!$C$253:$C$258)-ROW('Step 2. IHECO'!$C$253)+1)/('Step 2. IHECO'!$C$253:$C$258<>\"\"),ROWS(BM$16:BM26))),\"\"))","v":" "},{"$f":"BN3","v":" 10.2. Dimensiones organizacionales: dotación de personal, contratación, promoción y retención"}]
[null,null,null,null,null,null,null,null,null,null,null,null,null,null,null,null,null,null,null,null,null,null,null,null,null,null,null,null,null,null,null,null,null,null,null,null,null,null,null,null,null,null,null,null,null,null,null,null,null,null,null,null,null,null,null,null,{"$f":"CONCATENATE(\" \",IFERROR(INDEX('Step 2. IHECO'!$C$9:$C$17,_xlfn.AGGREGATE(15,6,(ROW('Step 2. IHECO'!$C$9:$C$17)-ROW('Step 2. IHECO'!$C$9)+1)/('Step 2. IHECO'!$C$9:$C$17<>\"\"),ROWS(BE$24:BE27))),\"\"))","v":" 1.2.4. Las declaraciones de misión, visión y valores están claramente expresadas para las partes interesadas, los miembros de la comunidad y el personal, y estos las conocen y las entienden."},{"$f":"CONCATENATE(\" \",IFERROR(INDEX('Step 2. IHECO'!$C$40:$C$52,_xlfn.AGGREGATE(15,6,(ROW('Step 2. IHECO'!$C$40:$C$52)-ROW('Step 2. IHECO'!$C$40)+1)/('Step 2. IHECO'!$C$40:$C$52<>\"\"),ROWS(BF$24:BF27))),\"\"))","v":" 2.2.4. La gerencia superior lidera el desarrollo del plan estratégico de la organización."},{"$f":"CONCATENATE(\" \",IFERROR(INDEX('Step 2. IHECO'!$C$68:$C$71,_xlfn.AGGREGATE(15,6,(ROW('Step 2. IHECO'!$C$68:$C$71)-ROW('Step 2. IHECO'!$C$68)+1)/('Step 2. IHECO'!$C$68:$C$71<>\"\"),ROWS(BG$25:BG27))),\"\"))","v":" 3.2.3. El personal de todos los niveles se adhiere a los protocolos de comunicación establecidos."},{"$f":"CONCATENATE(\" \",IFERROR(INDEX('Step 2. IHECO'!$C$94:$C$99,_xlfn.AGGREGATE(15,6,(ROW('Step 2. IHECO'!$C$94:$C$99)-ROW('Step 2. IHECO'!$C$94)+1)/('Step 2. IHECO'!$C$94:$C$99<>\"\"),ROWS(BH$24:BH27))),\"\"))","v":" 4.2.4. La organización consulta regularmente a las partes interesadas principales para promover el debate sobre cuestiones de política, defensoría, evaluación de necesidades, financiamiento, diseño de proyectos, implementación y evaluación de la supervisión y el impacto."},{"$f":"BI3","v":" 5.2. Sostenibilidad organizativa"},{"$f":"CONCATENATE(\" \",IFERROR(INDEX('Step 2. IHECO'!$C$151:$C$153,_xlfn.AGGREGATE(15,6,(ROW('Step 2. IHECO'!$C$151:$C$153)-ROW('Step 2. IHECO'!$C$151)+1)/('Step 2. IHECO'!$C$151:$C$153<>\"\"),ROWS(BJ$24:BJ27))),\"\"))","v":" "},{"$f":"BK3","v":" 7.2. Sistemas de gestión de recursos humanos"},{"$f":"CONCATENATE(\" \",IFERROR(INDEX('Step 2. IHECO'!$C$204:$C$209,_xlfn.AGGREGATE(15,6,(ROW('Step 2. IHECO'!$C$204:$C$209)-ROW('Step 2. IHECO'!$C$204)+1)/('Step 2. IHECO'!$C$204:$C$209<>\"\"),ROWS(BL$25:BL27))),\"\"))","v":" 8.2.3. Los ciclos y los períodos contables están definidos y se siguen los procedimientos de cierre."},{"$f":"BM3","v":" 9.2. Involucramiento de las partes interesadas en los proyectos"},{"$f":"CONCATENATE(\" \",IFERROR(INDEX('Step 2. IHECO'!$C$311:$C$317,_xlfn.AGGREGATE(15,6,(ROW('Step 2. IHECO'!$C$311:$C$317)-ROW('Step 2. IHECO'!$C$311)+1)/('Step 2. IHECO'!$C$311:$C$317<>\"\"),ROWS(BN$27:BN27))),\"\"))","v":" 10.2.1. El personal de la organización se compone de una proporción equitativa de hombres y mujeres.  "}]
[null,null,null,null,null,null,null,null,null,null,null,null,null,null,null,null,null,null,null,null,null,null,null,null,null,null,null,null,null,null,null,null,null,null,null,null,null,null,null,null,null,null,null,null,null,null,null,null,null,null,null,null,null,null,null,null,{"$f":"CONCATENATE(\" \",IFERROR(INDEX('Step 2. IHECO'!$C$9:$C$17,_xlfn.AGGREGATE(15,6,(ROW('Step 2. IHECO'!$C$9:$C$17)-ROW('Step 2. IHECO'!$C$9)+1)/('Step 2. IHECO'!$C$9:$C$17<>\"\"),ROWS(BE$24:BE28))),\"\"))","v":" 1.2.5. Las declaraciones de misión, visión y valores están incorporadas en los sistemas y las políticas existentes."},{"$f":"CONCATENATE(\" \",IFERROR(INDEX('Step 2. IHECO'!$C$40:$C$52,_xlfn.AGGREGATE(15,6,(ROW('Step 2. IHECO'!$C$40:$C$52)-ROW('Step 2. IHECO'!$C$40)+1)/('Step 2. IHECO'!$C$40:$C$52<>\"\"),ROWS(BF$24:BF28))),\"\"))","v":" 2.2.5. La organización cuenta con pericia interna, o la capacidad de usar pericia externa eficientemente, para guiar la planificación estratégica."},{"$f":"CONCATENATE(\" \",IFERROR(INDEX('Step 2. IHECO'!$C$68:$C$71,_xlfn.AGGREGATE(15,6,(ROW('Step 2. IHECO'!$C$68:$C$71)-ROW('Step 2. IHECO'!$C$68)+1)/('Step 2. IHECO'!$C$68:$C$71<>\"\"),ROWS(BG$25:BG28))),\"\"))","v":" 3.2.4. El personal mantiene archivos confidenciales de cada empleado y se da acceso a estos conforme a los requisitos de las leyes locales y a un procedimiento especificado."},{"$f":"CONCATENATE(\" \",IFERROR(INDEX('Step 2. IHECO'!$C$94:$C$99,_xlfn.AGGREGATE(15,6,(ROW('Step 2. IHECO'!$C$94:$C$99)-ROW('Step 2. IHECO'!$C$94)+1)/('Step 2. IHECO'!$C$94:$C$99<>\"\"),ROWS(BH$24:BH28))),\"\"))","v":" 4.2.5. La información sobre los servicios actuales o planificados, otras actividades y resultados se comparten rutinariamente con las comunidades beneficiarias objetivo y con otras partes interesadas."},{"$f":"CONCATENATE(\" \",IFERROR(INDEX('Step 2. IHECO'!$C$114:$C$119,_xlfn.AGGREGATE(15,6,(ROW('Step 2. IHECO'!$C$114:$C$119)-ROW('Step 2. IHECO'!$C$114)+1)/('Step 2. IHECO'!$C$114:$C$119<>\"\"),ROWS(BI$28:BI28))),\"\"))","v":" 5.2.1. La gerencia cuenta con pleno apoyo de la junta directiva o de otras estructuras de gobierno para alcanzar su misión y visión, y mantener la autonomía respecto de los donadores."},{"$f":"CONCATENATE(\" \",IFERROR(INDEX('Step 2. IHECO'!$C$151:$C$153,_xlfn.AGGREGATE(15,6,(ROW('Step 2. IHECO'!$C$151:$C$153)-ROW('Step 2. IHECO'!$C$151)+1)/('Step 2. IHECO'!$C$151:$C$153<>\"\"),ROWS(BJ$24:BJ28))),\"\"))","v":" "},{"$f":"CONCATENATE(\" \",IFERROR(INDEX('Step 2. IHECO'!$C$170:$C$176,_xlfn.AGGREGATE(15,6,(ROW('Step 2. IHECO'!$C$170:$C$176)-ROW('Step 2. IHECO'!$C$170)+1)/('Step 2. IHECO'!$C$170:$C$176<>\"\"),ROWS(BK$28:BK28))),\"\"))","v":" 7.2.1. El equipo de gestión de recursos humanos está dirigido por una persona calificada y experimentada."},{"$f":"CONCATENATE(\" \",IFERROR(INDEX('Step 2. IHECO'!$C$204:$C$209,_xlfn.AGGREGATE(15,6,(ROW('Step 2. IHECO'!$C$204:$C$209)-ROW('Step 2. IHECO'!$C$204)+1)/('Step 2. IHECO'!$C$204:$C$209<>\"\"),ROWS(BL$25:BL28))),\"\"))","v":" 8.2.4. La organización tiene un plan de cuentas que identifica todos los activos, pasivos, ingresos y gastos por separado."},{"$f":"CONCATENATE(\" \",IFERROR(INDEX('Step 2. IHECO'!$C$259:$C$263,_xlfn.AGGREGATE(15,6,(ROW('Step 2. IHECO'!$C$259:$C$263)-ROW('Step 2. IHECO'!$C$259)+1)/('Step 2. IHECO'!$C$259:$C$263<>\"\"),ROWS(BM$28:BM28))),\"\"))","v":" 9.2.1. La organización tiene un proceso participativo y estandarizado para efectuar un análisis de las partes interesadas y el personal de los proyectos lo aplica en todos los proyectos."},{"$f":"CONCATENATE(\" \",IFERROR(INDEX('Step 2. IHECO'!$C$311:$C$317,_xlfn.AGGREGATE(15,6,(ROW('Step 2. IHECO'!$C$311:$C$317)-ROW('Step 2. IHECO'!$C$311)+1)/('Step 2. IHECO'!$C$311:$C$317<>\"\"),ROWS(BN$27:BN28))),\"\"))","v":" 10.2.2. Las mujeres y los hombres están representados por igual en el equipo de administración superior de la organización. "}]
[null,null,null,null,null,null,null,null,null,null,null,null,null,null,null,null,null,null,null,null,null,null,null,null,null,null,null,null,null,null,null,null,null,null,null,null,null,null,null,null,null,null,null,null,null,null,null,null,null,null,null,null,null,null,null,null,{"$f":"CONCATENATE(\" \",IFERROR(INDEX('Step 2. IHECO'!$C$9:$C$17,_xlfn.AGGREGATE(15,6,(ROW('Step 2. IHECO'!$C$9:$C$17)-ROW('Step 2. IHECO'!$C$9)+1)/('Step 2. IHECO'!$C$9:$C$17<>\"\"),ROWS(BE$24:BE29))),\"\"))","v":" 1.2.6. Las declaraciones de misión, visión y valores se usan para guiar la toma de decisiones y las actividades diarias."},{"$f":"CONCATENATE(\" \",IFERROR(INDEX('Step 2. IHECO'!$C$40:$C$52,_xlfn.AGGREGATE(15,6,(ROW('Step 2. IHECO'!$C$40:$C$52)-ROW('Step 2. IHECO'!$C$40)+1)/('Step 2. IHECO'!$C$40:$C$52<>\"\"),ROWS(BF$24:BF29))),\"\"))","v":" 2.2.6. El plan estratégico está desarrollado de un modo participativo que involucra al personal, las partes interesadas y las comunidades que reciben el impacto de la estrategia."},{"$f":"CONCATENATE(\" \",IFERROR(INDEX('Step 2. IHECO'!$C$68:$C$71,_xlfn.AGGREGATE(15,6,(ROW('Step 2. IHECO'!$C$68:$C$71)-ROW('Step 2. IHECO'!$C$68)+1)/('Step 2. IHECO'!$C$68:$C$71<>\"\"),ROWS(BG$25:BG29))),\"\"))","v":" "},{"$f":"CONCATENATE(\" \",IFERROR(INDEX('Step 2. IHECO'!$C$94:$C$99,_xlfn.AGGREGATE(15,6,(ROW('Step 2. IHECO'!$C$94:$C$99)-ROW('Step 2. IHECO'!$C$94)+1)/('Step 2. IHECO'!$C$94:$C$99<>\"\"),ROWS(BH$24:BH29))),\"\"))","v":" 4.2.6. La organización supervisa la eficacia de sus asociaciones con otras organizaciones a través de reflexiones e informes documentados."},{"$f":"CONCATENATE(\" \",IFERROR(INDEX('Step 2. IHECO'!$C$114:$C$119,_xlfn.AGGREGATE(15,6,(ROW('Step 2. IHECO'!$C$114:$C$119)-ROW('Step 2. IHECO'!$C$114)+1)/('Step 2. IHECO'!$C$114:$C$119<>\"\"),ROWS(BI$28:BI29))),\"\"))","v":" 5.2.2. La organización tiene capacidad interna, redes y reputación para atraer y retener personal calificado que adhiere a su misión y valores."},{"$f":"CONCATENATE(\" \",IFERROR(INDEX('Step 2. IHECO'!$C$151:$C$153,_xlfn.AGGREGATE(15,6,(ROW('Step 2. IHECO'!$C$151:$C$153)-ROW('Step 2. IHECO'!$C$151)+1)/('Step 2. IHECO'!$C$151:$C$153<>\"\"),ROWS(BJ$24:BJ29))),\"\"))","v":" "},{"$f":"CONCATENATE(\" \",IFERROR(INDEX('Step 2. IHECO'!$C$170:$C$176,_xlfn.AGGREGATE(15,6,(ROW('Step 2. IHECO'!$C$170:$C$176)-ROW('Step 2. IHECO'!$C$170)+1)/('Step 2. IHECO'!$C$170:$C$176<>\"\"),ROWS(BK$28:BK29))),\"\"))","v":" 7.2.2. La organización asigna personal calificado a la gestión de cada una de sus unidades operativas principales."},{"$f":"CONCATENATE(\" \",IFERROR(INDEX('Step 2. IHECO'!$C$204:$C$209,_xlfn.AGGREGATE(15,6,(ROW('Step 2. IHECO'!$C$204:$C$209)-ROW('Step 2. IHECO'!$C$204)+1)/('Step 2. IHECO'!$C$204:$C$209<>\"\"),ROWS(BL$25:BL29))),\"\"))","v":" 8.2.5. El libro mayor de contabilidad o un libro contable secundario divide en categorías todos los gastos por proyecto, actividad o departamento."},{"$f":"CONCATENATE(\" \",IFERROR(INDEX('Step 2. IHECO'!$C$259:$C$263,_xlfn.AGGREGATE(15,6,(ROW('Step 2. IHECO'!$C$259:$C$263)-ROW('Step 2. IHECO'!$C$259)+1)/('Step 2. IHECO'!$C$259:$C$263<>\"\"),ROWS(BM$28:BM29))),\"\"))","v":" 9.2.2. Las principales partes interesadas están satisfechas con los servicios, los proyectos y los programas de la organización."},{"$f":"CONCATENATE(\" \",IFERROR(INDEX('Step 2. IHECO'!$C$311:$C$317,_xlfn.AGGREGATE(15,6,(ROW('Step 2. IHECO'!$C$311:$C$317)-ROW('Step 2. IHECO'!$C$311)+1)/('Step 2. IHECO'!$C$311:$C$317<>\"\"),ROWS(BN$27:BN29))),\"\"))","v":" 10.2.3. La organización cuenta con estrategias proactivas para mejorar la proporción de hombres y mujeres en su dotación de personal, en particular a nivel de la administración superior."}]
[null,null,null,null,null,null,null,null,null,null,null,null,null,null,null,null,null,null,null,null,null,null,null,null,null,null,null,null,null,null,null,null,null,null,null,null,null,null,null,null,null,null,null,null,null,null,null,null,null,null,null,null,null,null,null,null,{"$f":"CONCATENATE(\" \",IFERROR(INDEX('Step 2. IHECO'!$C$9:$C$17,_xlfn.AGGREGATE(15,6,(ROW('Step 2. IHECO'!$C$9:$C$17)-ROW('Step 2. IHECO'!$C$9)+1)/('Step 2. IHECO'!$C$9:$C$17<>\"\"),ROWS(BE$24:BE30))),\"\"))","v":" 1.2.7. La organización cumple con su misión y visión sin depender de los donadores."},{"$f":"CONCATENATE(\" \",IFERROR(INDEX('Step 2. IHECO'!$C$40:$C$52,_xlfn.AGGREGATE(15,6,(ROW('Step 2. IHECO'!$C$40:$C$52)-ROW('Step 2. IHECO'!$C$40)+1)/('Step 2. IHECO'!$C$40:$C$52<>\"\"),ROWS(BF$24:BF30))),\"\"))","v":" 2.2.7. El análisis del entorno interno y externo, incluidas las tendencias principales, es parte del proceso de planificación estratégica de la organización."},{"$f":"CONCATENATE(\" \",IFERROR(INDEX('Step 2. IHECO'!$C$68:$C$71,_xlfn.AGGREGATE(15,6,(ROW('Step 2. IHECO'!$C$68:$C$71)-ROW('Step 2. IHECO'!$C$68)+1)/('Step 2. IHECO'!$C$68:$C$71<>\"\"),ROWS(BG$25:BG30))),\"\"))","v":" "},{"$f":"CONCATENATE(\" \",IFERROR(INDEX('Step 2. IHECO'!$C$94:$C$99,_xlfn.AGGREGATE(15,6,(ROW('Step 2. IHECO'!$C$94:$C$99)-ROW('Step 2. IHECO'!$C$94)+1)/('Step 2. IHECO'!$C$94:$C$99<>\"\"),ROWS(BH$24:BH30))),\"\"))","v":" "},{"$f":"CONCATENATE(\" \",IFERROR(INDEX('Step 2. IHECO'!$C$114:$C$119,_xlfn.AGGREGATE(15,6,(ROW('Step 2. IHECO'!$C$114:$C$119)-ROW('Step 2. IHECO'!$C$114)+1)/('Step 2. IHECO'!$C$114:$C$119<>\"\"),ROWS(BI$28:BI30))),\"\"))","v":" 5.2.3. Las estructuras y los sistemas de gestión de la organización son flexibles y se adaptan a la escala del programa y a los cambios en la dirección estratégica."},{"$f":"CONCATENATE(\" \",IFERROR(INDEX('Step 2. IHECO'!$C$151:$C$153,_xlfn.AGGREGATE(15,6,(ROW('Step 2. IHECO'!$C$151:$C$153)-ROW('Step 2. IHECO'!$C$151)+1)/('Step 2. IHECO'!$C$151:$C$153<>\"\"),ROWS(BJ$24:BJ30))),\"\"))","v":" "},{"$f":"CONCATENATE(\" \",IFERROR(INDEX('Step 2. IHECO'!$C$170:$C$176,_xlfn.AGGREGATE(15,6,(ROW('Step 2. IHECO'!$C$170:$C$176)-ROW('Step 2. IHECO'!$C$170)+1)/('Step 2. IHECO'!$C$170:$C$176<>\"\"),ROWS(BK$28:BK30))),\"\"))","v":" 7.2.3. Las políticas y los procedimientos de recursos humanos reflejan los valores y principios de la organización."},{"$f":"CONCATENATE(\" \",IFERROR(INDEX('Step 2. IHECO'!$C$204:$C$209,_xlfn.AGGREGATE(15,6,(ROW('Step 2. IHECO'!$C$204:$C$209)-ROW('Step 2. IHECO'!$C$204)+1)/('Step 2. IHECO'!$C$204:$C$209<>\"\"),ROWS(BL$25:BL30))),\"\"))","v":" 8.2.6. El libro mayor de contabilidad, ya sea manual o computarizado, tiene salvaguardias para mantener la integridad de los datos."},{"$f":"CONCATENATE(\" \",IFERROR(INDEX('Step 2. IHECO'!$C$259:$C$263,_xlfn.AGGREGATE(15,6,(ROW('Step 2. IHECO'!$C$259:$C$263)-ROW('Step 2. IHECO'!$C$259)+1)/('Step 2. IHECO'!$C$259:$C$263<>\"\"),ROWS(BM$28:BM30))),\"\"))","v":" 9.2.3. El personal de los proyectos involucra activamente a las partes interesadas en el diseño, mejoramiento y modificación del proceso de planificación e implementación."},{"$f":"CONCATENATE(\" \",IFERROR(INDEX('Step 2. IHECO'!$C$311:$C$317,_xlfn.AGGREGATE(15,6,(ROW('Step 2. IHECO'!$C$311:$C$317)-ROW('Step 2. IHECO'!$C$311)+1)/('Step 2. IHECO'!$C$311:$C$317<>\"\"),ROWS(BN$27:BN30))),\"\"))","v":" 10.2.4. En los procesos de contratación se evalúa la sensibilidad de los candidatos con respecto al género (se incluyen las cuestiones de género en las entrevistas laborales para comprender las actitudes y la experiencia de los candidatos con relación al género) y se toman las decisiones de contratación en consecuencia."}]
[null,null,null,null,null,null,null,null,null,null,null,null,null,null,null,null,null,null,null,null,null,null,null,null,null,null,null,null,null,null,null,null,null,null,null,null,null,null,null,null,null,null,null,null,null,null,null,null,null,null,null,null,null,null,null,null,{"$f":"CONCATENATE(\" \",IFERROR(INDEX('Step 2. IHECO'!$C$9:$C$17,_xlfn.AGGREGATE(15,6,(ROW('Step 2. IHECO'!$C$9:$C$17)-ROW('Step 2. IHECO'!$C$9)+1)/('Step 2. IHECO'!$C$9:$C$17<>\"\"),ROWS(BE$24:BE31))),\"\"))","v":" 1.2.8. Las declaraciones de misión y visión reflejan los valores de la organización."},{"$f":"CONCATENATE(\" \",IFERROR(INDEX('Step 2. IHECO'!$C$40:$C$52,_xlfn.AGGREGATE(15,6,(ROW('Step 2. IHECO'!$C$40:$C$52)-ROW('Step 2. IHECO'!$C$40)+1)/('Step 2. IHECO'!$C$40:$C$52<>\"\"),ROWS(BF$24:BF31))),\"\"))","v":" 2.2.8. El plan estratégico es claro, realista y alcanzable."},{"$f":"CONCATENATE(\" \",IFERROR(INDEX('Step 2. IHECO'!$C$68:$C$71,_xlfn.AGGREGATE(15,6,(ROW('Step 2. IHECO'!$C$68:$C$71)-ROW('Step 2. IHECO'!$C$68)+1)/('Step 2. IHECO'!$C$68:$C$71<>\"\"),ROWS(BG$25:BG31))),\"\"))","v":" "},{"$f":"CONCATENATE(\" \",IFERROR(INDEX('Step 2. IHECO'!$C$94:$C$99,_xlfn.AGGREGATE(15,6,(ROW('Step 2. IHECO'!$C$94:$C$99)-ROW('Step 2. IHECO'!$C$94)+1)/('Step 2. IHECO'!$C$94:$C$99<>\"\"),ROWS(BH$24:BH31))),\"\"))","v":" "},{"$f":"CONCATENATE(\" \",IFERROR(INDEX('Step 2. IHECO'!$C$114:$C$119,_xlfn.AGGREGATE(15,6,(ROW('Step 2. IHECO'!$C$114:$C$119)-ROW('Step 2. IHECO'!$C$114)+1)/('Step 2. IHECO'!$C$114:$C$119<>\"\"),ROWS(BI$28:BI31))),\"\"))","v":" 5.2.4. La gerencia superior promueve activamente el desarrollo del liderazgo y la promoción de nuevos líderes dentro de la organización."},{"$f":"CONCATENATE(\" \",IFERROR(INDEX('Step 2. IHECO'!$C$151:$C$153,_xlfn.AGGREGATE(15,6,(ROW('Step 2. IHECO'!$C$151:$C$153)-ROW('Step 2. IHECO'!$C$151)+1)/('Step 2. IHECO'!$C$151:$C$153<>\"\"),ROWS(BJ$24:BJ31))),\"\"))","v":" "},{"$f":"CONCATENATE(\" \",IFERROR(INDEX('Step 2. IHECO'!$C$170:$C$176,_xlfn.AGGREGATE(15,6,(ROW('Step 2. IHECO'!$C$170:$C$176)-ROW('Step 2. IHECO'!$C$170)+1)/('Step 2. IHECO'!$C$170:$C$176<>\"\"),ROWS(BK$28:BK31))),\"\"))","v":" 7.2.4. Las políticas y los procedimientos de recursos humanos están documentados y el personal tiene acceso a ellos."},{"$f":"CONCATENATE(\" \",IFERROR(INDEX('Step 2. IHECO'!$C$204:$C$209,_xlfn.AGGREGATE(15,6,(ROW('Step 2. IHECO'!$C$204:$C$209)-ROW('Step 2. IHECO'!$C$204)+1)/('Step 2. IHECO'!$C$204:$C$209<>\"\"),ROWS(BL$25:BL31))),\"\"))","v":" "},{"$f":"CONCATENATE(\" \",IFERROR(INDEX('Step 2. IHECO'!$C$259:$C$263,_xlfn.AGGREGATE(15,6,(ROW('Step 2. IHECO'!$C$259:$C$263)-ROW('Step 2. IHECO'!$C$259)+1)/('Step 2. IHECO'!$C$259:$C$263<>\"\"),ROWS(BM$28:BM31))),\"\"))","v":" 9.2.4. La organización analiza y diseña proyectos basados en el impacto que causarán en las poblaciones no beneficiarias o de partes interesadas para mitigar los conflictos."},{"$f":"CONCATENATE(\" \",IFERROR(INDEX('Step 2. IHECO'!$C$311:$C$317,_xlfn.AGGREGATE(15,6,(ROW('Step 2. IHECO'!$C$311:$C$317)-ROW('Step 2. IHECO'!$C$311)+1)/('Step 2. IHECO'!$C$311:$C$317<>\"\"),ROWS(BN$27:BN31))),\"\"))","v":" 10.2.5. El personal masculino y femenino —tanto de operaciones como de programas— ha sido capacitados en materia de igualdad entre los géneros."}]
[null,null,null,null,null,null,null,null,null,null,null,null,null,null,null,null,null,null,null,null,null,null,null,null,null,null,null,null,null,null,null,null,null,null,null,null,null,null,null,null,null,null,null,null,null,null,null,null,null,null,null,null,null,null,null,null,{"$f":"CONCATENATE(\" \",IFERROR(INDEX('Step 2. IHECO'!$C$9:$C$17,_xlfn.AGGREGATE(15,6,(ROW('Step 2. IHECO'!$C$9:$C$17)-ROW('Step 2. IHECO'!$C$9)+1)/('Step 2. IHECO'!$C$9:$C$17<>\"\"),ROWS(BE$24:BE32))),\"\"))","v":" 1.2.9. Los integrantes del personal pueden explicar eficazmente la misión, la visión y los principios de la organización a los socios y a las partes interesadas externas."},{"$f":"CONCATENATE(\" \",IFERROR(INDEX('Step 2. IHECO'!$C$40:$C$52,_xlfn.AGGREGATE(15,6,(ROW('Step 2. IHECO'!$C$40:$C$52)-ROW('Step 2. IHECO'!$C$40)+1)/('Step 2. IHECO'!$C$40:$C$52<>\"\"),ROWS(BF$24:BF32))),\"\"))","v":" 2.2.9. Los marcos de tiempo para lograr las metas y los objetivos estratégicos están establecidos claramente."},{"$f":"CONCATENATE(\" \",IFERROR(INDEX('Step 2. IHECO'!$C$68:$C$71,_xlfn.AGGREGATE(15,6,(ROW('Step 2. IHECO'!$C$68:$C$71)-ROW('Step 2. IHECO'!$C$68)+1)/('Step 2. IHECO'!$C$68:$C$71<>\"\"),ROWS(BG$25:BG32))),\"\"))","v":" "},{"$f":"CONCATENATE(\" \",IFERROR(INDEX('Step 2. IHECO'!$C$94:$C$99,_xlfn.AGGREGATE(15,6,(ROW('Step 2. IHECO'!$C$94:$C$99)-ROW('Step 2. IHECO'!$C$94)+1)/('Step 2. IHECO'!$C$94:$C$99<>\"\"),ROWS(BH$24:BH32))),\"\"))","v":" "},{"$f":"CONCATENATE(\" \",IFERROR(INDEX('Step 2. IHECO'!$C$114:$C$119,_xlfn.AGGREGATE(15,6,(ROW('Step 2. IHECO'!$C$114:$C$119)-ROW('Step 2. IHECO'!$C$114)+1)/('Step 2. IHECO'!$C$114:$C$119<>\"\"),ROWS(BI$28:BI32))),\"\"))","v":" 5.2.5. Hay una cultura de rendición de cuentas y transparencia que cuenta con pautas escritas que consideran repercusiones si se las infringe."},{"$f":"BJ4","v":" 6.3. Documentación, almacenamiento e intercambio de conocimientos"},{"$f":"CONCATENATE(\" \",IFERROR(INDEX('Step 2. IHECO'!$C$170:$C$176,_xlfn.AGGREGATE(15,6,(ROW('Step 2. IHECO'!$C$170:$C$176)-ROW('Step 2. IHECO'!$C$170)+1)/('Step 2. IHECO'!$C$170:$C$176<>\"\"),ROWS(BK$28:BK32))),\"\"))","v":" 7.2.5. Las políticas y los procedimientos de recursos humanos se basan en las leyes laborales locales y contienen secciones específicas para proteger los derechos de todas las personas, inclusive del acoso sexual, el nepotismo y el conflicto de intereses."},{"$f":"CONCATENATE(\" \",IFERROR(INDEX('Step 2. IHECO'!$C$204:$C$209,_xlfn.AGGREGATE(15,6,(ROW('Step 2. IHECO'!$C$204:$C$209)-ROW('Step 2. IHECO'!$C$204)+1)/('Step 2. IHECO'!$C$204:$C$209<>\"\"),ROWS(BL$25:BL32))),\"\"))","v":" "},{"$f":"CONCATENATE(\" \",IFERROR(INDEX('Step 2. IHECO'!$C$259:$C$263,_xlfn.AGGREGATE(15,6,(ROW('Step 2. IHECO'!$C$259:$C$263)-ROW('Step 2. IHECO'!$C$259)+1)/('Step 2. IHECO'!$C$259:$C$263<>\"\"),ROWS(BM$28:BM32))),\"\"))","v":" 9.2.5. La organización colabora con las partes interesadas para optimizar el uso de los recursos naturales."},{"$f":"CONCATENATE(\" \",IFERROR(INDEX('Step 2. IHECO'!$C$311:$C$317,_xlfn.AGGREGATE(15,6,(ROW('Step 2. IHECO'!$C$311:$C$317)-ROW('Step 2. IHECO'!$C$311)+1)/('Step 2. IHECO'!$C$311:$C$317<>\"\"),ROWS(BN$27:BN32))),\"\"))","v":" 10.2.6. En los últimos cinco años la organización ha llevado a cabo un análisis de la igualdad de salarios, para evaluar las posibles disparidades entre los salarios de los funcionarios hombres y mujeres, tras el cual realizó los ajustes necesarios."}]
[null,null,null,null,null,null,null,null,null,null,null,null,null,null,null,null,null,null,null,null,null,null,null,null,null,null,null,null,null,null,null,null,null,null,null,null,null,null,null,null,null,null,null,null,null,null,null,null,null,null,null,null,null,null,null,null,{"$f":"CONCATENATE(\" \",IFERROR(INDEX('Step 2. IHECO'!$C$9:$C$17,_xlfn.AGGREGATE(15,6,(ROW('Step 2. IHECO'!$C$9:$C$17)-ROW('Step 2. IHECO'!$C$9)+1)/('Step 2. IHECO'!$C$9:$C$17<>\"\"),ROWS(BE$24:BE33))),\"\"))","v":" "},{"$f":"CONCATENATE(\" \",IFERROR(INDEX('Step 2. IHECO'!$C$40:$C$52,_xlfn.AGGREGATE(15,6,(ROW('Step 2. IHECO'!$C$40:$C$52)-ROW('Step 2. IHECO'!$C$40)+1)/('Step 2. IHECO'!$C$40:$C$52<>\"\"),ROWS(BF$24:BF33))),\"\"))","v":" 2.2.10. La gerencia usa la estrategia para tomar decisiones."},{"$f":"CONCATENATE(\" \",IFERROR(INDEX('Step 2. IHECO'!$C$68:$C$71,_xlfn.AGGREGATE(15,6,(ROW('Step 2. IHECO'!$C$68:$C$71)-ROW('Step 2. IHECO'!$C$68)+1)/('Step 2. IHECO'!$C$68:$C$71<>\"\"),ROWS(BG$25:BG33))),\"\"))","v":" "},{"$f":"CONCATENATE(\" \",IFERROR(INDEX('Step 2. IHECO'!$C$94:$C$99,_xlfn.AGGREGATE(15,6,(ROW('Step 2. IHECO'!$C$94:$C$99)-ROW('Step 2. IHECO'!$C$94)+1)/('Step 2. IHECO'!$C$94:$C$99<>\"\"),ROWS(BH$24:BH33))),\"\"))","v":" "},{"$f":"CONCATENATE(\" \",IFERROR(INDEX('Step 2. IHECO'!$C$114:$C$119,_xlfn.AGGREGATE(15,6,(ROW('Step 2. IHECO'!$C$114:$C$119)-ROW('Step 2. IHECO'!$C$114)+1)/('Step 2. IHECO'!$C$114:$C$119<>\"\"),ROWS(BI$28:BI33))),\"\"))","v":" 5.2.6. La organización supervisa la eficacia de sus asociaciones con otras organizaciones según se documenta a través de informes."},{"$f":"CONCATENATE(\" \",IFERROR(INDEX('Step 2. IHECO'!$C$154:$C$158,_xlfn.AGGREGATE(15,6,(ROW('Step 2. IHECO'!$C$154:$C$158)-ROW('Step 2. IHECO'!$C$154)+1)/('Step 2. IHECO'!$C$154:$C$158<>\"\"),ROWS(BJ$33:BJ33))),\"\"))","v":" 6.3.1. El personal administra activamente la base de conocimientos mediante la creación de productos basados en los conocimientos, la recopilación de productos basados en conocimientos creados externamente y la mantención de productos actualizados."},{"$f":"CONCATENATE(\" \",IFERROR(INDEX('Step 2. IHECO'!$C$170:$C$176,_xlfn.AGGREGATE(15,6,(ROW('Step 2. IHECO'!$C$170:$C$176)-ROW('Step 2. IHECO'!$C$170)+1)/('Step 2. IHECO'!$C$170:$C$176<>\"\"),ROWS(BK$28:BK33))),\"\"))","v":" 7.2.6. Las políticas y los procedimientos de recursos humanos se aplican de manera justa y uniforme."},{"$f":"CONCATENATE(\" \",IFERROR(INDEX('Step 2. IHECO'!$C$204:$C$209,_xlfn.AGGREGATE(15,6,(ROW('Step 2. IHECO'!$C$204:$C$209)-ROW('Step 2. IHECO'!$C$204)+1)/('Step 2. IHECO'!$C$204:$C$209<>\"\"),ROWS(BL$25:BL33))),\"\"))","v":" "},{"$f":"CONCATENATE(\" \",IFERROR(INDEX('Step 2. IHECO'!$C$259:$C$263,_xlfn.AGGREGATE(15,6,(ROW('Step 2. IHECO'!$C$259:$C$263)-ROW('Step 2. IHECO'!$C$259)+1)/('Step 2. IHECO'!$C$259:$C$263<>\"\"),ROWS(BM$28:BM33))),\"\"))","v":" "},{"$f":"CONCATENATE(\" \",IFERROR(INDEX('Step 2. IHECO'!$C$311:$C$317,_xlfn.AGGREGATE(15,6,(ROW('Step 2. IHECO'!$C$311:$C$317)-ROW('Step 2. IHECO'!$C$311)+1)/('Step 2. IHECO'!$C$311:$C$317<>\"\"),ROWS(BN$27:BN33))),\"\"))","v":" 10.2.7. Hay miembros del personal (por ejemplo, asesores en materia de género con responsabilidad de género en el título de su puesto o puntos focales de género con responsabilidad de género en sus planes de desarrollo del desempeño) a quienes se les asigna la responsabilidad formal de incorporar o defender la integración y la igualdad entre los géneros."}]
[null,null,null,null,null,null,null,null,null,null,null,null,null,null,null,null,null,null,null,null,null,null,null,null,null,null,null,null,null,null,null,null,null,null,null,null,null,null,null,null,null,null,null,null,null,null,null,null,null,null,null,null,null,null,null,null,{"$f":"CONCATENATE(\" \",IFERROR(INDEX('Step 2. IHECO'!$C$9:$C$17,_xlfn.AGGREGATE(15,6,(ROW('Step 2. IHECO'!$C$9:$C$17)-ROW('Step 2. IHECO'!$C$9)+1)/('Step 2. IHECO'!$C$9:$C$17<>\"\"),ROWS(BE$24:BE34))),\"\"))","v":" "},{"$f":"CONCATENATE(\" \",IFERROR(INDEX('Step 2. IHECO'!$C$40:$C$52,_xlfn.AGGREGATE(15,6,(ROW('Step 2. IHECO'!$C$40:$C$52)-ROW('Step 2. IHECO'!$C$40)+1)/('Step 2. IHECO'!$C$40:$C$52<>\"\"),ROWS(BF$24:BF34))),\"\"))","v":" 2.2.11. La estrategia ayuda constantemente a impulsar el comportamiento deseado en todos los niveles de la organización."},{"$f":"BG4","v":" 3.3. Relaciones de equipo"},{"$f":"CONCATENATE(\" \",IFERROR(INDEX('Step 2. IHECO'!$C$94:$C$99,_xlfn.AGGREGATE(15,6,(ROW('Step 2. IHECO'!$C$94:$C$99)-ROW('Step 2. IHECO'!$C$94)+1)/('Step 2. IHECO'!$C$94:$C$99<>\"\"),ROWS(BH$24:BH34))),\"\"))","v":" "},{"$f":"CONCATENATE(\" \",IFERROR(INDEX('Step 2. IHECO'!$C$114:$C$119,_xlfn.AGGREGATE(15,6,(ROW('Step 2. IHECO'!$C$114:$C$119)-ROW('Step 2. IHECO'!$C$114)+1)/('Step 2. IHECO'!$C$114:$C$119<>\"\"),ROWS(BI$28:BI34))),\"\"))","v":" "},{"$f":"CONCATENATE(\" \",IFERROR(INDEX('Step 2. IHECO'!$C$154:$C$158,_xlfn.AGGREGATE(15,6,(ROW('Step 2. IHECO'!$C$154:$C$158)-ROW('Step 2. IHECO'!$C$154)+1)/('Step 2. IHECO'!$C$154:$C$158<>\"\"),ROWS(BJ$33:BJ34))),\"\"))","v":" 6.3.2. Los conocimientos documentados están en formatos que presentan la información más relevante para las audiencias objetivo."},{"$f":"CONCATENATE(\" \",IFERROR(INDEX('Step 2. IHECO'!$C$170:$C$176,_xlfn.AGGREGATE(15,6,(ROW('Step 2. IHECO'!$C$170:$C$176)-ROW('Step 2. IHECO'!$C$170)+1)/('Step 2. IHECO'!$C$170:$C$176<>\"\"),ROWS(BK$28:BK34))),\"\"))","v":" 7.2.7. Las políticas y los procedimientos de la organización se supervisan y modifican regularmente, según sea necesario, con las contribuciones del personal."},{"$f":"CONCATENATE(\" \",IFERROR(INDEX('Step 2. IHECO'!$C$204:$C$209,_xlfn.AGGREGATE(15,6,(ROW('Step 2. IHECO'!$C$204:$C$209)-ROW('Step 2. IHECO'!$C$204)+1)/('Step 2. IHECO'!$C$204:$C$209<>\"\"),ROWS(BL$25:BL34))),\"\"))","v":" "},{"$f":"CONCATENATE(\" \",IFERROR(INDEX('Step 2. IHECO'!$C$259:$C$263,_xlfn.AGGREGATE(15,6,(ROW('Step 2. IHECO'!$C$259:$C$263)-ROW('Step 2. IHECO'!$C$259)+1)/('Step 2. IHECO'!$C$259:$C$263<>\"\"),ROWS(BM$28:BM34))),\"\"))","v":" "},{"$f":"CONCATENATE(\" \",IFERROR(INDEX('Step 2. IHECO'!$C$311:$C$317,_xlfn.AGGREGATE(15,6,(ROW('Step 2. IHECO'!$C$311:$C$317)-ROW('Step 2. IHECO'!$C$311)+1)/('Step 2. IHECO'!$C$311:$C$317<>\"\"),ROWS(BN$27:BN34))),\"\"))","v":" "}]
[null,null,null,null,null,null,null,null,null,null,null,null,null,null,null,null,null,null,null,null,null,null,null,null,null,null,null,null,null,null,null,null,null,null,null,null,null,null,null,null,null,null,null,null,null,null,null,null,null,null,null,null,null,null,null,null,{"$f":"CONCATENATE(\" \",IFERROR(INDEX('Step 2. IHECO'!$C$9:$C$17,_xlfn.AGGREGATE(15,6,(ROW('Step 2. IHECO'!$C$9:$C$17)-ROW('Step 2. IHECO'!$C$9)+1)/('Step 2. IHECO'!$C$9:$C$17<>\"\"),ROWS(BE$24:BE35))),\"\"))","v":" "},{"$f":"CONCATENATE(\" \",IFERROR(INDEX('Step 2. IHECO'!$C$40:$C$52,_xlfn.AGGREGATE(15,6,(ROW('Step 2. IHECO'!$C$40:$C$52)-ROW('Step 2. IHECO'!$C$40)+1)/('Step 2. IHECO'!$C$40:$C$52<>\"\"),ROWS(BF$24:BF35))),\"\"))","v":" 2.2.12. Las iniciativas se desarrollan e implementan de maneras que son coherentes con el plan estratégico de la organización."},{"$f":"CONCATENATE(\" \",IFERROR(INDEX('Step 2. IHECO'!$C$72:$C$74,_xlfn.AGGREGATE(15,6,(ROW('Step 2. IHECO'!$C$72:$C$74)-ROW('Step 2. IHECO'!$C$72)+1)/('Step 2. IHECO'!$C$72:$C$74<>\"\"),ROWS(BG$35:BG35))),\"\"))","v":" 3.3.1. La gerencia respalda un entorno de trabajo en equipo que es constructivo y brinda apoyo."},{"$f":"BH4","v":" 4.3. Relaciones con los donadores"},{"$f":"CONCATENATE(\" \",IFERROR(INDEX('Step 2. IHECO'!$C$114:$C$119,_xlfn.AGGREGATE(15,6,(ROW('Step 2. IHECO'!$C$114:$C$119)-ROW('Step 2. IHECO'!$C$114)+1)/('Step 2. IHECO'!$C$114:$C$119<>\"\"),ROWS(BI$28:BI35))),\"\"))","v":" "},{"$f":"CONCATENATE(\" \",IFERROR(INDEX('Step 2. IHECO'!$C$154:$C$158,_xlfn.AGGREGATE(15,6,(ROW('Step 2. IHECO'!$C$154:$C$158)-ROW('Step 2. IHECO'!$C$154)+1)/('Step 2. IHECO'!$C$154:$C$158<>\"\"),ROWS(BJ$33:BJ35))),\"\"))","v":" 6.3.3. Todo el personal accede fácilmente y contribuye a la base de conocimientos, sin importar su cargo o responsabilidad."},{"$f":"CONCATENATE(\" \",IFERROR(INDEX('Step 2. IHECO'!$C$170:$C$176,_xlfn.AGGREGATE(15,6,(ROW('Step 2. IHECO'!$C$170:$C$176)-ROW('Step 2. IHECO'!$C$170)+1)/('Step 2. IHECO'!$C$170:$C$176<>\"\"),ROWS(BK$28:BK35))),\"\"))","v":" "},{"$f":"CONCATENATE(\" \",IFERROR(INDEX('Step 2. IHECO'!$C$204:$C$209,_xlfn.AGGREGATE(15,6,(ROW('Step 2. IHECO'!$C$204:$C$209)-ROW('Step 2. IHECO'!$C$204)+1)/('Step 2. IHECO'!$C$204:$C$209<>\"\"),ROWS(BL$25:BL35))),\"\"))","v":" "},{"$f":"CONCATENATE(\" \",IFERROR(INDEX('Step 2. IHECO'!$C$259:$C$263,_xlfn.AGGREGATE(15,6,(ROW('Step 2. IHECO'!$C$259:$C$263)-ROW('Step 2. IHECO'!$C$259)+1)/('Step 2. IHECO'!$C$259:$C$263<>\"\"),ROWS(BM$28:BM35))),\"\"))","v":" "},{"$f":"CONCATENATE(\" \",IFERROR(INDEX('Step 2. IHECO'!$C$311:$C$317,_xlfn.AGGREGATE(15,6,(ROW('Step 2. IHECO'!$C$311:$C$317)-ROW('Step 2. IHECO'!$C$311)+1)/('Step 2. IHECO'!$C$311:$C$317<>\"\"),ROWS(BN$27:BN35))),\"\"))","v":" "}]
[null,null,null,null,null,null,null,null,null,null,null,null,null,null,null,null,null,null,null,null,null,null,null,null,null,null,null,null,null,null,null,null,null,null,null,null,null,null,null,null,null,null,null,null,null,null,null,null,null,null,null,null,null,null,null,null,{"$f":"CONCATENATE(\" \",IFERROR(INDEX('Step 2. IHECO'!$C$9:$C$17,_xlfn.AGGREGATE(15,6,(ROW('Step 2. IHECO'!$C$9:$C$17)-ROW('Step 2. IHECO'!$C$9)+1)/('Step 2. IHECO'!$C$9:$C$17<>\"\"),ROWS(BE$24:BE36))),\"\"))","v":" "},{"$f":"CONCATENATE(\" \",IFERROR(INDEX('Step 2. IHECO'!$C$40:$C$52,_xlfn.AGGREGATE(15,6,(ROW('Step 2. IHECO'!$C$40:$C$52)-ROW('Step 2. IHECO'!$C$40)+1)/('Step 2. IHECO'!$C$40:$C$52<>\"\"),ROWS(BF$24:BF36))),\"\"))","v":" 2.2.13. La estrategia se revisa y actualiza periódicamente de un modo participativo y representativo por parte del personal, las partes interesadas y las comunidades."},{"$f":"CONCATENATE(\" \",IFERROR(INDEX('Step 2. IHECO'!$C$72:$C$74,_xlfn.AGGREGATE(15,6,(ROW('Step 2. IHECO'!$C$72:$C$74)-ROW('Step 2. IHECO'!$C$72)+1)/('Step 2. IHECO'!$C$72:$C$74<>\"\"),ROWS(BG$35:BG36))),\"\"))","v":" 3.3.2. Hay respeto mutuo, confianza y cooperación entre los empleados de todos los niveles de la organización."},{"$f":"CONCATENATE(\" \",IFERROR(INDEX('Step 2. IHECO'!$C$100:$C$101,_xlfn.AGGREGATE(15,6,(ROW('Step 2. IHECO'!$C$100:$C$101)-ROW('Step 2. IHECO'!$C$100)+1)/('Step 2. IHECO'!$C$100:$C$101<>\"\"),ROWS(BH$36:BH36))),\"\"))","v":" 4.3.1. La organización aprovecha adecuadamente los recursos del gobierno y los donadores para sí misma, sus socios y las comunidades."},{"$f":"CONCATENATE(\" \",IFERROR(INDEX('Step 2. IHECO'!$C$114:$C$119,_xlfn.AGGREGATE(15,6,(ROW('Step 2. IHECO'!$C$114:$C$119)-ROW('Step 2. IHECO'!$C$114)+1)/('Step 2. IHECO'!$C$114:$C$119<>\"\"),ROWS(BI$28:BI36))),\"\"))","v":" "},{"$f":"CONCATENATE(\" \",IFERROR(INDEX('Step 2. IHECO'!$C$154:$C$158,_xlfn.AGGREGATE(15,6,(ROW('Step 2. IHECO'!$C$154:$C$158)-ROW('Step 2. IHECO'!$C$154)+1)/('Step 2. IHECO'!$C$154:$C$158<>\"\"),ROWS(BJ$33:BJ36))),\"\"))","v":" 6.3.4. Hay tecnologías de almacenamiento e intercambio en vigor que son adecuadas para la ubicación, los recursos y las capacidades de los usuarios."},{"$f":"CONCATENATE(\" \",IFERROR(INDEX('Step 2. IHECO'!$C$170:$C$176,_xlfn.AGGREGATE(15,6,(ROW('Step 2. IHECO'!$C$170:$C$176)-ROW('Step 2. IHECO'!$C$170)+1)/('Step 2. IHECO'!$C$170:$C$176<>\"\"),ROWS(BK$28:BK36))),\"\"))","v":" "},{"$f":"BL4","v":" 8.3. Documentación y mantenimiento de registros"},{"$f":"CONCATENATE(\" \",IFERROR(INDEX('Step 2. IHECO'!$C$259:$C$263,_xlfn.AGGREGATE(15,6,(ROW('Step 2. IHECO'!$C$259:$C$263)-ROW('Step 2. IHECO'!$C$259)+1)/('Step 2. IHECO'!$C$259:$C$263<>\"\"),ROWS(BM$28:BM36))),\"\"))","v":" "},{"$f":"CONCATENATE(\" \",IFERROR(INDEX('Step 2. IHECO'!$C$311:$C$317,_xlfn.AGGREGATE(15,6,(ROW('Step 2. IHECO'!$C$311:$C$317)-ROW('Step 2. IHECO'!$C$311)+1)/('Step 2. IHECO'!$C$311:$C$317<>\"\"),ROWS(BN$27:BN36))),\"\"))","v":" "}]
[null,null,null,null,null,null,null,null,null,null,null,null,null,null,null,null,null,null,null,null,null,null,null,null,null,null,null,null,null,null,null,null,null,null,null,null,null,null,null,null,null,null,null,null,null,null,null,null,null,null,null,null,null,null,null,null,{"$f":"CONCATENATE(\" \",IFERROR(INDEX('Step 2. IHECO'!$C$9:$C$17,_xlfn.AGGREGATE(15,6,(ROW('Step 2. IHECO'!$C$9:$C$17)-ROW('Step 2. IHECO'!$C$9)+1)/('Step 2. IHECO'!$C$9:$C$17<>\"\"),ROWS(BE$24:BE37))),\"\"))","v":" "},{"$f":"CONCATENATE(\" \",IFERROR(INDEX('Step 2. IHECO'!$C$40:$C$52,_xlfn.AGGREGATE(15,6,(ROW('Step 2. IHECO'!$C$40:$C$52)-ROW('Step 2. IHECO'!$C$40)+1)/('Step 2. IHECO'!$C$40:$C$52<>\"\"),ROWS(BF$24:BF37))),\"\"))","v":" "},{"$f":"CONCATENATE(\" \",IFERROR(INDEX('Step 2. IHECO'!$C$72:$C$74,_xlfn.AGGREGATE(15,6,(ROW('Step 2. IHECO'!$C$72:$C$74)-ROW('Step 2. IHECO'!$C$72)+1)/('Step 2. IHECO'!$C$72:$C$74<>\"\"),ROWS(BG$35:BG37))),\"\"))","v":" 3.3.3. Las actividades programadas de formación de equipos posibilitan la colaboración y la comunicación abierta de los equipos, y fomentan la buena moral del personal."},{"$f":"CONCATENATE(\" \",IFERROR(INDEX('Step 2. IHECO'!$C$100:$C$101,_xlfn.AGGREGATE(15,6,(ROW('Step 2. IHECO'!$C$100:$C$101)-ROW('Step 2. IHECO'!$C$100)+1)/('Step 2. IHECO'!$C$100:$C$101<>\"\"),ROWS(BH$36:BH37))),\"\"))","v":" 4.3.2. La organización es conocida, reconocida y respetada por donadores internacionales y locales, otros actores de la sociedad civil y funcionarios del gobierno según corresponda a las capacidades de la organización y al entorno socioeconómico y político."},{"$f":"CONCATENATE(\" \",IFERROR(INDEX('Step 2. IHECO'!$C$114:$C$119,_xlfn.AGGREGATE(15,6,(ROW('Step 2. IHECO'!$C$114:$C$119)-ROW('Step 2. IHECO'!$C$114)+1)/('Step 2. IHECO'!$C$114:$C$119<>\"\"),ROWS(BI$28:BI37))),\"\"))","v":" "},{"$f":"CONCATENATE(\" \",IFERROR(INDEX('Step 2. IHECO'!$C$154:$C$158,_xlfn.AGGREGATE(15,6,(ROW('Step 2. IHECO'!$C$154:$C$158)-ROW('Step 2. IHECO'!$C$154)+1)/('Step 2. IHECO'!$C$154:$C$158<>\"\"),ROWS(BJ$33:BJ37))),\"\"))","v":" 6.3.5. Los conocimientos se comparten externamente con organizaciones similares, donadores y participantes, de modo que estos puedan utilizar el conocimiento de la organización para mejorar sus prácticas."},{"$f":"CONCATENATE(\" \",IFERROR(INDEX('Step 2. IHECO'!$C$170:$C$176,_xlfn.AGGREGATE(15,6,(ROW('Step 2. IHECO'!$C$170:$C$176)-ROW('Step 2. IHECO'!$C$170)+1)/('Step 2. IHECO'!$C$170:$C$176<>\"\"),ROWS(BK$28:BK37))),\"\"))","v":" "},{"$f":"CONCATENATE(\" \",IFERROR(INDEX('Step 2. IHECO'!$C$210:$C$212,_xlfn.AGGREGATE(15,6,(ROW('Step 2. IHECO'!$C$210:$C$212)-ROW('Step 2. IHECO'!$C$210)+1)/('Step 2. IHECO'!$C$210:$C$212<>\"\"),ROWS(BL$37:BL37))),\"\"))","v":" 8.3.1. Se usan formularios de asiento estándar para registrar las recepciones y los desembolsos de efectivo y asientos de diario en el libro mayor de contabilidad."},{"$f":"CONCATENATE(\" \",IFERROR(INDEX('Step 2. IHECO'!$C$259:$C$263,_xlfn.AGGREGATE(15,6,(ROW('Step 2. IHECO'!$C$259:$C$263)-ROW('Step 2. IHECO'!$C$259)+1)/('Step 2. IHECO'!$C$259:$C$263<>\"\"),ROWS(BM$28:BM37))),\"\"))","v":" "},{"$f":"CONCATENATE(\" \",IFERROR(INDEX('Step 2. IHECO'!$C$311:$C$317,_xlfn.AGGREGATE(15,6,(ROW('Step 2. IHECO'!$C$311:$C$317)-ROW('Step 2. IHECO'!$C$311)+1)/('Step 2. IHECO'!$C$311:$C$317<>\"\"),ROWS(BN$27:BN37))),\"\"))","v":" "}]
[null,null,null,null,null,null,null,null,null,null,null,null,null,null,null,null,null,null,null,null,null,null,null,null,null,null,null,null,null,null,null,null,null,null,null,null,null,null,null,null,null,null,null,null,null,null,null,null,null,null,null,null,null,null,null,null,{"$f":"BE4","v":" 1.3. Participación de las partes interesadas"},{"$f":"CONCATENATE(\" \",IFERROR(INDEX('Step 2. IHECO'!$C$40:$C$52,_xlfn.AGGREGATE(15,6,(ROW('Step 2. IHECO'!$C$40:$C$52)-ROW('Step 2. IHECO'!$C$40)+1)/('Step 2. IHECO'!$C$40:$C$52<>\"\"),ROWS(BF$24:BF38))),\"\"))","v":" "},{"$f":"CONCATENATE(\" \",IFERROR(INDEX('Step 2. IHECO'!$C$72:$C$74,_xlfn.AGGREGATE(15,6,(ROW('Step 2. IHECO'!$C$72:$C$74)-ROW('Step 2. IHECO'!$C$72)+1)/('Step 2. IHECO'!$C$72:$C$74<>\"\"),ROWS(BG$35:BG38))),\"\"))","v":" "},{"$f":"CONCATENATE(\" \",IFERROR(INDEX('Step 2. IHECO'!$C$100:$C$101,_xlfn.AGGREGATE(15,6,(ROW('Step 2. IHECO'!$C$100:$C$101)-ROW('Step 2. IHECO'!$C$100)+1)/('Step 2. IHECO'!$C$100:$C$101<>\"\"),ROWS(BH$36:BH38))),\"\"))","v":" "},{"$f":"CONCATENATE(\" \",IFERROR(INDEX('Step 2. IHECO'!$C$114:$C$119,_xlfn.AGGREGATE(15,6,(ROW('Step 2. IHECO'!$C$114:$C$119)-ROW('Step 2. IHECO'!$C$114)+1)/('Step 2. IHECO'!$C$114:$C$119<>\"\"),ROWS(BI$28:BI38))),\"\"))","v":" "},{"$f":"CONCATENATE(\" \",IFERROR(INDEX('Step 2. IHECO'!$C$154:$C$158,_xlfn.AGGREGATE(15,6,(ROW('Step 2. IHECO'!$C$154:$C$158)-ROW('Step 2. IHECO'!$C$154)+1)/('Step 2. IHECO'!$C$154:$C$158<>\"\"),ROWS(BJ$33:BJ38))),\"\"))","v":" "},{"$f":"CONCATENATE(\" \",IFERROR(INDEX('Step 2. IHECO'!$C$170:$C$176,_xlfn.AGGREGATE(15,6,(ROW('Step 2. IHECO'!$C$170:$C$176)-ROW('Step 2. IHECO'!$C$170)+1)/('Step 2. IHECO'!$C$170:$C$176<>\"\"),ROWS(BK$28:BK38))),\"\"))","v":" "},{"$f":"CONCATENATE(\" \",IFERROR(INDEX('Step 2. IHECO'!$C$210:$C$212,_xlfn.AGGREGATE(15,6,(ROW('Step 2. IHECO'!$C$210:$C$212)-ROW('Step 2. IHECO'!$C$210)+1)/('Step 2. IHECO'!$C$210:$C$212<>\"\"),ROWS(BL$37:BL38))),\"\"))","v":" 8.3.2. Todos los documentos, incluidas las facturas originales y las aprobaciones, que respaldan los asientos contables se conservan en el archivo según lo exijan las leyes locales o los requisitos del subsidio, lo que sea de mayor duración."},{"$f":"BM4","v":" 9.3. Participación de la comunidad"},{"$f":"CONCATENATE(\" \",IFERROR(INDEX('Step 2. IHECO'!$C$311:$C$317,_xlfn.AGGREGATE(15,6,(ROW('Step 2. IHECO'!$C$311:$C$317)-ROW('Step 2. IHECO'!$C$311)+1)/('Step 2. IHECO'!$C$311:$C$317<>\"\"),ROWS(BN$27:BN38))),\"\"))","v":" "}]
[null,null,null,null,null,null,null,null,null,null,null,null,null,null,null,null,null,null,null,null,null,null,null,null,null,null,null,null,null,null,null,null,null,null,null,null,null,null,null,null,null,null,null,null,null,null,null,null,null,null,null,null,null,null,null,null,{"$f":"CONCATENATE(\" \",IFERROR(INDEX('Step 2. IHECO'!$C$18:$C$20,_xlfn.AGGREGATE(15,6,(ROW('Step 2. IHECO'!$C$18:$C$20)-ROW('Step 2. IHECO'!$C$18)+1)/('Step 2. IHECO'!$C$18:$C$20<>\"\"),ROWS(BE$39:BE39))),\"\"))","v":" 1.3.1. Las partes interesadas están identificadas a través de un mapeo de partes interesadas."},{"$f":"CONCATENATE(\" \",IFERROR(INDEX('Step 2. IHECO'!$C$40:$C$52,_xlfn.AGGREGATE(15,6,(ROW('Step 2. IHECO'!$C$40:$C$52)-ROW('Step 2. IHECO'!$C$40)+1)/('Step 2. IHECO'!$C$40:$C$52<>\"\"),ROWS(BF$24:BF39))),\"\"))","v":" "},{"$f":"CONCATENATE(\" \",IFERROR(INDEX('Step 2. IHECO'!$C$72:$C$74,_xlfn.AGGREGATE(15,6,(ROW('Step 2. IHECO'!$C$72:$C$74)-ROW('Step 2. IHECO'!$C$72)+1)/('Step 2. IHECO'!$C$72:$C$74<>\"\"),ROWS(BG$35:BG39))),\"\"))","v":" "},{"$f":"CONCATENATE(\" \",IFERROR(INDEX('Step 2. IHECO'!$C$100:$C$101,_xlfn.AGGREGATE(15,6,(ROW('Step 2. IHECO'!$C$100:$C$101)-ROW('Step 2. IHECO'!$C$100)+1)/('Step 2. IHECO'!$C$100:$C$101<>\"\"),ROWS(BH$36:BH39))),\"\"))","v":" "},{"$f":"BI4","v":" 5.3. Sostenibilidad financiera y de recursos"},{"$f":"CONCATENATE(\" \",IFERROR(INDEX('Step 2. IHECO'!$C$154:$C$158,_xlfn.AGGREGATE(15,6,(ROW('Step 2. IHECO'!$C$154:$C$158)-ROW('Step 2. IHECO'!$C$154)+1)/('Step 2. IHECO'!$C$154:$C$158<>\"\"),ROWS(BJ$33:BJ39))),\"\"))","v":" "},{"$f":"CONCATENATE(\" \",IFERROR(INDEX('Step 2. IHECO'!$C$170:$C$176,_xlfn.AGGREGATE(15,6,(ROW('Step 2. IHECO'!$C$170:$C$176)-ROW('Step 2. IHECO'!$C$170)+1)/('Step 2. IHECO'!$C$170:$C$176<>\"\"),ROWS(BK$28:BK39))),\"\"))","v":" "},{"$f":"CONCATENATE(\" \",IFERROR(INDEX('Step 2. IHECO'!$C$210:$C$212,_xlfn.AGGREGATE(15,6,(ROW('Step 2. IHECO'!$C$210:$C$212)-ROW('Step 2. IHECO'!$C$210)+1)/('Step 2. IHECO'!$C$210:$C$212<>\"\"),ROWS(BL$37:BL39))),\"\"))","v":" 8.3.3. Se usan registros de tiempo estandarizados para capturar todos los cargos de tiempo."},{"$f":"CONCATENATE(\" \",IFERROR(INDEX('Step 2. IHECO'!$C$264:$C$266,_xlfn.AGGREGATE(15,6,(ROW('Step 2. IHECO'!$C$264:$C$266)-ROW('Step 2. IHECO'!$C$264)+1)/('Step 2. IHECO'!$C$264:$C$266<>\"\"),ROWS(BM$39:BM39))),\"\"))","v":" 9.3.1. La organización usa proactivamente las opiniones y comentarios que recibe de la comunidad en todas las fases del desarrollo y la gestión de los proyectos al utilizar grupos representativos de la comunidad elegidos de un modo transparente."},{"$f":"BN4","v":" 10.3. Dimensiones organizacionales: entorno laboral y liderazgo"}]
[null,null,null,null,null,null,null,null,null,null,null,null,null,null,null,null,null,null,null,null,null,null,null,null,null,null,null,null,null,null,null,null,null,null,null,null,null,null,null,null,null,null,null,null,null,null,null,null,null,null,null,null,null,null,null,null,{"$f":"CONCATENATE(\" \",IFERROR(INDEX('Step 2. IHECO'!$C$18:$C$20,_xlfn.AGGREGATE(15,6,(ROW('Step 2. IHECO'!$C$18:$C$20)-ROW('Step 2. IHECO'!$C$18)+1)/('Step 2. IHECO'!$C$18:$C$20<>\"\"),ROWS(BE$39:BE40))),\"\"))","v":" 1.3.2. La organización conoce y puede describir adecuadamente las características de las partes interesadas principales."},{"$f":"CONCATENATE(\" \",IFERROR(INDEX('Step 2. IHECO'!$C$40:$C$52,_xlfn.AGGREGATE(15,6,(ROW('Step 2. IHECO'!$C$40:$C$52)-ROW('Step 2. IHECO'!$C$40)+1)/('Step 2. IHECO'!$C$40:$C$52<>\"\"),ROWS(BF$24:BF40))),\"\"))","v":" "},{"$f":"CONCATENATE(\" \",IFERROR(INDEX('Step 2. IHECO'!$C$72:$C$74,_xlfn.AGGREGATE(15,6,(ROW('Step 2. IHECO'!$C$72:$C$74)-ROW('Step 2. IHECO'!$C$72)+1)/('Step 2. IHECO'!$C$72:$C$74<>\"\"),ROWS(BG$35:BG40))),\"\"))","v":" "},{"$f":"CONCATENATE(\" \",IFERROR(INDEX('Step 2. IHECO'!$C$100:$C$101,_xlfn.AGGREGATE(15,6,(ROW('Step 2. IHECO'!$C$100:$C$101)-ROW('Step 2. IHECO'!$C$100)+1)/('Step 2. IHECO'!$C$100:$C$101<>\"\"),ROWS(BH$36:BH40))),\"\"))","v":" "},{"$f":"CONCATENATE(\" \",IFERROR(INDEX('Step 2. IHECO'!$C$120:$C$136,_xlfn.AGGREGATE(15,6,(ROW('Step 2. IHECO'!$C$120:$C$136)-ROW('Step 2. IHECO'!$C$120)+1)/('Step 2. IHECO'!$C$120:$C$136<>\"\"),ROWS(BI$40:BI40))),\"\"))","v":" 5.3.1. La organización se asegura de que sus operaciones sean rentables y competitivas con respecto a otras organizaciones similares."},{"$f":"CONCATENATE(\" \",IFERROR(INDEX('Step 2. IHECO'!$C$154:$C$158,_xlfn.AGGREGATE(15,6,(ROW('Step 2. IHECO'!$C$154:$C$158)-ROW('Step 2. IHECO'!$C$154)+1)/('Step 2. IHECO'!$C$154:$C$158<>\"\"),ROWS(BJ$33:BJ40))),\"\"))","v":" "},{"$f":"BK4","v":" 7.3. Reclutamiento y dotación de personal"},{"$f":"CONCATENATE(\" \",IFERROR(INDEX('Step 2. IHECO'!$C$210:$C$212,_xlfn.AGGREGATE(15,6,(ROW('Step 2. IHECO'!$C$210:$C$212)-ROW('Step 2. IHECO'!$C$210)+1)/('Step 2. IHECO'!$C$210:$C$212<>\"\"),ROWS(BL$37:BL40))),\"\"))","v":" "},{"$f":"CONCATENATE(\" \",IFERROR(INDEX('Step 2. IHECO'!$C$264:$C$266,_xlfn.AGGREGATE(15,6,(ROW('Step 2. IHECO'!$C$264:$C$266)-ROW('Step 2. IHECO'!$C$264)+1)/('Step 2. IHECO'!$C$264:$C$266<>\"\"),ROWS(BM$39:BM40))),\"\"))","v":" 9.3.2. Los grupos comunitarios tradicionalmente subrepresentados obtienen un beneficio de las actividades de los proyectos."},{"$f":"CONCATENATE(\" \",IFERROR(INDEX('Step 2. IHECO'!$C$318:$C$323,_xlfn.AGGREGATE(15,6,(ROW('Step 2. IHECO'!$C$318:$C$323)-ROW('Step 2. IHECO'!$C$318)+1)/('Step 2. IHECO'!$C$318:$C$323<>\"\"),ROWS(BN$40:BN40))),\"\"))","v":" 10.3.1. Las instalaciones de la organización son aptas para el personal tanto masculino como femenino (por ejemplo, baños y espacios de oración separados, sala designada para la lactancia, etc.)."}]
[null,null,null,null,null,null,null,null,null,null,null,null,null,null,null,null,null,null,null,null,null,null,null,null,null,null,null,null,null,null,null,null,null,null,null,null,null,null,null,null,null,null,null,null,null,null,null,null,null,null,null,null,null,null,null,null,{"$f":"CONCATENATE(\" \",IFERROR(INDEX('Step 2. IHECO'!$C$18:$C$20,_xlfn.AGGREGATE(15,6,(ROW('Step 2. IHECO'!$C$18:$C$20)-ROW('Step 2. IHECO'!$C$18)+1)/('Step 2. IHECO'!$C$18:$C$20<>\"\"),ROWS(BE$39:BE41))),\"\"))","v":" 1.3.3. La participación de las partes interesadas se produce a través de una variedad de oportunidades, tales como membresía en la junta directiva, recaudación de fondos, campañas de defensoría, fijación de prioridades, etc."},{"$f":"CONCATENATE(\" \",IFERROR(INDEX('Step 2. IHECO'!$C$40:$C$52,_xlfn.AGGREGATE(15,6,(ROW('Step 2. IHECO'!$C$40:$C$52)-ROW('Step 2. IHECO'!$C$40)+1)/('Step 2. IHECO'!$C$40:$C$52<>\"\"),ROWS(BF$24:BF41))),\"\"))","v":" "},{"$f":"CONCATENATE(\" \",IFERROR(INDEX('Step 2. IHECO'!$C$72:$C$74,_xlfn.AGGREGATE(15,6,(ROW('Step 2. IHECO'!$C$72:$C$74)-ROW('Step 2. IHECO'!$C$72)+1)/('Step 2. IHECO'!$C$72:$C$74<>\"\"),ROWS(BG$35:BG41))),\"\"))","v":" "},{"$f":"CONCATENATE(\" \",IFERROR(INDEX('Step 2. IHECO'!$C$100:$C$101,_xlfn.AGGREGATE(15,6,(ROW('Step 2. IHECO'!$C$100:$C$101)-ROW('Step 2. IHECO'!$C$100)+1)/('Step 2. IHECO'!$C$100:$C$101<>\"\"),ROWS(BH$36:BH41))),\"\"))","v":" "},{"$f":"CONCATENATE(\" \",IFERROR(INDEX('Step 2. IHECO'!$C$120:$C$136,_xlfn.AGGREGATE(15,6,(ROW('Step 2. IHECO'!$C$120:$C$136)-ROW('Step 2. IHECO'!$C$120)+1)/('Step 2. IHECO'!$C$120:$C$136<>\"\"),ROWS(BI$40:BI41))),\"\"))","v":" 5.3.2. El flujo de caja de la organización es sistemáticamente adecuado para cumplir con los requisitos operativos."},{"$f":"CONCATENATE(\" \",IFERROR(INDEX('Step 2. IHECO'!$C$154:$C$158,_xlfn.AGGREGATE(15,6,(ROW('Step 2. IHECO'!$C$154:$C$158)-ROW('Step 2. IHECO'!$C$154)+1)/('Step 2. IHECO'!$C$154:$C$158<>\"\"),ROWS(BJ$33:BJ41))),\"\"))","v":" "},{"$f":"CONCATENATE(\" \",IFERROR(INDEX('Step 2. IHECO'!$C$177:$C$184,_xlfn.AGGREGATE(15,6,(ROW('Step 2. IHECO'!$C$177:$C$184)-ROW('Step 2. IHECO'!$C$177)+1)/('Step 2. IHECO'!$C$177:$C$184<>\"\"),ROWS(BK$41:BK41))),\"\"))","v":" 7.3.1. Existen descripciones precisas y actualizadas de los puestos de trabajo voluntarios y de personal basados en la misión de la organización y los requisitos del puesto."},{"$f":"CONCATENATE(\" \",IFERROR(INDEX('Step 2. IHECO'!$C$210:$C$212,_xlfn.AGGREGATE(15,6,(ROW('Step 2. IHECO'!$C$210:$C$212)-ROW('Step 2. IHECO'!$C$210)+1)/('Step 2. IHECO'!$C$210:$C$212<>\"\"),ROWS(BL$37:BL41))),\"\"))","v":" "},{"$f":"CONCATENATE(\" \",IFERROR(INDEX('Step 2. IHECO'!$C$264:$C$266,_xlfn.AGGREGATE(15,6,(ROW('Step 2. IHECO'!$C$264:$C$266)-ROW('Step 2. IHECO'!$C$264)+1)/('Step 2. IHECO'!$C$264:$C$266<>\"\"),ROWS(BM$39:BM41))),\"\"))","v":" 9.3.3. Los proyectos se basan normalmente en los conocimientos y las mejores prácticas locales."},{"$f":"CONCATENATE(\" \",IFERROR(INDEX('Step 2. IHECO'!$C$318:$C$323,_xlfn.AGGREGATE(15,6,(ROW('Step 2. IHECO'!$C$318:$C$323)-ROW('Step 2. IHECO'!$C$318)+1)/('Step 2. IHECO'!$C$318:$C$323<>\"\"),ROWS(BN$40:BN41))),\"\"))","v":" 10.3.2. El personal masculino y femenino participa por igual en las reuniones y los procesos de toma de decisiones de la organización."}]
[null,null,null,null,null,null,null,null,null,null,null,null,null,null,null,null,null,null,null,null,null,null,null,null,null,null,null,null,null,null,null,null,null,null,null,null,null,null,null,null,null,null,null,null,null,null,null,null,null,null,null,null,null,null,null,null,{"$f":"CONCATENATE(\" \",IFERROR(INDEX('Step 2. IHECO'!$C$18:$C$20,_xlfn.AGGREGATE(15,6,(ROW('Step 2. IHECO'!$C$18:$C$20)-ROW('Step 2. IHECO'!$C$18)+1)/('Step 2. IHECO'!$C$18:$C$20<>\"\"),ROWS(BE$39:BE42))),\"\"))","v":" "},{"$f":"BF4","v":" 2.3. Planes operativos"},{"$f":"CONCATENATE(\" \",IFERROR(INDEX('Step 2. IHECO'!$C$72:$C$74,_xlfn.AGGREGATE(15,6,(ROW('Step 2. IHECO'!$C$72:$C$74)-ROW('Step 2. IHECO'!$C$72)+1)/('Step 2. IHECO'!$C$72:$C$74<>\"\"),ROWS(BG$35:BG42))),\"\"))","v":" "},{"$f":"CONCATENATE(\" \",IFERROR(INDEX('Step 2. IHECO'!$C$100:$C$101,_xlfn.AGGREGATE(15,6,(ROW('Step 2. IHECO'!$C$100:$C$101)-ROW('Step 2. IHECO'!$C$100)+1)/('Step 2. IHECO'!$C$100:$C$101<>\"\"),ROWS(BH$36:BH42))),\"\"))","v":" "},{"$f":"CONCATENATE(\" \",IFERROR(INDEX('Step 2. IHECO'!$C$120:$C$136,_xlfn.AGGREGATE(15,6,(ROW('Step 2. IHECO'!$C$120:$C$136)-ROW('Step 2. IHECO'!$C$120)+1)/('Step 2. IHECO'!$C$120:$C$136<>\"\"),ROWS(BI$40:BI42))),\"\"))","v":" 5.3.3. La organización administra sus activos para controlar costos y, según corresponda, para maximizar los ingresos a fin de obtener viabilidad financiera."},{"$f":"CONCATENATE(\" \",IFERROR(INDEX('Step 2. IHECO'!$C$154:$C$158,_xlfn.AGGREGATE(15,6,(ROW('Step 2. IHECO'!$C$154:$C$158)-ROW('Step 2. IHECO'!$C$154)+1)/('Step 2. IHECO'!$C$154:$C$158<>\"\"),ROWS(BJ$33:BJ42))),\"\"))","v":" "},{"$f":"CONCATENATE(\" \",IFERROR(INDEX('Step 2. IHECO'!$C$177:$C$184,_xlfn.AGGREGATE(15,6,(ROW('Step 2. IHECO'!$C$177:$C$184)-ROW('Step 2. IHECO'!$C$177)+1)/('Step 2. IHECO'!$C$177:$C$184<>\"\"),ROWS(BK$41:BK42))),\"\"))","v":" 7.3.2. El proceso de reclutamiento está documentado y es transparente y competitivo."},{"$f":"CONCATENATE(\" \",IFERROR(INDEX('Step 2. IHECO'!$C$210:$C$212,_xlfn.AGGREGATE(15,6,(ROW('Step 2. IHECO'!$C$210:$C$212)-ROW('Step 2. IHECO'!$C$210)+1)/('Step 2. IHECO'!$C$210:$C$212<>\"\"),ROWS(BL$37:BL42))),\"\"))","v":" "},{"$f":"CONCATENATE(\" \",IFERROR(INDEX('Step 2. IHECO'!$C$264:$C$266,_xlfn.AGGREGATE(15,6,(ROW('Step 2. IHECO'!$C$264:$C$266)-ROW('Step 2. IHECO'!$C$264)+1)/('Step 2. IHECO'!$C$264:$C$266<>\"\"),ROWS(BM$39:BM42))),\"\"))","v":" "},{"$f":"CONCATENATE(\" \",IFERROR(INDEX('Step 2. IHECO'!$C$318:$C$323,_xlfn.AGGREGATE(15,6,(ROW('Step 2. IHECO'!$C$318:$C$323)-ROW('Step 2. IHECO'!$C$318)+1)/('Step 2. IHECO'!$C$318:$C$323<>\"\"),ROWS(BN$40:BN42))),\"\"))","v":" 10.3.3. El personal de ambos sexos recibe y aprovecha oportunidades de formación y desarrollo profesional de manera equitativa."}]
[null,null,null,null,null,null,null,null,null,null,null,null,null,null,null,null,null,null,null,null,null,null,null,null,null,null,null,null,null,null,null,null,null,null,null,null,null,null,null,null,null,null,null,null,null,null,null,null,null,null,null,null,null,null,null,null,{"$f":"CONCATENATE(\" \",IFERROR(INDEX('Step 2. IHECO'!$C$18:$C$20,_xlfn.AGGREGATE(15,6,(ROW('Step 2. IHECO'!$C$18:$C$20)-ROW('Step 2. IHECO'!$C$18)+1)/('Step 2. IHECO'!$C$18:$C$20<>\"\"),ROWS(BE$39:BE43))),\"\"))","v":" "},{"$f":"CONCATENATE(\" \",IFERROR(INDEX('Step 2. IHECO'!$C$53:$C$59,_xlfn.AGGREGATE(15,6,(ROW('Step 2. IHECO'!$C$53:$C$59)-ROW('Step 2. IHECO'!$C$53)+1)/('Step 2. IHECO'!$C$53:$C$59<>\"\"),ROWS(BF$43:BF43))),\"\"))","v":" 2.3.1. Los planes operativos se desarrollan para lograr los objetivos del plan estratégico y satisfacer las necesidades de aquellos a quienes sirve la organización."},{"$f":"BG5","v":" 3.4. Gestión de cambios"},{"$f":"BH5","v":" 4.4. Relaciones públicas"},{"$f":"CONCATENATE(\" \",IFERROR(INDEX('Step 2. IHECO'!$C$120:$C$136,_xlfn.AGGREGATE(15,6,(ROW('Step 2. IHECO'!$C$120:$C$136)-ROW('Step 2. IHECO'!$C$120)+1)/('Step 2. IHECO'!$C$120:$C$136<>\"\"),ROWS(BI$40:BI43))),\"\"))","v":" 5.3.4. La organización usa los recursos naturales de un modo sustentable."},{"$f":"BJ5","v":" 6.4. Comunidades de práctica"},{"$f":"CONCATENATE(\" \",IFERROR(INDEX('Step 2. IHECO'!$C$177:$C$184,_xlfn.AGGREGATE(15,6,(ROW('Step 2. IHECO'!$C$177:$C$184)-ROW('Step 2. IHECO'!$C$177)+1)/('Step 2. IHECO'!$C$177:$C$184<>\"\"),ROWS(BK$41:BK43))),\"\"))","v":" 7.3.3. Los criterios de selección del personal y de los voluntarios son compatibles con los requisitos de los puestos y las necesidades de la organización."},{"$f":"CONCATENATE(\" \",IFERROR(INDEX('Step 2. IHECO'!$C$210:$C$212,_xlfn.AGGREGATE(15,6,(ROW('Step 2. IHECO'!$C$210:$C$212)-ROW('Step 2. IHECO'!$C$210)+1)/('Step 2. IHECO'!$C$210:$C$212<>\"\"),ROWS(BL$37:BL43))),\"\"))","v":" "},{"$f":"CONCATENATE(\" \",IFERROR(INDEX('Step 2. IHECO'!$C$264:$C$266,_xlfn.AGGREGATE(15,6,(ROW('Step 2. IHECO'!$C$264:$C$266)-ROW('Step 2. IHECO'!$C$264)+1)/('Step 2. IHECO'!$C$264:$C$266<>\"\"),ROWS(BM$39:BM43))),\"\"))","v":" "},{"$f":"CONCATENATE(\" \",IFERROR(INDEX('Step 2. IHECO'!$C$318:$C$323,_xlfn.AGGREGATE(15,6,(ROW('Step 2. IHECO'!$C$318:$C$323)-ROW('Step 2. IHECO'!$C$318)+1)/('Step 2. IHECO'!$C$318:$C$323<>\"\"),ROWS(BN$40:BN43))),\"\"))","v":" 10.3.4. Los dirigentes o los principales gerentes de la organización respetan los diferentes estilos de trabajo, incluida la manera en que los hombres tienden a trabajar y la manera en que las mujeres tienden a trabajar."}]
[null,null,null,null,null,null,null,null,null,null,null,null,null,null,null,null,null,null,null,null,null,null,null,null,null,null,null,null,null,null,null,null,null,null,null,null,null,null,null,null,null,null,null,null,null,null,null,null,null,null,null,null,null,null,null,null,{"$f":"CONCATENATE(\" \",IFERROR(INDEX('Step 2. IHECO'!$C$18:$C$20,_xlfn.AGGREGATE(15,6,(ROW('Step 2. IHECO'!$C$18:$C$20)-ROW('Step 2. IHECO'!$C$18)+1)/('Step 2. IHECO'!$C$18:$C$20<>\"\"),ROWS(BE$39:BE44))),\"\"))","v":" "},{"$f":"CONCATENATE(\" \",IFERROR(INDEX('Step 2. IHECO'!$C$53:$C$59,_xlfn.AGGREGATE(15,6,(ROW('Step 2. IHECO'!$C$53:$C$59)-ROW('Step 2. IHECO'!$C$53)+1)/('Step 2. IHECO'!$C$53:$C$59<>\"\"),ROWS(BF$43:BF44))),\"\"))","v":" 2.3.2. Los planes operativos se usan para dar forma a la preparación del presupuesto."},{"$f":"CONCATENATE(\" \",IFERROR(INDEX('Step 2. IHECO'!$C$75:$C$76,_xlfn.AGGREGATE(15,6,(ROW('Step 2. IHECO'!$C$75:$C$76)-ROW('Step 2. IHECO'!$C$75)+1)/('Step 2. IHECO'!$C$75:$C$76<>\"\"),ROWS(BG$44:BG44))),\"\"))","v":" 3.4.1. La gerencia superior adopta y respalda las oportunidades de cambio dirigidas al mejoramiento y el crecimiento de la organización."},{"$f":"CONCATENATE(\" \",IFERROR(INDEX('Step 2. IHECO'!$C$102:$C$103,_xlfn.AGGREGATE(15,6,(ROW('Step 2. IHECO'!$C$102:$C$103)-ROW('Step 2. IHECO'!$C$102)+1)/('Step 2. IHECO'!$C$102:$C$103<>\"\"),ROWS(BH$44:BH44))),\"\"))","v":" 4.4.1. La organización tiene una estrategia de relaciones públicas, que se usa y regularmente se supervisa y evalúa."},{"$f":"CONCATENATE(\" \",IFERROR(INDEX('Step 2. IHECO'!$C$120:$C$136,_xlfn.AGGREGATE(15,6,(ROW('Step 2. IHECO'!$C$120:$C$136)-ROW('Step 2. IHECO'!$C$120)+1)/('Step 2. IHECO'!$C$120:$C$136<>\"\"),ROWS(BI$40:BI44))),\"\"))","v":" 5.3.5. La organización genera propuestas y conceptos creíbles y demuestra la rentabilidad de sus proyectos."},{"$f":"CONCATENATE(\" \",IFERROR(INDEX('Step 2. IHECO'!$C$159:$C$162,_xlfn.AGGREGATE(15,6,(ROW('Step 2. IHECO'!$C$159:$C$162)-ROW('Step 2. IHECO'!$C$159)+1)/('Step 2. IHECO'!$C$159:$C$162<>\"\"),ROWS(BJ$44:BJ44))),\"\"))","v":" 6.4.1. La organización ha implementado procesos y herramientas que ayudan a los integrantes del personal a comunicarse entre ellos para pedir y proporcionar asistencia."},{"$f":"CONCATENATE(\" \",IFERROR(INDEX('Step 2. IHECO'!$C$177:$C$184,_xlfn.AGGREGATE(15,6,(ROW('Step 2. IHECO'!$C$177:$C$184)-ROW('Step 2. IHECO'!$C$177)+1)/('Step 2. IHECO'!$C$177:$C$184<>\"\"),ROWS(BK$41:BK44))),\"\"))","v":" 7.3.4. La organización brinda a cada nuevo miembro del personal una orientación sobre sus principios rectores, valores y programas."},{"$f":"CONCATENATE(\" \",IFERROR(INDEX('Step 2. IHECO'!$C$210:$C$212,_xlfn.AGGREGATE(15,6,(ROW('Step 2. IHECO'!$C$210:$C$212)-ROW('Step 2. IHECO'!$C$210)+1)/('Step 2. IHECO'!$C$210:$C$212<>\"\"),ROWS(BL$37:BL44))),\"\"))","v":" "},{"$f":"CONCATENATE(\" \",IFERROR(INDEX('Step 2. IHECO'!$C$264:$C$266,_xlfn.AGGREGATE(15,6,(ROW('Step 2. IHECO'!$C$264:$C$266)-ROW('Step 2. IHECO'!$C$264)+1)/('Step 2. IHECO'!$C$264:$C$266<>\"\"),ROWS(BM$39:BM44))),\"\"))","v":" "},{"$f":"CONCATENATE(\" \",IFERROR(INDEX('Step 2. IHECO'!$C$318:$C$323,_xlfn.AGGREGATE(15,6,(ROW('Step 2. IHECO'!$C$318:$C$323)-ROW('Step 2. IHECO'!$C$318)+1)/('Step 2. IHECO'!$C$318:$C$323<>\"\"),ROWS(BN$40:BN44))),\"\"))","v":" 10.3.5. Los dirigentes o los principales gerentes de la organización toman en serio las cuestiones y los desafíos relacionados con la igualdad entre los géneros y discuten abiertamente sobre estos temas."}]
[null,null,null,null,null,null,null,null,null,null,null,null,null,null,null,null,null,null,null,null,null,null,null,null,null,null,null,null,null,null,null,null,null,null,null,null,null,null,null,null,null,null,null,null,null,null,null,null,null,null,null,null,null,null,null,null,{"$f":"CONCATENATE(\" \",IFERROR(INDEX('Step 2. IHECO'!$C$18:$C$20,_xlfn.AGGREGATE(15,6,(ROW('Step 2. IHECO'!$C$18:$C$20)-ROW('Step 2. IHECO'!$C$18)+1)/('Step 2. IHECO'!$C$18:$C$20<>\"\"),ROWS(BE$39:BE45))),\"\"))","v":" "},{"$f":"CONCATENATE(\" \",IFERROR(INDEX('Step 2. IHECO'!$C$53:$C$59,_xlfn.AGGREGATE(15,6,(ROW('Step 2. IHECO'!$C$53:$C$59)-ROW('Step 2. IHECO'!$C$53)+1)/('Step 2. IHECO'!$C$53:$C$59<>\"\"),ROWS(BF$43:BF45))),\"\"))","v":" 2.3.3. Los planes operativos son detallados y pueden implementarse dentro de un marco de tiempo específico."},{"$f":"CONCATENATE(\" \",IFERROR(INDEX('Step 2. IHECO'!$C$75:$C$76,_xlfn.AGGREGATE(15,6,(ROW('Step 2. IHECO'!$C$75:$C$76)-ROW('Step 2. IHECO'!$C$75)+1)/('Step 2. IHECO'!$C$75:$C$76<>\"\"),ROWS(BG$44:BG45))),\"\"))","v":" 3.4.2. La gerencia proporciona los recursos humanos, materiales y financieros para respaldar y recompensar las iniciativas de cambio aprobadas."},{"$f":"CONCATENATE(\" \",IFERROR(INDEX('Step 2. IHECO'!$C$102:$C$103,_xlfn.AGGREGATE(15,6,(ROW('Step 2. IHECO'!$C$102:$C$103)-ROW('Step 2. IHECO'!$C$102)+1)/('Step 2. IHECO'!$C$102:$C$103<>\"\"),ROWS(BH$44:BH45))),\"\"))","v":" 4.4.2. La persona responsable de las relaciones públicas cuenta con las calificaciones necesarias para ese fin."},{"$f":"CONCATENATE(\" \",IFERROR(INDEX('Step 2. IHECO'!$C$120:$C$136,_xlfn.AGGREGATE(15,6,(ROW('Step 2. IHECO'!$C$120:$C$136)-ROW('Step 2. IHECO'!$C$120)+1)/('Step 2. IHECO'!$C$120:$C$136<>\"\"),ROWS(BI$40:BI45))),\"\"))","v":" 5.3.6. La organización tiene el respaldo de una base diversificada de recursos sin depender excesivamente de una única fuente de financiamiento."},{"$f":"CONCATENATE(\" \",IFERROR(INDEX('Step 2. IHECO'!$C$159:$C$162,_xlfn.AGGREGATE(15,6,(ROW('Step 2. IHECO'!$C$159:$C$162)-ROW('Step 2. IHECO'!$C$159)+1)/('Step 2. IHECO'!$C$159:$C$162<>\"\"),ROWS(BJ$44:BJ45))),\"\"))","v":" 6.4.2. El personal comparte y colabora dentro de las comunidades de práctica para intercambiar información, conversar sobre los desafíos, desarrollar mejores prácticas e innovar."},{"$f":"CONCATENATE(\" \",IFERROR(INDEX('Step 2. IHECO'!$C$177:$C$184,_xlfn.AGGREGATE(15,6,(ROW('Step 2. IHECO'!$C$177:$C$184)-ROW('Step 2. IHECO'!$C$177)+1)/('Step 2. IHECO'!$C$177:$C$184<>\"\"),ROWS(BK$41:BK45))),\"\"))","v":" 7.3.5. Personal mantiene archivos confidenciales de cada miembro del personal, con documentación de cartas de oferta, aumentos de salario, ascensos, etc."},{"$f":"BL5","v":" 8.4. Control interno"},{"$f":"CONCATENATE(\" \",IFERROR(INDEX('Step 2. IHECO'!$C$264:$C$266,_xlfn.AGGREGATE(15,6,(ROW('Step 2. IHECO'!$C$264:$C$266)-ROW('Step 2. IHECO'!$C$264)+1)/('Step 2. IHECO'!$C$264:$C$266<>\"\"),ROWS(BM$39:BM45))),\"\"))","v":" "},{"$f":"CONCATENATE(\" \",IFERROR(INDEX('Step 2. IHECO'!$C$318:$C$323,_xlfn.AGGREGATE(15,6,(ROW('Step 2. IHECO'!$C$318:$C$323)-ROW('Step 2. IHECO'!$C$318)+1)/('Step 2. IHECO'!$C$318:$C$323<>\"\"),ROWS(BN$40:BN45))),\"\"))","v":" 10.3.6. Los dirigentes o los principales gerentes de la organización promueven y adoptan comportamientos que tienen en cuenta la perspectiva de género, sobre todo en lo que respecta al lenguaje utilizado y la adecuación de los chistes y los comentarios entre los miembros del personal."}]
[null,null,null,null,null,null,null,null,null,null,null,null,null,null,null,null,null,null,null,null,null,null,null,null,null,null,null,null,null,null,null,null,null,null,null,null,null,null,null,null,null,null,null,null,null,null,null,null,null,null,null,null,null,null,null,null,{"$f":"CONCATENATE(\" \",IFERROR(INDEX('Step 2. IHECO'!$C$18:$C$20,_xlfn.AGGREGATE(15,6,(ROW('Step 2. IHECO'!$C$18:$C$20)-ROW('Step 2. IHECO'!$C$18)+1)/('Step 2. IHECO'!$C$18:$C$20<>\"\"),ROWS(BE$39:BE46))),\"\"))","v":" "},{"$f":"CONCATENATE(\" \",IFERROR(INDEX('Step 2. IHECO'!$C$53:$C$59,_xlfn.AGGREGATE(15,6,(ROW('Step 2. IHECO'!$C$53:$C$59)-ROW('Step 2. IHECO'!$C$53)+1)/('Step 2. IHECO'!$C$53:$C$59<>\"\"),ROWS(BF$43:BF46))),\"\"))","v":" 2.3.4. Los planes operativos indican los recursos humanos, financieros y materiales que se necesitan para lograr los objetivos."},{"$f":"CONCATENATE(\" \",IFERROR(INDEX('Step 2. IHECO'!$C$75:$C$76,_xlfn.AGGREGATE(15,6,(ROW('Step 2. IHECO'!$C$75:$C$76)-ROW('Step 2. IHECO'!$C$75)+1)/('Step 2. IHECO'!$C$75:$C$76<>\"\"),ROWS(BG$44:BG46))),\"\"))","v":" "},{"$f":"CONCATENATE(\" \",IFERROR(INDEX('Step 2. IHECO'!$C$102:$C$103,_xlfn.AGGREGATE(15,6,(ROW('Step 2. IHECO'!$C$102:$C$103)-ROW('Step 2. IHECO'!$C$102)+1)/('Step 2. IHECO'!$C$102:$C$103<>\"\"),ROWS(BH$44:BH46))),\"\"))","v":" "},{"$f":"CONCATENATE(\" \",IFERROR(INDEX('Step 2. IHECO'!$C$120:$C$136,_xlfn.AGGREGATE(15,6,(ROW('Step 2. IHECO'!$C$120:$C$136)-ROW('Step 2. IHECO'!$C$120)+1)/('Step 2. IHECO'!$C$120:$C$136<>\"\"),ROWS(BI$40:BI46))),\"\"))","v":" 5.3.7. La organización tiene recursos locales identificados para complementar el financiamiento de donadores extranjeros."},{"$f":"CONCATENATE(\" \",IFERROR(INDEX('Step 2. IHECO'!$C$159:$C$162,_xlfn.AGGREGATE(15,6,(ROW('Step 2. IHECO'!$C$159:$C$162)-ROW('Step 2. IHECO'!$C$159)+1)/('Step 2. IHECO'!$C$159:$C$162<>\"\"),ROWS(BJ$44:BJ46))),\"\"))","v":" 6.4.3. El personal aplica el conocimiento adquirido a partir de las comunidades de práctica."},{"$f":"CONCATENATE(\" \",IFERROR(INDEX('Step 2. IHECO'!$C$177:$C$184,_xlfn.AGGREGATE(15,6,(ROW('Step 2. IHECO'!$C$177:$C$184)-ROW('Step 2. IHECO'!$C$177)+1)/('Step 2. IHECO'!$C$177:$C$184<>\"\"),ROWS(BK$41:BK46))),\"\"))","v":" 7.3.6. Todos los empleados tienen acceso a su propio archivo de personal conforme a las leyes laborales locales o a la práctica aceptada."},{"$f":"CONCATENATE(\" \",IFERROR(INDEX('Step 2. IHECO'!$C$213:$C$222,_xlfn.AGGREGATE(15,6,(ROW('Step 2. IHECO'!$C$213:$C$222)-ROW('Step 2. IHECO'!$C$213)+1)/('Step 2. IHECO'!$C$213:$C$222<>\"\"),ROWS(BL$46:BL46))),\"\"))","v":" 8.4.1. La organización tiene procesos formales para hacer pedidos, autorizar, comprar y recibir bienes y servicios, y requiere documentación estandarizada como respaldo para dichas actividades."},{"$f":"CONCATENATE(\" \",IFERROR(INDEX('Step 2. IHECO'!$C$264:$C$266,_xlfn.AGGREGATE(15,6,(ROW('Step 2. IHECO'!$C$264:$C$266)-ROW('Step 2. IHECO'!$C$264)+1)/('Step 2. IHECO'!$C$264:$C$266<>\"\"),ROWS(BM$39:BM46))),\"\"))","v":" "},{"$f":"CONCATENATE(\" \",IFERROR(INDEX('Step 2. IHECO'!$C$318:$C$323,_xlfn.AGGREGATE(15,6,(ROW('Step 2. IHECO'!$C$318:$C$323)-ROW('Step 2. IHECO'!$C$318)+1)/('Step 2. IHECO'!$C$318:$C$323<>\"\"),ROWS(BN$40:BN46))),\"\"))","v":" "}]
[null,null,null,null,null,null,null,null,null,null,null,null,null,null,null,null,null,null,null,null,null,null,null,null,null,null,null,null,null,null,null,null,null,null,null,null,null,null,null,null,null,null,null,null,null,null,null,null,null,null,null,null,null,null,null,null,{"$f":"BE5","v":" 1.4. Constitución de la organización"},{"$f":"CONCATENATE(\" \",IFERROR(INDEX('Step 2. IHECO'!$C$53:$C$59,_xlfn.AGGREGATE(15,6,(ROW('Step 2. IHECO'!$C$53:$C$59)-ROW('Step 2. IHECO'!$C$53)+1)/('Step 2. IHECO'!$C$53:$C$59<>\"\"),ROWS(BF$43:BF47))),\"\"))","v":" 2.3.5. El personal usa los planes operativos para la toma de decisiones en las operaciones del día a día."},{"$f":"CONCATENATE(\" \",IFERROR(INDEX('Step 2. IHECO'!$C$75:$C$76,_xlfn.AGGREGATE(15,6,(ROW('Step 2. IHECO'!$C$75:$C$76)-ROW('Step 2. IHECO'!$C$75)+1)/('Step 2. IHECO'!$C$75:$C$76<>\"\"),ROWS(BG$44:BG47))),\"\"))","v":" "},{"$f":"CONCATENATE(\" \",IFERROR(INDEX('Step 2. IHECO'!$C$102:$C$103,_xlfn.AGGREGATE(15,6,(ROW('Step 2. IHECO'!$C$102:$C$103)-ROW('Step 2. IHECO'!$C$102)+1)/('Step 2. IHECO'!$C$102:$C$103<>\"\"),ROWS(BH$44:BH47))),\"\"))","v":" "},{"$f":"CONCATENATE(\" \",IFERROR(INDEX('Step 2. IHECO'!$C$120:$C$136,_xlfn.AGGREGATE(15,6,(ROW('Step 2. IHECO'!$C$120:$C$136)-ROW('Step 2. IHECO'!$C$120)+1)/('Step 2. IHECO'!$C$120:$C$136<>\"\"),ROWS(BI$40:BI47))),\"\"))","v":" 5.3.8. La organización tiene estrategias y mecanismos coherentes con las áreas de sus programas centrales que son eficientes para generar ingresos sostenibles para cubrir una parte de sus costos operativos."},{"$f":"CONCATENATE(\" \",IFERROR(INDEX('Step 2. IHECO'!$C$159:$C$162,_xlfn.AGGREGATE(15,6,(ROW('Step 2. IHECO'!$C$159:$C$162)-ROW('Step 2. IHECO'!$C$159)+1)/('Step 2. IHECO'!$C$159:$C$162<>\"\"),ROWS(BJ$44:BJ47))),\"\"))","v":" 6.4.4. La organización participa activamente en redes de organizaciones similares a fin de desarrollar en forma conjunta mejores prácticas para todo el sector."},{"$f":"CONCATENATE(\" \",IFERROR(INDEX('Step 2. IHECO'!$C$177:$C$184,_xlfn.AGGREGATE(15,6,(ROW('Step 2. IHECO'!$C$177:$C$184)-ROW('Step 2. IHECO'!$C$177)+1)/('Step 2. IHECO'!$C$177:$C$184<>\"\"),ROWS(BK$41:BK47))),\"\"))","v":" 7.3.7. La organización proporciona recursos adecuados al personal para que haga su trabajo."},{"$f":"CONCATENATE(\" \",IFERROR(INDEX('Step 2. IHECO'!$C$213:$C$222,_xlfn.AGGREGATE(15,6,(ROW('Step 2. IHECO'!$C$213:$C$222)-ROW('Step 2. IHECO'!$C$213)+1)/('Step 2. IHECO'!$C$213:$C$222<>\"\"),ROWS(BL$46:BL47))),\"\"))","v":" 8.4.2. Se obtienen y documentan varias licitaciones para las compras que superan un determinado nivel."},{"$f":"BM5","v":" 9.4. Desarrollo de programas"},{"$f":"CONCATENATE(\" \",IFERROR(INDEX('Step 2. IHECO'!$C$318:$C$323,_xlfn.AGGREGATE(15,6,(ROW('Step 2. IHECO'!$C$318:$C$323)-ROW('Step 2. IHECO'!$C$318)+1)/('Step 2. IHECO'!$C$318:$C$323<>\"\"),ROWS(BN$40:BN47))),\"\"))","v":" "}]
[null,null,null,null,null,null,null,null,null,null,null,null,null,null,null,null,null,null,null,null,null,null,null,null,null,null,null,null,null,null,null,null,null,null,null,null,null,null,null,null,null,null,null,null,null,null,null,null,null,null,null,null,null,null,null,null,{"$f":"CONCATENATE(\" \",IFERROR(INDEX('Step 2. IHECO'!$C$21:$C$22,_xlfn.AGGREGATE(15,6,(ROW('Step 2. IHECO'!$C$21:$C$22)-ROW('Step 2. IHECO'!$C$21)+1)/('Step 2. IHECO'!$C$21:$C$22<>\"\"),ROWS(BE$48:BE48))),\"\"))","v":" 1.4.1. La organización está registrada y tiene un estatuto."},{"$f":"CONCATENATE(\" \",IFERROR(INDEX('Step 2. IHECO'!$C$53:$C$59,_xlfn.AGGREGATE(15,6,(ROW('Step 2. IHECO'!$C$53:$C$59)-ROW('Step 2. IHECO'!$C$53)+1)/('Step 2. IHECO'!$C$53:$C$59<>\"\"),ROWS(BF$43:BF48))),\"\"))","v":" 2.3.6. El desempeño del personal y los productos finales departamentales están vinculados al plan operativo."},{"$f":"CONCATENATE(\" \",IFERROR(INDEX('Step 2. IHECO'!$C$75:$C$76,_xlfn.AGGREGATE(15,6,(ROW('Step 2. IHECO'!$C$75:$C$76)-ROW('Step 2. IHECO'!$C$75)+1)/('Step 2. IHECO'!$C$75:$C$76<>\"\"),ROWS(BG$44:BG48))),\"\"))","v":" "},{"$f":"CONCATENATE(\" \",IFERROR(INDEX('Step 2. IHECO'!$C$102:$C$103,_xlfn.AGGREGATE(15,6,(ROW('Step 2. IHECO'!$C$102:$C$103)-ROW('Step 2. IHECO'!$C$102)+1)/('Step 2. IHECO'!$C$102:$C$103<>\"\"),ROWS(BH$44:BH48))),\"\"))","v":" "},{"$f":"CONCATENATE(\" \",IFERROR(INDEX('Step 2. IHECO'!$C$120:$C$136,_xlfn.AGGREGATE(15,6,(ROW('Step 2. IHECO'!$C$120:$C$136)-ROW('Step 2. IHECO'!$C$120)+1)/('Step 2. IHECO'!$C$120:$C$136<>\"\"),ROWS(BI$40:BI48))),\"\"))","v":" 5.3.9. La estrategia de recaudación de fondos de la organización se vincula con el plan estratégico para asegurar la continuidad de los programas centrales."},{"$f":"CONCATENATE(\" \",IFERROR(INDEX('Step 2. IHECO'!$C$159:$C$162,_xlfn.AGGREGATE(15,6,(ROW('Step 2. IHECO'!$C$159:$C$162)-ROW('Step 2. IHECO'!$C$159)+1)/('Step 2. IHECO'!$C$159:$C$162<>\"\"),ROWS(BJ$44:BJ48))),\"\"))","v":" "},{"$f":"CONCATENATE(\" \",IFERROR(INDEX('Step 2. IHECO'!$C$177:$C$184,_xlfn.AGGREGATE(15,6,(ROW('Step 2. IHECO'!$C$177:$C$184)-ROW('Step 2. IHECO'!$C$177)+1)/('Step 2. IHECO'!$C$177:$C$184<>\"\"),ROWS(BK$41:BK48))),\"\"))","v":" 7.3.8. Las descripciones de los puestos de trabajo se analizan entre el empleado y el supervisor y se modifican según sea necesario de acuerdo con un procedimiento definido."},{"$f":"CONCATENATE(\" \",IFERROR(INDEX('Step 2. IHECO'!$C$213:$C$222,_xlfn.AGGREGATE(15,6,(ROW('Step 2. IHECO'!$C$213:$C$222)-ROW('Step 2. IHECO'!$C$213)+1)/('Step 2. IHECO'!$C$213:$C$222<>\"\"),ROWS(BL$46:BL48))),\"\"))","v":" 8.4.3. La organización tiene procesos formales para registrar las recepciones y desembolsos de efectivo y exige documentación estandarizada para dichas transacciones."},{"$f":"CONCATENATE(\" \",IFERROR(INDEX('Step 2. IHECO'!$C$267:$C$274,_xlfn.AGGREGATE(15,6,(ROW('Step 2. IHECO'!$C$267:$C$274)-ROW('Step 2. IHECO'!$C$267)+1)/('Step 2. IHECO'!$C$267:$C$274<>\"\"),ROWS(BM$48:BM48))),\"\"))","v":" 9.4.1. El personal usa un método organizativo específico para diseñar e implementar proyectos."},{"$f":"CONCATENATE(\" \",IFERROR(INDEX('Step 2. IHECO'!$C$318:$C$323,_xlfn.AGGREGATE(15,6,(ROW('Step 2. IHECO'!$C$318:$C$323)-ROW('Step 2. IHECO'!$C$318)+1)/('Step 2. IHECO'!$C$318:$C$323<>\"\"),ROWS(BN$40:BN48))),\"\"))","v":" "}]
[null,null,null,null,null,null,null,null,null,null,null,null,null,null,null,null,null,null,null,null,null,null,null,null,null,null,null,null,null,null,null,null,null,null,null,null,null,null,null,null,null,null,null,null,null,null,null,null,null,null,null,null,null,null,null,null,{"$f":"CONCATENATE(\" \",IFERROR(INDEX('Step 2. IHECO'!$C$21:$C$22,_xlfn.AGGREGATE(15,6,(ROW('Step 2. IHECO'!$C$21:$C$22)-ROW('Step 2. IHECO'!$C$21)+1)/('Step 2. IHECO'!$C$21:$C$22<>\"\"),ROWS(BE$48:BE49))),\"\"))","v":" 1.4.2. La organización cumple con todos los requisitos establecidos por la ley."},{"$f":"CONCATENATE(\" \",IFERROR(INDEX('Step 2. IHECO'!$C$53:$C$59,_xlfn.AGGREGATE(15,6,(ROW('Step 2. IHECO'!$C$53:$C$59)-ROW('Step 2. IHECO'!$C$53)+1)/('Step 2. IHECO'!$C$53:$C$59<>\"\"),ROWS(BF$43:BF49))),\"\"))","v":" 2.3.7. Los planes son desarrollados o revisados periódicamente de un modo participativo y representativo por parte del personal y aquellos a quienes sirve la organización."},{"$f":"CONCATENATE(\" \",IFERROR(INDEX('Step 2. IHECO'!$C$75:$C$76,_xlfn.AGGREGATE(15,6,(ROW('Step 2. IHECO'!$C$75:$C$76)-ROW('Step 2. IHECO'!$C$75)+1)/('Step 2. IHECO'!$C$75:$C$76<>\"\"),ROWS(BG$44:BG49))),\"\"))","v":" "},{"$f":"CONCATENATE(\" \",IFERROR(INDEX('Step 2. IHECO'!$C$102:$C$103,_xlfn.AGGREGATE(15,6,(ROW('Step 2. IHECO'!$C$102:$C$103)-ROW('Step 2. IHECO'!$C$102)+1)/('Step 2. IHECO'!$C$102:$C$103<>\"\"),ROWS(BH$44:BH49))),\"\"))","v":" "},{"$f":"CONCATENATE(\" \",IFERROR(INDEX('Step 2. IHECO'!$C$120:$C$136,_xlfn.AGGREGATE(15,6,(ROW('Step 2. IHECO'!$C$120:$C$136)-ROW('Step 2. IHECO'!$C$120)+1)/('Step 2. IHECO'!$C$120:$C$136<>\"\"),ROWS(BI$40:BI49))),\"\"))","v":" 5.3.10. El proceso de recaudación de fondos de la organización está integrado con el sistema de administración financiera y es supervisado y ajustado de manera continua."},{"$f":"CONCATENATE(\" \",IFERROR(INDEX('Step 2. IHECO'!$C$159:$C$162,_xlfn.AGGREGATE(15,6,(ROW('Step 2. IHECO'!$C$159:$C$162)-ROW('Step 2. IHECO'!$C$159)+1)/('Step 2. IHECO'!$C$159:$C$162<>\"\"),ROWS(BJ$44:BJ49))),\"\"))","v":" "},{"$f":"CONCATENATE(\" \",IFERROR(INDEX('Step 2. IHECO'!$C$177:$C$184,_xlfn.AGGREGATE(15,6,(ROW('Step 2. IHECO'!$C$177:$C$184)-ROW('Step 2. IHECO'!$C$177)+1)/('Step 2. IHECO'!$C$177:$C$184<>\"\"),ROWS(BK$41:BK49))),\"\"))","v":" "},{"$f":"CONCATENATE(\" \",IFERROR(INDEX('Step 2. IHECO'!$C$213:$C$222,_xlfn.AGGREGATE(15,6,(ROW('Step 2. IHECO'!$C$213:$C$222)-ROW('Step 2. IHECO'!$C$213)+1)/('Step 2. IHECO'!$C$213:$C$222<>\"\"),ROWS(BL$46:BL49))),\"\"))","v":" 8.4.4. Todos los instrumentos financieros y de efectivo están salvaguardados físicamente en todo momento."},{"$f":"CONCATENATE(\" \",IFERROR(INDEX('Step 2. IHECO'!$C$267:$C$274,_xlfn.AGGREGATE(15,6,(ROW('Step 2. IHECO'!$C$267:$C$274)-ROW('Step 2. IHECO'!$C$267)+1)/('Step 2. IHECO'!$C$267:$C$274<>\"\"),ROWS(BM$48:BM49))),\"\"))","v":" 9.4.2. Los proyectos diseñados e implementados por el personal respaldan la misión, la estrategia y los principios de la organización."},{"$f":"CONCATENATE(\" \",IFERROR(INDEX('Step 2. IHECO'!$C$318:$C$323,_xlfn.AGGREGATE(15,6,(ROW('Step 2. IHECO'!$C$318:$C$323)-ROW('Step 2. IHECO'!$C$318)+1)/('Step 2. IHECO'!$C$318:$C$323<>\"\"),ROWS(BN$40:BN49))),\"\"))","v":" "}]
[null,null,null,null,null,null,null,null,null,null,null,null,null,null,null,null,null,null,null,null,null,null,null,null,null,null,null,null,null,null,null,null,null,null,null,null,null,null,null,null,null,null,null,null,null,null,null,null,null,null,null,null,null,null,null,null,{"$f":"CONCATENATE(\" \",IFERROR(INDEX('Step 2. IHECO'!$C$21:$C$22,_xlfn.AGGREGATE(15,6,(ROW('Step 2. IHECO'!$C$21:$C$22)-ROW('Step 2. IHECO'!$C$21)+1)/('Step 2. IHECO'!$C$21:$C$22<>\"\"),ROWS(BE$48:BE50))),\"\"))","v":" "},{"$f":"CONCATENATE(\" \",IFERROR(INDEX('Step 2. IHECO'!$C$53:$C$59,_xlfn.AGGREGATE(15,6,(ROW('Step 2. IHECO'!$C$53:$C$59)-ROW('Step 2. IHECO'!$C$53)+1)/('Step 2. IHECO'!$C$53:$C$59<>\"\"),ROWS(BF$43:BF50))),\"\"))","v":" "},{"$f":"CONCATENATE(\" \",IFERROR(INDEX('Step 2. IHECO'!$C$75:$C$76,_xlfn.AGGREGATE(15,6,(ROW('Step 2. IHECO'!$C$75:$C$76)-ROW('Step 2. IHECO'!$C$75)+1)/('Step 2. IHECO'!$C$75:$C$76<>\"\"),ROWS(BG$44:BG50))),\"\"))","v":" "},{"$f":"CONCATENATE(\" \",IFERROR(INDEX('Step 2. IHECO'!$C$102:$C$103,_xlfn.AGGREGATE(15,6,(ROW('Step 2. IHECO'!$C$102:$C$103)-ROW('Step 2. IHECO'!$C$102)+1)/('Step 2. IHECO'!$C$102:$C$103<>\"\"),ROWS(BH$44:BH50))),\"\"))","v":" "},{"$f":"CONCATENATE(\" \",IFERROR(INDEX('Step 2. IHECO'!$C$120:$C$136,_xlfn.AGGREGATE(15,6,(ROW('Step 2. IHECO'!$C$120:$C$136)-ROW('Step 2. IHECO'!$C$120)+1)/('Step 2. IHECO'!$C$120:$C$136<>\"\"),ROWS(BI$40:BI50))),\"\"))","v":" 5.3.11. La organización cuenta con personal calificado y con sistemas en vigor para acceder, administrar y rendir cuentas de los recursos provenientes de fuentes diversificadas de donadores."},{"$f":"CONCATENATE(\" \",IFERROR(INDEX('Step 2. IHECO'!$C$159:$C$162,_xlfn.AGGREGATE(15,6,(ROW('Step 2. IHECO'!$C$159:$C$162)-ROW('Step 2. IHECO'!$C$159)+1)/('Step 2. IHECO'!$C$159:$C$162<>\"\"),ROWS(BJ$44:BJ50))),\"\"))","v":" "},{"$f":"CONCATENATE(\" \",IFERROR(INDEX('Step 2. IHECO'!$C$177:$C$184,_xlfn.AGGREGATE(15,6,(ROW('Step 2. IHECO'!$C$177:$C$184)-ROW('Step 2. IHECO'!$C$177)+1)/('Step 2. IHECO'!$C$177:$C$184<>\"\"),ROWS(BK$41:BK50))),\"\"))","v":" "},{"$f":"CONCATENATE(\" \",IFERROR(INDEX('Step 2. IHECO'!$C$213:$C$222,_xlfn.AGGREGATE(15,6,(ROW('Step 2. IHECO'!$C$213:$C$222)-ROW('Step 2. IHECO'!$C$213)+1)/('Step 2. IHECO'!$C$213:$C$222<>\"\"),ROWS(BL$46:BL50))),\"\"))","v":" 8.4.5. La organización usa una tabla de autorización de gastos que muestra los niveles de aprobación para todos los compromisos y desembolsos."},{"$f":"CONCATENATE(\" \",IFERROR(INDEX('Step 2. IHECO'!$C$267:$C$274,_xlfn.AGGREGATE(15,6,(ROW('Step 2. IHECO'!$C$267:$C$274)-ROW('Step 2. IHECO'!$C$267)+1)/('Step 2. IHECO'!$C$267:$C$274<>\"\"),ROWS(BM$48:BM50))),\"\"))","v":" 9.4.3. La organización usa modalidades participativas y una estrategia de sostenibilidad en los proyectos para elevar el sentido de propiedad de la comunidad."},{"$f":"CONCATENATE(\" \",IFERROR(INDEX('Step 2. IHECO'!$C$318:$C$323,_xlfn.AGGREGATE(15,6,(ROW('Step 2. IHECO'!$C$318:$C$323)-ROW('Step 2. IHECO'!$C$318)+1)/('Step 2. IHECO'!$C$318:$C$323<>\"\"),ROWS(BN$40:BN50))),\"\"))","v":" "}]
[null,null,null,null,null,null,null,null,null,null,null,null,null,null,null,null,null,null,null,null,null,null,null,null,null,null,null,null,null,null,null,null,null,null,null,null,null,null,null,null,null,null,null,null,null,null,null,null,null,null,null,null,null,null,null,null,{"$f":"CONCATENATE(\" \",IFERROR(INDEX('Step 2. IHECO'!$C$21:$C$22,_xlfn.AGGREGATE(15,6,(ROW('Step 2. IHECO'!$C$21:$C$22)-ROW('Step 2. IHECO'!$C$21)+1)/('Step 2. IHECO'!$C$21:$C$22<>\"\"),ROWS(BE$48:BE51))),\"\"))","v":" "},{"$f":"CONCATENATE(\" \",IFERROR(INDEX('Step 2. IHECO'!$C$53:$C$59,_xlfn.AGGREGATE(15,6,(ROW('Step 2. IHECO'!$C$53:$C$59)-ROW('Step 2. IHECO'!$C$53)+1)/('Step 2. IHECO'!$C$53:$C$59<>\"\"),ROWS(BF$43:BF51))),\"\"))","v":" "},{"$f":"BG6","v":" 3.5. Gestión de riesgos"},null,{"$f":"CONCATENATE(\" \",IFERROR(INDEX('Step 2. IHECO'!$C$120:$C$136,_xlfn.AGGREGATE(15,6,(ROW('Step 2. IHECO'!$C$120:$C$136)-ROW('Step 2. IHECO'!$C$120)+1)/('Step 2. IHECO'!$C$120:$C$136<>\"\"),ROWS(BI$40:BI51))),\"\"))","v":" 5.3.12. Los costos de las actividades de recaudación de fondos de la organización, como porcentaje de los costos del programa, son competitivos con respecto a los costos de organizaciones similares."},{"$f":"CONCATENATE(\" \",IFERROR(INDEX('Step 2. IHECO'!$C$159:$C$162,_xlfn.AGGREGATE(15,6,(ROW('Step 2. IHECO'!$C$159:$C$162)-ROW('Step 2. IHECO'!$C$159)+1)/('Step 2. IHECO'!$C$159:$C$162<>\"\"),ROWS(BJ$44:BJ51))),\"\"))","v":" "},{"$f":"CONCATENATE(\" \",IFERROR(INDEX('Step 2. IHECO'!$C$177:$C$184,_xlfn.AGGREGATE(15,6,(ROW('Step 2. IHECO'!$C$177:$C$184)-ROW('Step 2. IHECO'!$C$177)+1)/('Step 2. IHECO'!$C$177:$C$184<>\"\"),ROWS(BK$41:BK51))),\"\"))","v":" "},{"$f":"CONCATENATE(\" \",IFERROR(INDEX('Step 2. IHECO'!$C$213:$C$222,_xlfn.AGGREGATE(15,6,(ROW('Step 2. IHECO'!$C$213:$C$222)-ROW('Step 2. IHECO'!$C$213)+1)/('Step 2. IHECO'!$C$213:$C$222<>\"\"),ROWS(BL$46:BL51))),\"\"))","v":" 8.4.6. Hay signatarios designados para cada cuenta bancaria, las tarjetas de firma se conservan en archivo y todas las cuentas bancarias están a nombre de la organización."},{"$f":"CONCATENATE(\" \",IFERROR(INDEX('Step 2. IHECO'!$C$267:$C$274,_xlfn.AGGREGATE(15,6,(ROW('Step 2. IHECO'!$C$267:$C$274)-ROW('Step 2. IHECO'!$C$267)+1)/('Step 2. IHECO'!$C$267:$C$274<>\"\"),ROWS(BM$48:BM51))),\"\"))","v":" 9.4.4. La organización documenta y hace cumplir un estándar que garantiza que los proyectos no hagan daño. Las comunidades o poblaciones a las que se sirve se encuentran mejor que sin la intervención."},{"$f":"BN5","v":" 10.4. Dimensiones de la programación: planificación, diseño y ejecución de programas"}]
[null,null,null,null,null,null,null,null,null,null,null,null,null,null,null,null,null,null,null,null,null,null,null,null,null,null,null,null,null,null,null,null,null,null,null,null,null,null,null,null,null,null,null,null,null,null,null,null,null,null,null,null,null,null,null,null,{"$f":"CONCATENATE(\" \",IFERROR(INDEX('Step 2. IHECO'!$C$21:$C$22,_xlfn.AGGREGATE(15,6,(ROW('Step 2. IHECO'!$C$21:$C$22)-ROW('Step 2. IHECO'!$C$21)+1)/('Step 2. IHECO'!$C$21:$C$22<>\"\"),ROWS(BE$48:BE52))),\"\"))","v":" "},{"$f":"CONCATENATE(\" \",IFERROR(INDEX('Step 2. IHECO'!$C$53:$C$59,_xlfn.AGGREGATE(15,6,(ROW('Step 2. IHECO'!$C$53:$C$59)-ROW('Step 2. IHECO'!$C$53)+1)/('Step 2. IHECO'!$C$53:$C$59<>\"\"),ROWS(BF$43:BF52))),\"\"))","v":" "},{"$f":"CONCATENATE(\" \",IFERROR(INDEX('Step 2. IHECO'!$C$77:$C$87,_xlfn.AGGREGATE(15,6,(ROW('Step 2. IHECO'!$C$77:$C$87)-ROW('Step 2. IHECO'!$C$77)+1)/('Step 2. IHECO'!$C$77:$C$87<>\"\"),ROWS(BG$52:BG52))),\"\"))","v":" 3.5.1. La gerencia superior se asegura de que el proceso de planificación estratégica incorpore la evaluación de los riesgos que ponen en peligro los valores, la credibilidad o la viabilidad de la organización."},null,{"$f":"CONCATENATE(\" \",IFERROR(INDEX('Step 2. IHECO'!$C$120:$C$136,_xlfn.AGGREGATE(15,6,(ROW('Step 2. IHECO'!$C$120:$C$136)-ROW('Step 2. IHECO'!$C$120)+1)/('Step 2. IHECO'!$C$120:$C$136<>\"\"),ROWS(BI$40:BI52))),\"\"))","v":" 5.3.13. La organización se asegura de que los costos operativos y de prestación de servicios sean rentables y competitivos con respecto a los costos de organizaciones similares."},{"$f":"CONCATENATE(\" \",IFERROR(INDEX('Step 2. IHECO'!$C$159:$C$162,_xlfn.AGGREGATE(15,6,(ROW('Step 2. IHECO'!$C$159:$C$162)-ROW('Step 2. IHECO'!$C$159)+1)/('Step 2. IHECO'!$C$159:$C$162<>\"\"),ROWS(BJ$44:BJ52))),\"\"))","v":" "},{"$f":"CONCATENATE(\" \",IFERROR(INDEX('Step 2. IHECO'!$C$177:$C$184,_xlfn.AGGREGATE(15,6,(ROW('Step 2. IHECO'!$C$177:$C$184)-ROW('Step 2. IHECO'!$C$177)+1)/('Step 2. IHECO'!$C$177:$C$184<>\"\"),ROWS(BK$41:BK52))),\"\"))","v":" "},{"$f":"CONCATENATE(\" \",IFERROR(INDEX('Step 2. IHECO'!$C$213:$C$222,_xlfn.AGGREGATE(15,6,(ROW('Step 2. IHECO'!$C$213:$C$222)-ROW('Step 2. IHECO'!$C$213)+1)/('Step 2. IHECO'!$C$213:$C$222<>\"\"),ROWS(BL$46:BL52))),\"\"))","v":" 8.4.7. La organización se esfuerza por separar las tareas o tiene controles adicionales en vigor cuando esa meta no es alcanzable."},{"$f":"CONCATENATE(\" \",IFERROR(INDEX('Step 2. IHECO'!$C$267:$C$274,_xlfn.AGGREGATE(15,6,(ROW('Step 2. IHECO'!$C$267:$C$274)-ROW('Step 2. IHECO'!$C$267)+1)/('Step 2. IHECO'!$C$267:$C$274<>\"\"),ROWS(BM$48:BM52))),\"\"))","v":" 9.4.5. Los proyectos desafían las estructuras sociales que limitan la participación plena, los derechos o la dignidad de las personas marginadas."},{"$f":"CONCATENATE(\" \",IFERROR(INDEX('Step 2. IHECO'!$C$324:$C$327,_xlfn.AGGREGATE(15,6,(ROW('Step 2. IHECO'!$C$324:$C$327)-ROW('Step 2. IHECO'!$C$324)+1)/('Step 2. IHECO'!$C$324:$C$327<>\"\"),ROWS(BN$52:BN52))),\"\"))","v":" 10.4.1. Los análisis de género se realizan sistemáticamente durante la fase de diseño de un proyecto e incluyen un examen de las funciones y las responsabilidades de género; las disparidades en el acceso a los recursos y el control de los mismos; y las funciones asociadas al género en los procesos de toma de decisiones."}]
[null,null,null,null,null,null,null,null,null,null,null,null,null,null,null,null,null,null,null,null,null,null,null,null,null,null,null,null,null,null,null,null,null,null,null,null,null,null,null,null,null,null,null,null,null,null,null,null,null,null,null,null,null,null,null,null,{"$f":"CONCATENATE(\" \",IFERROR(INDEX('Step 2. IHECO'!$C$21:$C$22,_xlfn.AGGREGATE(15,6,(ROW('Step 2. IHECO'!$C$21:$C$22)-ROW('Step 2. IHECO'!$C$21)+1)/('Step 2. IHECO'!$C$21:$C$22<>\"\"),ROWS(BE$48:BE53))),\"\"))","v":" "},{"$f":"CONCATENATE(\" \",IFERROR(INDEX('Step 2. IHECO'!$C$53:$C$59,_xlfn.AGGREGATE(15,6,(ROW('Step 2. IHECO'!$C$53:$C$59)-ROW('Step 2. IHECO'!$C$53)+1)/('Step 2. IHECO'!$C$53:$C$59<>\"\"),ROWS(BF$43:BF53))),\"\"))","v":" "},{"$f":"CONCATENATE(\" \",IFERROR(INDEX('Step 2. IHECO'!$C$77:$C$87,_xlfn.AGGREGATE(15,6,(ROW('Step 2. IHECO'!$C$77:$C$87)-ROW('Step 2. IHECO'!$C$77)+1)/('Step 2. IHECO'!$C$77:$C$87<>\"\"),ROWS(BG$52:BG53))),\"\"))","v":" 3.5.2. Hay mecanismos y sistemas de control interno en vigor para las revisiones periódicas que aseguran el cumplimiento normativo y reducen el riesgo."},null,{"$f":"CONCATENATE(\" \",IFERROR(INDEX('Step 2. IHECO'!$C$120:$C$136,_xlfn.AGGREGATE(15,6,(ROW('Step 2. IHECO'!$C$120:$C$136)-ROW('Step 2. IHECO'!$C$120)+1)/('Step 2. IHECO'!$C$120:$C$136<>\"\"),ROWS(BI$40:BI53))),\"\"))","v":" 5.3.14. El flujo de caja de la organización es sistemáticamente adecuado para cumplir con los requisitos operativos."},null,{"$f":"CONCATENATE(\" \",IFERROR(INDEX('Step 2. IHECO'!$C$177:$C$184,_xlfn.AGGREGATE(15,6,(ROW('Step 2. IHECO'!$C$177:$C$184)-ROW('Step 2. IHECO'!$C$177)+1)/('Step 2. IHECO'!$C$177:$C$184<>\"\"),ROWS(BK$41:BK53))),\"\"))","v":" "},{"$f":"CONCATENATE(\" \",IFERROR(INDEX('Step 2. IHECO'!$C$213:$C$222,_xlfn.AGGREGATE(15,6,(ROW('Step 2. IHECO'!$C$213:$C$222)-ROW('Step 2. IHECO'!$C$213)+1)/('Step 2. IHECO'!$C$213:$C$222<>\"\"),ROWS(BL$46:BL53))),\"\"))","v":" 8.4.8. La organización cumple con todos los requisitos de auditorías externas y los resultados de las auditorías se ponen a disposición de todas las partes que correspondan."},{"$f":"CONCATENATE(\" \",IFERROR(INDEX('Step 2. IHECO'!$C$267:$C$274,_xlfn.AGGREGATE(15,6,(ROW('Step 2. IHECO'!$C$267:$C$274)-ROW('Step 2. IHECO'!$C$267)+1)/('Step 2. IHECO'!$C$267:$C$274<>\"\"),ROWS(BM$48:BM53))),\"\"))","v":" 9.4.6. Según corresponda, la organización aplica una sólida gestión de los recursos naturales en sus intervenciones."},{"$f":"CONCATENATE(\" \",IFERROR(INDEX('Step 2. IHECO'!$C$324:$C$327,_xlfn.AGGREGATE(15,6,(ROW('Step 2. IHECO'!$C$324:$C$327)-ROW('Step 2. IHECO'!$C$324)+1)/('Step 2. IHECO'!$C$324:$C$327<>\"\"),ROWS(BN$52:BN53))),\"\"))","v":" 10.4.2. Los proyectos abordan las disparidades de género en las funciones y las responsabilidades, el tiempo, el control de los recursos, el poder en la toma de decisiones y las normas socioculturales no equitativas y benefician a las mujeres, los hombres, las niñas y los niños de manera equitativa."}]
[null,null,null,null,null,null,null,null,null,null,null,null,null,null,null,null,null,null,null,null,null,null,null,null,null,null,null,null,null,null,null,null,null,null,null,null,null,null,null,null,null,null,null,null,null,null,null,null,null,null,null,null,null,null,null,null,{"$f":"CONCATENATE(\" \",IFERROR(INDEX('Step 2. IHECO'!$C$21:$C$22,_xlfn.AGGREGATE(15,6,(ROW('Step 2. IHECO'!$C$21:$C$22)-ROW('Step 2. IHECO'!$C$21)+1)/('Step 2. IHECO'!$C$21:$C$22<>\"\"),ROWS(BE$48:BE54))),\"\"))","v":" "},{"$f":"CONCATENATE(\" \",IFERROR(INDEX('Step 2. IHECO'!$C$53:$C$59,_xlfn.AGGREGATE(15,6,(ROW('Step 2. IHECO'!$C$53:$C$59)-ROW('Step 2. IHECO'!$C$53)+1)/('Step 2. IHECO'!$C$53:$C$59<>\"\"),ROWS(BF$43:BF54))),\"\"))","v":" "},{"$f":"CONCATENATE(\" \",IFERROR(INDEX('Step 2. IHECO'!$C$77:$C$87,_xlfn.AGGREGATE(15,6,(ROW('Step 2. IHECO'!$C$77:$C$87)-ROW('Step 2. IHECO'!$C$77)+1)/('Step 2. IHECO'!$C$77:$C$87<>\"\"),ROWS(BG$52:BG54))),\"\"))","v":" 3.5.3. Se asignan controles internos y responsabilidades de gestión de riesgos al personal relevante que es encargado de rendir cuentas."},null,{"$f":"CONCATENATE(\" \",IFERROR(INDEX('Step 2. IHECO'!$C$120:$C$136,_xlfn.AGGREGATE(15,6,(ROW('Step 2. IHECO'!$C$120:$C$136)-ROW('Step 2. IHECO'!$C$120)+1)/('Step 2. IHECO'!$C$120:$C$136<>\"\"),ROWS(BI$40:BI54))),\"\"))","v":" 5.3.15. La organización administra sus activos para controlar costos y, según corresponda, para generar ingresos a fin de obtener viabilidad financiera."},null,{"$f":"BK5","v":" 7.4. Compensación y beneficios"},{"$f":"CONCATENATE(\" \",IFERROR(INDEX('Step 2. IHECO'!$C$213:$C$222,_xlfn.AGGREGATE(15,6,(ROW('Step 2. IHECO'!$C$213:$C$222)-ROW('Step 2. IHECO'!$C$213)+1)/('Step 2. IHECO'!$C$213:$C$222<>\"\"),ROWS(BL$46:BL54))),\"\"))","v":" 8.4.9. La gerencia de la organización toma medidas correctivas rápidas y adecuadas cuando se detecta un fraude."},{"$f":"CONCATENATE(\" \",IFERROR(INDEX('Step 2. IHECO'!$C$267:$C$274,_xlfn.AGGREGATE(15,6,(ROW('Step 2. IHECO'!$C$267:$C$274)-ROW('Step 2. IHECO'!$C$267)+1)/('Step 2. IHECO'!$C$267:$C$274<>\"\"),ROWS(BM$48:BM54))),\"\"))","v":" 9.4.7. Según corresponda, la organización respalda las habilidades de los actores de la sociedad civil para abogar por el cambio social en sus intervenciones."},{"$f":"CONCATENATE(\" \",IFERROR(INDEX('Step 2. IHECO'!$C$324:$C$327,_xlfn.AGGREGATE(15,6,(ROW('Step 2. IHECO'!$C$324:$C$327)-ROW('Step 2. IHECO'!$C$324)+1)/('Step 2. IHECO'!$C$324:$C$327<>\"\"),ROWS(BN$52:BN54))),\"\"))","v":" 10.4.3. El diseño y la ejecución de los proyectos incluyen medidas de mitigación de las consecuencias negativas imprevistas, como la violencia de género y el aumento de la carga de trabajo de mujeres y niñas."}]
[null,null,null,null,null,null,null,null,null,null,null,null,null,null,null,null,null,null,null,null,null,null,null,null,null,null,null,null,null,null,null,null,null,null,null,null,null,null,null,null,null,null,null,null,null,null,null,null,null,null,null,null,null,null,null,null,{"$f":"BE6","v":" 1.5. Cultura de la organización"},{"$f":"BF5","v":" 2.4. Supervisión de los planes estratégicos y operativos"},{"$f":"CONCATENATE(\" \",IFERROR(INDEX('Step 2. IHECO'!$C$77:$C$87,_xlfn.AGGREGATE(15,6,(ROW('Step 2. IHECO'!$C$77:$C$87)-ROW('Step 2. IHECO'!$C$77)+1)/('Step 2. IHECO'!$C$77:$C$87<>\"\"),ROWS(BG$52:BG55))),\"\"))","v":" 3.5.4. El Director Ejecutivo revisa todos los informes de auditoría y se asegura de que se aborden los hallazgos de las auditorías."},null,{"$f":"CONCATENATE(\" \",IFERROR(INDEX('Step 2. IHECO'!$C$120:$C$136,_xlfn.AGGREGATE(15,6,(ROW('Step 2. IHECO'!$C$120:$C$136)-ROW('Step 2. IHECO'!$C$120)+1)/('Step 2. IHECO'!$C$120:$C$136<>\"\"),ROWS(BI$40:BI55))),\"\"))","v":" 5.3.16. La organización tiene una política clara para el uso de su terreno y de sus activos que constituye una ganancia económica para la organización en la población objetivo."},null,{"$f":"CONCATENATE(\" \",IFERROR(INDEX('Step 2. IHECO'!$C$185:$C$187,_xlfn.AGGREGATE(15,6,(ROW('Step 2. IHECO'!$C$185:$C$187)-ROW('Step 2. IHECO'!$C$185)+1)/('Step 2. IHECO'!$C$185:$C$187<>\"\"),ROWS(BK$55:BK55))),\"\"))","v":" 7.4.1. La organización tiene un procedimiento en vigor para determinar la escala de salarios y para hacer revisiones periódicas de la escala."},{"$f":"CONCATENATE(\" \",IFERROR(INDEX('Step 2. IHECO'!$C$213:$C$222,_xlfn.AGGREGATE(15,6,(ROW('Step 2. IHECO'!$C$213:$C$222)-ROW('Step 2. IHECO'!$C$213)+1)/('Step 2. IHECO'!$C$213:$C$222<>\"\"),ROWS(BL$46:BL55))),\"\"))","v":" 8.4.10. Un empleado que no recibe ni desembolsa efectivo prepara una conciliación bancaria mensual, y este recibe la aprobación de un gerente superior."},{"$f":"CONCATENATE(\" \",IFERROR(INDEX('Step 2. IHECO'!$C$267:$C$274,_xlfn.AGGREGATE(15,6,(ROW('Step 2. IHECO'!$C$267:$C$274)-ROW('Step 2. IHECO'!$C$267)+1)/('Step 2. IHECO'!$C$267:$C$274<>\"\"),ROWS(BM$48:BM55))),\"\"))","v":" 9.4.8. La organización transversaliza la equidad de género en el diseño de programas."},{"$f":"CONCATENATE(\" \",IFERROR(INDEX('Step 2. IHECO'!$C$324:$C$327,_xlfn.AGGREGATE(15,6,(ROW('Step 2. IHECO'!$C$324:$C$327)-ROW('Step 2. IHECO'!$C$324)+1)/('Step 2. IHECO'!$C$324:$C$327<>\"\"),ROWS(BN$52:BN55))),\"\"))","v":" 10.4.4. En todos los proyectos se presupuestan actividades específicamente para temas de género (por ejemplo, análisis de género, actividades de cambio de comportamiento social relacionado con el género, capacitación en materia de género, habilidades de liderazgo y negociación para mujeres, tecnologías de ahorro de tiempo y trabajo, etc.)."}]
[null,null,null,null,null,null,null,null,null,null,null,null,null,null,null,null,null,null,null,null,null,null,null,null,null,null,null,null,null,null,null,null,null,null,null,null,null,null,null,null,null,null,null,null,null,null,null,null,null,null,null,null,null,null,null,null,{"$f":"CONCATENATE(\" \",IFERROR(INDEX('Step 2. IHECO'!$C$23:$C$26,_xlfn.AGGREGATE(15,6,(ROW('Step 2. IHECO'!$C$23:$C$26)-ROW('Step 2. IHECO'!$C$23)+1)/('Step 2. IHECO'!$C$23:$C$26<>\"\"),ROWS(BE$56:BE56))),\"\"))","v":" 1.5.1. La cultura de la organización refleja la misión y la visión de la organización."},{"$f":"CONCATENATE(\" \",IFERROR(INDEX('Step 2. IHECO'!$C$60:$C$61,_xlfn.AGGREGATE(15,6,(ROW('Step 2. IHECO'!$C$60:$C$61)-ROW('Step 2. IHECO'!$C$60)+1)/('Step 2. IHECO'!$C$60:$C$61<>\"\"),ROWS(BF$56:BF56))),\"\"))","v":" 2.4.1. La organización tiene sistemas de supervisión para los planes estratégicos y operativos que informan y comunican el progreso hacia el logro de los objetivos de los planes al personal y a las partes interesadas."},{"$f":"CONCATENATE(\" \",IFERROR(INDEX('Step 2. IHECO'!$C$77:$C$87,_xlfn.AGGREGATE(15,6,(ROW('Step 2. IHECO'!$C$77:$C$87)-ROW('Step 2. IHECO'!$C$77)+1)/('Step 2. IHECO'!$C$77:$C$87<>\"\"),ROWS(BG$52:BG56))),\"\"))","v":" 3.5.5. El personal tiene conocimiento de los requisitos de cumplimiento normativo y existen mecanismos para informar de manera confidencial los casos de incumplimiento ante la gerencia, sin temor a represalias."},null,{"$f":"CONCATENATE(\" \",IFERROR(INDEX('Step 2. IHECO'!$C$120:$C$136,_xlfn.AGGREGATE(15,6,(ROW('Step 2. IHECO'!$C$120:$C$136)-ROW('Step 2. IHECO'!$C$120)+1)/('Step 2. IHECO'!$C$120:$C$136<>\"\"),ROWS(BI$40:BI56))),\"\"))","v":" 5.3.17. Los activos están libres de conflictos y litigios."},null,{"$f":"CONCATENATE(\" \",IFERROR(INDEX('Step 2. IHECO'!$C$185:$C$187,_xlfn.AGGREGATE(15,6,(ROW('Step 2. IHECO'!$C$185:$C$187)-ROW('Step 2. IHECO'!$C$185)+1)/('Step 2. IHECO'!$C$185:$C$187<>\"\"),ROWS(BK$55:BK56))),\"\"))","v":" 7.4.2. Los salarios y los beneficios se basan en la misión y los principios de la organización, y buscan ser competitivos con los de organizaciones similares del país o la región."},{"$f":"CONCATENATE(\" \",IFERROR(INDEX('Step 2. IHECO'!$C$213:$C$222,_xlfn.AGGREGATE(15,6,(ROW('Step 2. IHECO'!$C$213:$C$222)-ROW('Step 2. IHECO'!$C$213)+1)/('Step 2. IHECO'!$C$213:$C$222<>\"\"),ROWS(BL$46:BL56))),\"\"))","v":" "},{"$f":"CONCATENATE(\" \",IFERROR(INDEX('Step 2. IHECO'!$C$267:$C$274,_xlfn.AGGREGATE(15,6,(ROW('Step 2. IHECO'!$C$267:$C$274)-ROW('Step 2. IHECO'!$C$267)+1)/('Step 2. IHECO'!$C$267:$C$274<>\"\"),ROWS(BM$48:BM56))),\"\"))","v":" "},{"$f":"CONCATENATE(\" \",IFERROR(INDEX('Step 2. IHECO'!$C$324:$C$327,_xlfn.AGGREGATE(15,6,(ROW('Step 2. IHECO'!$C$324:$C$327)-ROW('Step 2. IHECO'!$C$324)+1)/('Step 2. IHECO'!$C$324:$C$327<>\"\"),ROWS(BN$52:BN56))),\"\"))","v":" "}]
[null,null,null,null,null,null,null,null,null,null,null,null,null,null,null,null,null,null,null,null,null,null,null,null,null,null,null,null,null,null,null,null,null,null,null,null,null,null,null,null,null,null,null,null,null,null,null,null,null,null,null,null,null,null,null,null,{"$f":"CONCATENATE(\" \",IFERROR(INDEX('Step 2. IHECO'!$C$23:$C$26,_xlfn.AGGREGATE(15,6,(ROW('Step 2. IHECO'!$C$23:$C$26)-ROW('Step 2. IHECO'!$C$23)+1)/('Step 2. IHECO'!$C$23:$C$26<>\"\"),ROWS(BE$56:BE57))),\"\"))","v":" 1.5.2. La ética en el trabajo fomenta el intercambio, la colaboración y la reciprocidad."},{"$f":"CONCATENATE(\" \",IFERROR(INDEX('Step 2. IHECO'!$C$60:$C$61,_xlfn.AGGREGATE(15,6,(ROW('Step 2. IHECO'!$C$60:$C$61)-ROW('Step 2. IHECO'!$C$60)+1)/('Step 2. IHECO'!$C$60:$C$61<>\"\"),ROWS(BF$56:BF57))),\"\"))","v":" 2.4.2. La dirección involucra al personal periódicamente para que reflexione de modo crítico sobre los objetivos de los planes estratégicos y operativos y usa la información para ajustar los planes o la implementación."},{"$f":"CONCATENATE(\" \",IFERROR(INDEX('Step 2. IHECO'!$C$77:$C$87,_xlfn.AGGREGATE(15,6,(ROW('Step 2. IHECO'!$C$77:$C$87)-ROW('Step 2. IHECO'!$C$77)+1)/('Step 2. IHECO'!$C$77:$C$87<>\"\"),ROWS(BG$52:BG57))),\"\"))","v":" 3.5.6. La gerencia se asegura de que existan planes operativos o de contingencia diseñados e implementados para abordar los riesgos presentes o potenciales."},null,{"$f":"CONCATENATE(\" \",IFERROR(INDEX('Step 2. IHECO'!$C$120:$C$136,_xlfn.AGGREGATE(15,6,(ROW('Step 2. IHECO'!$C$120:$C$136)-ROW('Step 2. IHECO'!$C$120)+1)/('Step 2. IHECO'!$C$120:$C$136<>\"\"),ROWS(BI$40:BI57))),\"\"))","v":" "},null,{"$f":"CONCATENATE(\" \",IFERROR(INDEX('Step 2. IHECO'!$C$185:$C$187,_xlfn.AGGREGATE(15,6,(ROW('Step 2. IHECO'!$C$185:$C$187)-ROW('Step 2. IHECO'!$C$185)+1)/('Step 2. IHECO'!$C$185:$C$187<>\"\"),ROWS(BK$55:BK57))),\"\"))","v":" 7.4.3. El paquete de compensación y beneficios es acorde con las disposiciones de las leyes laborales nacionales."},{"$f":"CONCATENATE(\" \",IFERROR(INDEX('Step 2. IHECO'!$C$213:$C$222,_xlfn.AGGREGATE(15,6,(ROW('Step 2. IHECO'!$C$213:$C$222)-ROW('Step 2. IHECO'!$C$213)+1)/('Step 2. IHECO'!$C$213:$C$222<>\"\"),ROWS(BL$46:BL57))),\"\"))","v":" "},{"$f":"CONCATENATE(\" \",IFERROR(INDEX('Step 2. IHECO'!$C$267:$C$274,_xlfn.AGGREGATE(15,6,(ROW('Step 2. IHECO'!$C$267:$C$274)-ROW('Step 2. IHECO'!$C$267)+1)/('Step 2. IHECO'!$C$267:$C$274<>\"\"),ROWS(BM$48:BM57))),\"\"))","v":" "},{"$f":"CONCATENATE(\" \",IFERROR(INDEX('Step 2. IHECO'!$C$324:$C$327,_xlfn.AGGREGATE(15,6,(ROW('Step 2. IHECO'!$C$324:$C$327)-ROW('Step 2. IHECO'!$C$324)+1)/('Step 2. IHECO'!$C$324:$C$327<>\"\"),ROWS(BN$52:BN57))),\"\"))","v":" "}]
[null,null,null,null,null,null,null,null,null,null,null,null,null,null,null,null,null,null,null,null,null,null,null,null,null,null,null,null,null,null,null,null,null,null,null,null,null,null,null,null,null,null,null,null,null,null,null,null,null,null,null,null,null,null,null,null,{"$f":"CONCATENATE(\" \",IFERROR(INDEX('Step 2. IHECO'!$C$23:$C$26,_xlfn.AGGREGATE(15,6,(ROW('Step 2. IHECO'!$C$23:$C$26)-ROW('Step 2. IHECO'!$C$23)+1)/('Step 2. IHECO'!$C$23:$C$26<>\"\"),ROWS(BE$56:BE58))),\"\"))","v":" 1.5.3. La organización respeta la diversidad cultural, el idioma y las creencias religiosas."},{"$f":"CONCATENATE(\" \",IFERROR(INDEX('Step 2. IHECO'!$C$60:$C$61,_xlfn.AGGREGATE(15,6,(ROW('Step 2. IHECO'!$C$60:$C$61)-ROW('Step 2. IHECO'!$C$60)+1)/('Step 2. IHECO'!$C$60:$C$61<>\"\"),ROWS(BF$56:BF58))),\"\"))","v":" "},{"$f":"CONCATENATE(\" \",IFERROR(INDEX('Step 2. IHECO'!$C$77:$C$87,_xlfn.AGGREGATE(15,6,(ROW('Step 2. IHECO'!$C$77:$C$87)-ROW('Step 2. IHECO'!$C$77)+1)/('Step 2. IHECO'!$C$77:$C$87<>\"\"),ROWS(BG$52:BG58))),\"\"))","v":" 3.5.7. Una junta de asesoría externa o una estructura similar mantienen a la organización informada de las tendencias importantes que podrían representar riesgos graves para la organización o para aquellos a quienes esta sirve."},null,{"$f":"CONCATENATE(\" \",IFERROR(INDEX('Step 2. IHECO'!$C$120:$C$136,_xlfn.AGGREGATE(15,6,(ROW('Step 2. IHECO'!$C$120:$C$136)-ROW('Step 2. IHECO'!$C$120)+1)/('Step 2. IHECO'!$C$120:$C$136<>\"\"),ROWS(BI$40:BI58))),\"\"))","v":" "},null,{"$f":"CONCATENATE(\" \",IFERROR(INDEX('Step 2. IHECO'!$C$185:$C$187,_xlfn.AGGREGATE(15,6,(ROW('Step 2. IHECO'!$C$185:$C$187)-ROW('Step 2. IHECO'!$C$185)+1)/('Step 2. IHECO'!$C$185:$C$187<>\"\"),ROWS(BK$55:BK58))),\"\"))","v":" "},{"$f":"CONCATENATE(\" \",IFERROR(INDEX('Step 2. IHECO'!$C$213:$C$222,_xlfn.AGGREGATE(15,6,(ROW('Step 2. IHECO'!$C$213:$C$222)-ROW('Step 2. IHECO'!$C$213)+1)/('Step 2. IHECO'!$C$213:$C$222<>\"\"),ROWS(BL$46:BL58))),\"\"))","v":" "},{"$f":"CONCATENATE(\" \",IFERROR(INDEX('Step 2. IHECO'!$C$267:$C$274,_xlfn.AGGREGATE(15,6,(ROW('Step 2. IHECO'!$C$267:$C$274)-ROW('Step 2. IHECO'!$C$267)+1)/('Step 2. IHECO'!$C$267:$C$274<>\"\"),ROWS(BM$48:BM58))),\"\"))","v":" "},{"$f":"CONCATENATE(\" \",IFERROR(INDEX('Step 2. IHECO'!$C$324:$C$327,_xlfn.AGGREGATE(15,6,(ROW('Step 2. IHECO'!$C$324:$C$327)-ROW('Step 2. IHECO'!$C$324)+1)/('Step 2. IHECO'!$C$324:$C$327<>\"\"),ROWS(BN$52:BN58))),\"\"))","v":" "}]
[null,null,null,null,null,null,null,null,null,null,null,null,null,null,null,null,null,null,null,null,null,null,null,null,null,null,null,null,null,null,null,null,null,null,null,null,null,null,null,null,null,null,null,null,null,null,null,null,null,null,null,null,null,null,null,null,{"$f":"CONCATENATE(\" \",IFERROR(INDEX('Step 2. IHECO'!$C$23:$C$26,_xlfn.AGGREGATE(15,6,(ROW('Step 2. IHECO'!$C$23:$C$26)-ROW('Step 2. IHECO'!$C$23)+1)/('Step 2. IHECO'!$C$23:$C$26<>\"\"),ROWS(BE$56:BE59))),\"\"))","v":" 1.5.4. La organización promueve un entorno de trabajo en el que no se discrimina."},{"$f":"CONCATENATE(\" \",IFERROR(INDEX('Step 2. IHECO'!$C$60:$C$61,_xlfn.AGGREGATE(15,6,(ROW('Step 2. IHECO'!$C$60:$C$61)-ROW('Step 2. IHECO'!$C$60)+1)/('Step 2. IHECO'!$C$60:$C$61<>\"\"),ROWS(BF$56:BF59))),\"\"))","v":" "},{"$f":"CONCATENATE(\" \",IFERROR(INDEX('Step 2. IHECO'!$C$77:$C$87,_xlfn.AGGREGATE(15,6,(ROW('Step 2. IHECO'!$C$77:$C$87)-ROW('Step 2. IHECO'!$C$77)+1)/('Step 2. IHECO'!$C$77:$C$87<>\"\"),ROWS(BG$52:BG59))),\"\"))","v":" 3.5.8. La organización tiene controles en vigor para limitar o reducir los gastos en caso de que se produzca un déficit de ingresos."},null,{"$f":"CONCATENATE(\" \",IFERROR(INDEX('Step 2. IHECO'!$C$120:$C$136,_xlfn.AGGREGATE(15,6,(ROW('Step 2. IHECO'!$C$120:$C$136)-ROW('Step 2. IHECO'!$C$120)+1)/('Step 2. IHECO'!$C$120:$C$136<>\"\"),ROWS(BI$40:BI59))),\"\"))","v":" "},null,{"$f":"CONCATENATE(\" \",IFERROR(INDEX('Step 2. IHECO'!$C$185:$C$187,_xlfn.AGGREGATE(15,6,(ROW('Step 2. IHECO'!$C$185:$C$187)-ROW('Step 2. IHECO'!$C$185)+1)/('Step 2. IHECO'!$C$185:$C$187<>\"\"),ROWS(BK$55:BK59))),\"\"))","v":" "},{"$f":"CONCATENATE(\" \",IFERROR(INDEX('Step 2. IHECO'!$C$213:$C$222,_xlfn.AGGREGATE(15,6,(ROW('Step 2. IHECO'!$C$213:$C$222)-ROW('Step 2. IHECO'!$C$213)+1)/('Step 2. IHECO'!$C$213:$C$222<>\"\"),ROWS(BL$46:BL59))),\"\"))","v":" "},{"$f":"CONCATENATE(\" \",IFERROR(INDEX('Step 2. IHECO'!$C$267:$C$274,_xlfn.AGGREGATE(15,6,(ROW('Step 2. IHECO'!$C$267:$C$274)-ROW('Step 2. IHECO'!$C$267)+1)/('Step 2. IHECO'!$C$267:$C$274<>\"\"),ROWS(BM$48:BM59))),\"\"))","v":" "},{"$f":"CONCATENATE(\" \",IFERROR(INDEX('Step 2. IHECO'!$C$324:$C$327,_xlfn.AGGREGATE(15,6,(ROW('Step 2. IHECO'!$C$324:$C$327)-ROW('Step 2. IHECO'!$C$324)+1)/('Step 2. IHECO'!$C$324:$C$327<>\"\"),ROWS(BN$52:BN59))),\"\"))","v":" "}]
[null,null,null,null,null,null,null,null,null,null,null,null,null,null,null,null,null,null,null,null,null,null,null,null,null,null,null,null,null,null,null,null,null,null,null,null,null,null,null,null,null,null,null,null,null,null,null,null,null,null,null,null,null,null,null,null,{"$f":"CONCATENATE(\" \",IFERROR(INDEX('Step 2. IHECO'!$C$23:$C$26,_xlfn.AGGREGATE(15,6,(ROW('Step 2. IHECO'!$C$23:$C$26)-ROW('Step 2. IHECO'!$C$23)+1)/('Step 2. IHECO'!$C$23:$C$26<>\"\"),ROWS(BE$56:BE60))),\"\"))","v":" "},{"$f":"CONCATENATE(\" \",IFERROR(INDEX('Step 2. IHECO'!$C$60:$C$61,_xlfn.AGGREGATE(15,6,(ROW('Step 2. IHECO'!$C$60:$C$61)-ROW('Step 2. IHECO'!$C$60)+1)/('Step 2. IHECO'!$C$60:$C$61<>\"\"),ROWS(BF$56:BF60))),\"\"))","v":" "},{"$f":"CONCATENATE(\" \",IFERROR(INDEX('Step 2. IHECO'!$C$77:$C$87,_xlfn.AGGREGATE(15,6,(ROW('Step 2. IHECO'!$C$77:$C$87)-ROW('Step 2. IHECO'!$C$77)+1)/('Step 2. IHECO'!$C$77:$C$87<>\"\"),ROWS(BG$52:BG60))),\"\"))","v":" 3.5.9. La organización ha establecido medidas de contingencia financiera para minimizar las interrupciones operativas que resultan de emergencias u otros acontecimientos no planificados."},null,{"$f":"CONCATENATE(\" \",IFERROR(INDEX('Step 2. IHECO'!$C$120:$C$136,_xlfn.AGGREGATE(15,6,(ROW('Step 2. IHECO'!$C$120:$C$136)-ROW('Step 2. IHECO'!$C$120)+1)/('Step 2. IHECO'!$C$120:$C$136<>\"\"),ROWS(BI$40:BI60))),\"\"))","v":" "},null,{"$f":"CONCATENATE(\" \",IFERROR(INDEX('Step 2. IHECO'!$C$185:$C$187,_xlfn.AGGREGATE(15,6,(ROW('Step 2. IHECO'!$C$185:$C$187)-ROW('Step 2. IHECO'!$C$185)+1)/('Step 2. IHECO'!$C$185:$C$187<>\"\"),ROWS(BK$55:BK60))),\"\"))","v":" "},{"$f":"CONCATENATE(\" \",IFERROR(INDEX('Step 2. IHECO'!$C$213:$C$222,_xlfn.AGGREGATE(15,6,(ROW('Step 2. IHECO'!$C$213:$C$222)-ROW('Step 2. IHECO'!$C$213)+1)/('Step 2. IHECO'!$C$213:$C$222<>\"\"),ROWS(BL$46:BL60))),\"\"))","v":" "},{"$f":"CONCATENATE(\" \",IFERROR(INDEX('Step 2. IHECO'!$C$267:$C$274,_xlfn.AGGREGATE(15,6,(ROW('Step 2. IHECO'!$C$267:$C$274)-ROW('Step 2. IHECO'!$C$267)+1)/('Step 2. IHECO'!$C$267:$C$274<>\"\"),ROWS(BM$48:BM60))),\"\"))","v":" "},{"$f":"CONCATENATE(\" \",IFERROR(INDEX('Step 2. IHECO'!$C$324:$C$327,_xlfn.AGGREGATE(15,6,(ROW('Step 2. IHECO'!$C$324:$C$327)-ROW('Step 2. IHECO'!$C$324)+1)/('Step 2. IHECO'!$C$324:$C$327<>\"\"),ROWS(BN$52:BN60))),\"\"))","v":" "}]
[null,null,null,null,null,null,null,null,null,null,null,null,null,null,null,null,null,null,null,null,null,null,null,null,null,null,null,null,null,null,null,null,null,null,null,null,null,null,null,null,null,null,null,null,null,null,null,null,null,null,null,null,null,null,null,null,{"$f":"CONCATENATE(\" \",IFERROR(INDEX('Step 2. IHECO'!$C$23:$C$26,_xlfn.AGGREGATE(15,6,(ROW('Step 2. IHECO'!$C$23:$C$26)-ROW('Step 2. IHECO'!$C$23)+1)/('Step 2. IHECO'!$C$23:$C$26<>\"\"),ROWS(BE$56:BE61))),\"\"))","v":" "},{"$f":"CONCATENATE(\" \",IFERROR(INDEX('Step 2. IHECO'!$C$60:$C$61,_xlfn.AGGREGATE(15,6,(ROW('Step 2. IHECO'!$C$60:$C$61)-ROW('Step 2. IHECO'!$C$60)+1)/('Step 2. IHECO'!$C$60:$C$61<>\"\"),ROWS(BF$56:BF61))),\"\"))","v":" "},{"$f":"CONCATENATE(\" \",IFERROR(INDEX('Step 2. IHECO'!$C$77:$C$87,_xlfn.AGGREGATE(15,6,(ROW('Step 2. IHECO'!$C$77:$C$87)-ROW('Step 2. IHECO'!$C$77)+1)/('Step 2. IHECO'!$C$77:$C$87<>\"\"),ROWS(BG$52:BG61))),\"\"))","v":" 3.5.10. La organización evalúa todos los riesgos asegurables y toma las medidas adecuadas."},null,{"$f":"CONCATENATE(\" \",IFERROR(INDEX('Step 2. IHECO'!$C$120:$C$136,_xlfn.AGGREGATE(15,6,(ROW('Step 2. IHECO'!$C$120:$C$136)-ROW('Step 2. IHECO'!$C$120)+1)/('Step 2. IHECO'!$C$120:$C$136<>\"\"),ROWS(BI$40:BI61))),\"\"))","v":" "},null,{"$f":"CONCATENATE(\" \",IFERROR(INDEX('Step 2. IHECO'!$C$185:$C$187,_xlfn.AGGREGATE(15,6,(ROW('Step 2. IHECO'!$C$185:$C$187)-ROW('Step 2. IHECO'!$C$185)+1)/('Step 2. IHECO'!$C$185:$C$187<>\"\"),ROWS(BK$55:BK61))),\"\"))","v":" "},{"$f":"BL6","v":" 8.5. Generación de informes financieros"},{"$f":"BM6","v":" 9.5. Diseño e implementación de proyectos"},{"$f":"BN6","v":" 10.5. Dimensiones de la programación: seguimiento, evaluación y aprendizaje"}]
[null,null,null,null,null,null,null,null,null,null,null,null,null,null,null,null,null,null,null,null,null,null,null,null,null,null,null,null,null,null,null,null,null,null,null,null,null,null,null,null,null,null,null,null,null,null,null,null,null,null,null,null,null,null,null,null,{"$f":"CONCATENATE(\" \",IFERROR(INDEX('Step 2. IHECO'!$C$23:$C$26,_xlfn.AGGREGATE(15,6,(ROW('Step 2. IHECO'!$C$23:$C$26)-ROW('Step 2. IHECO'!$C$23)+1)/('Step 2. IHECO'!$C$23:$C$26<>\"\"),ROWS(BE$56:BE62))),\"\"))","v":" "},{"$f":"CONCATENATE(\" \",IFERROR(INDEX('Step 2. IHECO'!$C$60:$C$61,_xlfn.AGGREGATE(15,6,(ROW('Step 2. IHECO'!$C$60:$C$61)-ROW('Step 2. IHECO'!$C$60)+1)/('Step 2. IHECO'!$C$60:$C$61<>\"\"),ROWS(BF$56:BF62))),\"\"))","v":" "},{"$f":"CONCATENATE(\" \",IFERROR(INDEX('Step 2. IHECO'!$C$77:$C$87,_xlfn.AGGREGATE(15,6,(ROW('Step 2. IHECO'!$C$77:$C$87)-ROW('Step 2. IHECO'!$C$77)+1)/('Step 2. IHECO'!$C$77:$C$87<>\"\"),ROWS(BG$52:BG62))),\"\"))","v":" 3.5.11. Los activos no están sujetos a ningún conflicto ni litigio."},null,{"$f":"BI5","v":" 5.4. Sostenibilidad política"},null,{"$f":"CONCATENATE(\" \",IFERROR(INDEX('Step 2. IHECO'!$C$185:$C$187,_xlfn.AGGREGATE(15,6,(ROW('Step 2. IHECO'!$C$185:$C$187)-ROW('Step 2. IHECO'!$C$185)+1)/('Step 2. IHECO'!$C$185:$C$187<>\"\"),ROWS(BK$55:BK62))),\"\"))","v":" "},{"$f":"CONCATENATE(\" \",IFERROR(INDEX('Step 2. IHECO'!$C$223:$C$227,_xlfn.AGGREGATE(15,6,(ROW('Step 2. IHECO'!$C$223:$C$227)-ROW('Step 2. IHECO'!$C$223)+1)/('Step 2. IHECO'!$C$223:$C$227<>\"\"),ROWS(BL$62:BL62))),\"\"))","v":" 8.5.1 El libro mayor de contabilidad se usa como base para la generación de todos los informes financieros. Los informes financieros regulares, internos y externos, se ponen a disposición de la gerencia, los donadores y otras partes interesadas usando los formatos requeridos y conforme a plazos límite establecidos."},{"$f":"CONCATENATE(\" \",IFERROR(INDEX('Step 2. IHECO'!$C$275:$C$281,_xlfn.AGGREGATE(15,6,(ROW('Step 2. IHECO'!$C$275:$C$281)-ROW('Step 2. IHECO'!$C$275)+1)/('Step 2. IHECO'!$C$275:$C$281<>\"\"),ROWS(BM$62:BM62))),\"\"))","v":" 9.5.1. El personal elabora propuestas lógicas y bien escritas usando el lenguaje del donador."},{"$f":"CONCATENATE(\" \",IFERROR(INDEX('Step 2. IHECO'!$C$328:$C$331,_xlfn.AGGREGATE(15,6,(ROW('Step 2. IHECO'!$C$328:$C$331)-ROW('Step 2. IHECO'!$C$328)+1)/('Step 2. IHECO'!$C$328:$C$331<>\"\"),ROWS(BN$62:BN62))),\"\"))","v":" 10.5.1. Todos los datos recopilados para los proyectos se desglosan por sexo y edad durante los procesos de recopilación, análisis y presentación de informes."}]
[null,null,null,null,null,null,null,null,null,null,null,null,null,null,null,null,null,null,null,null,null,null,null,null,null,null,null,null,null,null,null,null,null,null,null,null,null,null,null,null,null,null,null,null,null,null,null,null,null,null,null,null,null,null,null,null,{"$f":"CONCATENATE(\" \",IFERROR(INDEX('Step 2. IHECO'!$C$23:$C$26,_xlfn.AGGREGATE(15,6,(ROW('Step 2. IHECO'!$C$23:$C$26)-ROW('Step 2. IHECO'!$C$23)+1)/('Step 2. IHECO'!$C$23:$C$26<>\"\"),ROWS(BE$56:BE63))),\"\"))","v":" "},null,{"$f":"CONCATENATE(\" \",IFERROR(INDEX('Step 2. IHECO'!$C$77:$C$87,_xlfn.AGGREGATE(15,6,(ROW('Step 2. IHECO'!$C$77:$C$87)-ROW('Step 2. IHECO'!$C$77)+1)/('Step 2. IHECO'!$C$77:$C$87<>\"\"),ROWS(BG$52:BG63))),\"\"))","v":" "},null,{"$f":"CONCATENATE(\" \",IFERROR(INDEX('Step 2. IHECO'!$C$137:$C$144,_xlfn.AGGREGATE(15,6,(ROW('Step 2. IHECO'!$C$137:$C$144)-ROW('Step 2. IHECO'!$C$137)+1)/('Step 2. IHECO'!$C$137:$C$144<>\"\"),ROWS(BI$63:BI63))),\"\"))","v":" 5.4.1. La organización es convincente desde el punto de vista profesional en las áreas de sus programas centrales y tiene legitimidad establecida ante las comunidades y las partes interesadas."},null,{"$f":"BK6","v":" 7.5. Sistemas de gestión del desempeño"},{"$f":"CONCATENATE(\" \",IFERROR(INDEX('Step 2. IHECO'!$C$223:$C$227,_xlfn.AGGREGATE(15,6,(ROW('Step 2. IHECO'!$C$223:$C$227)-ROW('Step 2. IHECO'!$C$223)+1)/('Step 2. IHECO'!$C$223:$C$227<>\"\"),ROWS(BL$62:BL63))),\"\"))","v":" 8.5.2. Finanzas y los respectivos gerentes de presupuesto deben investigar e informar a la gerencia de las variaciones significativas o los saldos inusuales que se observen durante las revisiones de los resultados reales en relación con el presupuesto."},{"$f":"CONCATENATE(\" \",IFERROR(INDEX('Step 2. IHECO'!$C$275:$C$281,_xlfn.AGGREGATE(15,6,(ROW('Step 2. IHECO'!$C$275:$C$281)-ROW('Step 2. IHECO'!$C$275)+1)/('Step 2. IHECO'!$C$275:$C$281<>\"\"),ROWS(BM$62:BM63))),\"\"))","v":" 9.5.2. El personal elabora documentos de síntesis que proporcionan la información requerida por los donadores."},{"$f":"CONCATENATE(\" \",IFERROR(INDEX('Step 2. IHECO'!$C$328:$C$331,_xlfn.AGGREGATE(15,6,(ROW('Step 2. IHECO'!$C$328:$C$331)-ROW('Step 2. IHECO'!$C$328)+1)/('Step 2. IHECO'!$C$328:$C$331<>\"\"),ROWS(BN$62:BN63))),\"\"))","v":" 10.5.2. El sistema de seguimiento y evaluación del proyecto incluye indicadores que tienen en cuenta la perspectiva de género para observar los cambios en las disparidades de género, en particular en las funciones y las responsabilidades, el tiempo, el acceso a los recursos y el control de los mismos, el poder en la toma de decisiones y para hacer un seguimiento de las consecuencias imprevistas.  "}]
[null,null,null,null,null,null,null,null,null,null,null,null,null,null,null,null,null,null,null,null,null,null,null,null,null,null,null,null,null,null,null,null,null,null,null,null,null,null,null,null,null,null,null,null,null,null,null,null,null,null,null,null,null,null,null,null,{"$f":"CONCATENATE(\" \",IFERROR(INDEX('Step 2. IHECO'!$C$23:$C$26,_xlfn.AGGREGATE(15,6,(ROW('Step 2. IHECO'!$C$23:$C$26)-ROW('Step 2. IHECO'!$C$23)+1)/('Step 2. IHECO'!$C$23:$C$26<>\"\"),ROWS(BE$56:BE64))),\"\"))","v":" "},null,{"$f":"CONCATENATE(\" \",IFERROR(INDEX('Step 2. IHECO'!$C$77:$C$87,_xlfn.AGGREGATE(15,6,(ROW('Step 2. IHECO'!$C$77:$C$87)-ROW('Step 2. IHECO'!$C$77)+1)/('Step 2. IHECO'!$C$77:$C$87<>\"\"),ROWS(BG$52:BG64))),\"\"))","v":" "},null,{"$f":"CONCATENATE(\" \",IFERROR(INDEX('Step 2. IHECO'!$C$137:$C$144,_xlfn.AGGREGATE(15,6,(ROW('Step 2. IHECO'!$C$137:$C$144)-ROW('Step 2. IHECO'!$C$137)+1)/('Step 2. IHECO'!$C$137:$C$144<>\"\"),ROWS(BI$63:BI64))),\"\"))","v":" 5.4.2. La organización es capaz de conseguir apoyo interno y externo para sus programas."},null,{"$f":"CONCATENATE(\" \",IFERROR(INDEX('Step 2. IHECO'!$C$188:$C$191,_xlfn.AGGREGATE(15,6,(ROW('Step 2. IHECO'!$C$188:$C$191)-ROW('Step 2. IHECO'!$C$188)+1)/('Step 2. IHECO'!$C$188:$C$191<>\"\"),ROWS(BK$64:BK64))),\"\"))","v":" 7.5.1. El personal trabaja con los supervisores para establecer sus propios planes de trabajo y cree que los planes representan adecuadamente sus responsabilidades."},{"$f":"CONCATENATE(\" \",IFERROR(INDEX('Step 2. IHECO'!$C$223:$C$227,_xlfn.AGGREGATE(15,6,(ROW('Step 2. IHECO'!$C$223:$C$227)-ROW('Step 2. IHECO'!$C$223)+1)/('Step 2. IHECO'!$C$223:$C$227<>\"\"),ROWS(BL$62:BL64))),\"\"))","v":" 8.5.3. La gerencia responde a las variaciones informadas y toma las medidas adecuadas."},{"$f":"CONCATENATE(\" \",IFERROR(INDEX('Step 2. IHECO'!$C$275:$C$281,_xlfn.AGGREGATE(15,6,(ROW('Step 2. IHECO'!$C$275:$C$281)-ROW('Step 2. IHECO'!$C$275)+1)/('Step 2. IHECO'!$C$275:$C$281<>\"\"),ROWS(BM$62:BM64))),\"\"))","v":" 9.5.3. El personal presenta propuestas oportunas y que se ajustan a los requisitos (y documentos de síntesis según se soliciten) a los donadores."},{"$f":"CONCATENATE(\" \",IFERROR(INDEX('Step 2. IHECO'!$C$328:$C$331,_xlfn.AGGREGATE(15,6,(ROW('Step 2. IHECO'!$C$328:$C$331)-ROW('Step 2. IHECO'!$C$328)+1)/('Step 2. IHECO'!$C$328:$C$331<>\"\"),ROWS(BN$62:BN64))),\"\"))","v":" 10.5.3. Se evalúan los efectos de los proyectos en las relaciones y la igualdad entre los géneros (por ejemplo, en qué medida las intervenciones de los proyectos han repercutido de manera positiva en los resultados de la igualdad entre los géneros, los cambios en el poder de toma de decisiones, la identificación de consecuencias imprevistas, etc.)."}]
[null,null,null,null,null,null,null,null,null,null,null,null,null,null,null,null,null,null,null,null,null,null,null,null,null,null,null,null,null,null,null,null,null,null,null,null,null,null,null,null,null,null,null,null,null,null,null,null,null,null,null,null,null,null,null,null,{"$f":"BE7","v":" 1.6. Estructura organizativa"},null,{"$f":"CONCATENATE(\" \",IFERROR(INDEX('Step 2. IHECO'!$C$77:$C$87,_xlfn.AGGREGATE(15,6,(ROW('Step 2. IHECO'!$C$77:$C$87)-ROW('Step 2. IHECO'!$C$77)+1)/('Step 2. IHECO'!$C$77:$C$87<>\"\"),ROWS(BG$52:BG65))),\"\"))","v":" "},null,{"$f":"CONCATENATE(\" \",IFERROR(INDEX('Step 2. IHECO'!$C$137:$C$144,_xlfn.AGGREGATE(15,6,(ROW('Step 2. IHECO'!$C$137:$C$144)-ROW('Step 2. IHECO'!$C$137)+1)/('Step 2. IHECO'!$C$137:$C$144<>\"\"),ROWS(BI$63:BI65))),\"\"))","v":" 5.4.3. La organización contribuye al desarrollo, el entorno, el crecimiento y la eficacia del sector de la sociedad civil."},null,{"$f":"CONCATENATE(\" \",IFERROR(INDEX('Step 2. IHECO'!$C$188:$C$191,_xlfn.AGGREGATE(15,6,(ROW('Step 2. IHECO'!$C$188:$C$191)-ROW('Step 2. IHECO'!$C$188)+1)/('Step 2. IHECO'!$C$188:$C$191<>\"\"),ROWS(BK$64:BK65))),\"\"))","v":" 7.5.2. Las metas de desempeño laboral son desafiantes y dan la oportunidad de que el personal demuestre iniciativa y creatividad."},{"$f":"CONCATENATE(\" \",IFERROR(INDEX('Step 2. IHECO'!$C$223:$C$227,_xlfn.AGGREGATE(15,6,(ROW('Step 2. IHECO'!$C$223:$C$227)-ROW('Step 2. IHECO'!$C$223)+1)/('Step 2. IHECO'!$C$223:$C$227<>\"\"),ROWS(BL$62:BL65))),\"\"))","v":" 8.5.4. El efectivo, las inversiones y las cuentas por cobrar totales de la organización han igualado o han superado a los pasivos durante los últimos tres años."},{"$f":"CONCATENATE(\" \",IFERROR(INDEX('Step 2. IHECO'!$C$275:$C$281,_xlfn.AGGREGATE(15,6,(ROW('Step 2. IHECO'!$C$275:$C$281)-ROW('Step 2. IHECO'!$C$275)+1)/('Step 2. IHECO'!$C$275:$C$281<>\"\"),ROWS(BM$62:BM65))),\"\"))","v":" 9.5.4. El personal desarrolla objetivos para los proyectos que están orientados a los resultados (resultados/impacto) en lugar de impulsados por aportes o actividades."},{"$f":"CONCATENATE(\" \",IFERROR(INDEX('Step 2. IHECO'!$C$328:$C$331,_xlfn.AGGREGATE(15,6,(ROW('Step 2. IHECO'!$C$328:$C$331)-ROW('Step 2. IHECO'!$C$328)+1)/('Step 2. IHECO'!$C$328:$C$331<>\"\"),ROWS(BN$62:BN65))),\"\"))","v":" 10.5.4. Las lecciones aprendidas y las buenas prácticas con relación al género se compilan, se documentan y se comparten sistemáticamente durante la ejecución del programa y con posterioridad a ella."}]
[null,null,null,null,null,null,null,null,null,null,null,null,null,null,null,null,null,null,null,null,null,null,null,null,null,null,null,null,null,null,null,null,null,null,null,null,null,null,null,null,null,null,null,null,null,null,null,null,null,null,null,null,null,null,null,null,{"$f":"CONCATENATE(\" \",IFERROR(INDEX('Step 2. IHECO'!$C$27:$C$33,_xlfn.AGGREGATE(15,6,(ROW('Step 2. IHECO'!$C$27:$C$33)-ROW('Step 2. IHECO'!$C$27)+1)/('Step 2. IHECO'!$C$27:$C$33<>\"\"),ROWS(BE$66:BE66))),\"\"))","v":" 1.6.1. La estructura organizativa respalda la misión, la visión y los valores de la organización."},null,{"$f":"CONCATENATE(\" \",IFERROR(INDEX('Step 2. IHECO'!$C$77:$C$87,_xlfn.AGGREGATE(15,6,(ROW('Step 2. IHECO'!$C$77:$C$87)-ROW('Step 2. IHECO'!$C$77)+1)/('Step 2. IHECO'!$C$77:$C$87<>\"\"),ROWS(BG$52:BG66))),\"\"))","v":" "},null,{"$f":"CONCATENATE(\" \",IFERROR(INDEX('Step 2. IHECO'!$C$137:$C$144,_xlfn.AGGREGATE(15,6,(ROW('Step 2. IHECO'!$C$137:$C$144)-ROW('Step 2. IHECO'!$C$137)+1)/('Step 2. IHECO'!$C$137:$C$144<>\"\"),ROWS(BI$63:BI66))),\"\"))","v":" 5.4.4. La asociación de la organización con el gobierno y los encargados de elaborar políticas, a través de la participación en grupos de trabajo y otras estructuras, da forma a las políticas y las pautas en que operan sus programas."},null,{"$f":"CONCATENATE(\" \",IFERROR(INDEX('Step 2. IHECO'!$C$188:$C$191,_xlfn.AGGREGATE(15,6,(ROW('Step 2. IHECO'!$C$188:$C$191)-ROW('Step 2. IHECO'!$C$188)+1)/('Step 2. IHECO'!$C$188:$C$191<>\"\"),ROWS(BK$64:BK66))),\"\"))","v":" 7.5.3. Un sistema documentado y funcional guía la retroalimentación regular y sistemática del desempeño, las sesiones de tutoría y las evaluaciones anuales del personal y los voluntarios."},{"$f":"CONCATENATE(\" \",IFERROR(INDEX('Step 2. IHECO'!$C$223:$C$227,_xlfn.AGGREGATE(15,6,(ROW('Step 2. IHECO'!$C$223:$C$227)-ROW('Step 2. IHECO'!$C$223)+1)/('Step 2. IHECO'!$C$223:$C$227<>\"\"),ROWS(BL$62:BL66))),\"\"))","v":" 8.5.5. Los saldos de todas las cuentas de activos y cuentas por pagar se analizan al menos una vez por trimestre y los informes se presentan para la revisión de la gerencia."},{"$f":"CONCATENATE(\" \",IFERROR(INDEX('Step 2. IHECO'!$C$275:$C$281,_xlfn.AGGREGATE(15,6,(ROW('Step 2. IHECO'!$C$275:$C$281)-ROW('Step 2. IHECO'!$C$275)+1)/('Step 2. IHECO'!$C$275:$C$281<>\"\"),ROWS(BM$62:BM66))),\"\"))","v":" 9.5.5. El personal elabora propuestas, presupuestos y notas de presupuesto simultáneamente y el borrador es revisado por pares, quienes dan sus comentarios para mejorarlo."},{"$f":"CONCATENATE(\" \",IFERROR(INDEX('Step 2. IHECO'!$C$328:$C$331,_xlfn.AGGREGATE(15,6,(ROW('Step 2. IHECO'!$C$328:$C$331)-ROW('Step 2. IHECO'!$C$328)+1)/('Step 2. IHECO'!$C$328:$C$331<>\"\"),ROWS(BN$62:BN66))),\"\"))","v":" "}]
[null,null,null,null,null,null,null,null,null,null,null,null,null,null,null,null,null,null,null,null,null,null,null,null,null,null,null,null,null,null,null,null,null,null,null,null,null,null,null,null,null,null,null,null,null,null,null,null,null,null,null,null,null,null,null,null,{"$f":"CONCATENATE(\" \",IFERROR(INDEX('Step 2. IHECO'!$C$27:$C$33,_xlfn.AGGREGATE(15,6,(ROW('Step 2. IHECO'!$C$27:$C$33)-ROW('Step 2. IHECO'!$C$27)+1)/('Step 2. IHECO'!$C$27:$C$33<>\"\"),ROWS(BE$66:BE67))),\"\"))","v":" 1.6.2. Los estatutos y la estructura de la organización separan claramente los roles y las responsabilidades de la gerencia y la junta directiva."},null,{"$f":"CONCATENATE(\" \",IFERROR(INDEX('Step 2. IHECO'!$C$77:$C$87,_xlfn.AGGREGATE(15,6,(ROW('Step 2. IHECO'!$C$77:$C$87)-ROW('Step 2. IHECO'!$C$77)+1)/('Step 2. IHECO'!$C$77:$C$87<>\"\"),ROWS(BG$52:BG67))),\"\"))","v":" "},null,{"$f":"CONCATENATE(\" \",IFERROR(INDEX('Step 2. IHECO'!$C$137:$C$144,_xlfn.AGGREGATE(15,6,(ROW('Step 2. IHECO'!$C$137:$C$144)-ROW('Step 2. IHECO'!$C$137)+1)/('Step 2. IHECO'!$C$137:$C$144<>\"\"),ROWS(BI$63:BI67))),\"\"))","v":" 5.4.5. La organización usa sus valores y perspectiva respecto del desarrollo humano para influir en las prioridades y pautas de las organizaciones y donadores internacionales."},null,{"$f":"CONCATENATE(\" \",IFERROR(INDEX('Step 2. IHECO'!$C$188:$C$191,_xlfn.AGGREGATE(15,6,(ROW('Step 2. IHECO'!$C$188:$C$191)-ROW('Step 2. IHECO'!$C$188)+1)/('Step 2. IHECO'!$C$188:$C$191<>\"\"),ROWS(BK$64:BK67))),\"\"))","v":" 7.5.4. Un sistema documentado, funcional y actualizado regularmente guía los reconocimientos y las recompensas del personal y los voluntarios, incluidos los ascensos y otras recompensas."},{"$f":"CONCATENATE(\" \",IFERROR(INDEX('Step 2. IHECO'!$C$223:$C$227,_xlfn.AGGREGATE(15,6,(ROW('Step 2. IHECO'!$C$223:$C$227)-ROW('Step 2. IHECO'!$C$223)+1)/('Step 2. IHECO'!$C$223:$C$227<>\"\"),ROWS(BL$62:BL67))),\"\"))","v":" "},{"$f":"CONCATENATE(\" \",IFERROR(INDEX('Step 2. IHECO'!$C$275:$C$281,_xlfn.AGGREGATE(15,6,(ROW('Step 2. IHECO'!$C$275:$C$281)-ROW('Step 2. IHECO'!$C$275)+1)/('Step 2. IHECO'!$C$275:$C$281<>\"\"),ROWS(BM$62:BM67))),\"\"))","v":" 9.5.6. La organización desarrolla indicadores de resultados e impacto para sus proyectos."},{"$f":"CONCATENATE(\" \",IFERROR(INDEX('Step 2. IHECO'!$C$328:$C$331,_xlfn.AGGREGATE(15,6,(ROW('Step 2. IHECO'!$C$328:$C$331)-ROW('Step 2. IHECO'!$C$328)+1)/('Step 2. IHECO'!$C$328:$C$331<>\"\"),ROWS(BN$62:BN67))),\"\"))","v":" "}]
[null,null,null,null,null,null,null,null,null,null,null,null,null,null,null,null,null,null,null,null,null,null,null,null,null,null,null,null,null,null,null,null,null,null,null,null,null,null,null,null,null,null,null,null,null,null,null,null,null,null,null,null,null,null,null,null,{"$f":"CONCATENATE(\" \",IFERROR(INDEX('Step 2. IHECO'!$C$27:$C$33,_xlfn.AGGREGATE(15,6,(ROW('Step 2. IHECO'!$C$27:$C$33)-ROW('Step 2. IHECO'!$C$27)+1)/('Step 2. IHECO'!$C$27:$C$33<>\"\"),ROWS(BE$66:BE68))),\"\"))","v":" 1.6.3. La organización tiene un organigrama actualizado, que se comparte con el personal."},null,null,null,{"$f":"CONCATENATE(\" \",IFERROR(INDEX('Step 2. IHECO'!$C$137:$C$144,_xlfn.AGGREGATE(15,6,(ROW('Step 2. IHECO'!$C$137:$C$144)-ROW('Step 2. IHECO'!$C$137)+1)/('Step 2. IHECO'!$C$137:$C$144<>\"\"),ROWS(BI$63:BI68))),\"\"))","v":" 5.4.6. La organización ha fomentado la existencia de un grupo leal dentro de la comunidad y tiene una imagen pública respetada."},null,{"$f":"CONCATENATE(\" \",IFERROR(INDEX('Step 2. IHECO'!$C$188:$C$191,_xlfn.AGGREGATE(15,6,(ROW('Step 2. IHECO'!$C$188:$C$191)-ROW('Step 2. IHECO'!$C$188)+1)/('Step 2. IHECO'!$C$188:$C$191<>\"\"),ROWS(BK$64:BK68))),\"\"))","v":" "},{"$f":"CONCATENATE(\" \",IFERROR(INDEX('Step 2. IHECO'!$C$223:$C$227,_xlfn.AGGREGATE(15,6,(ROW('Step 2. IHECO'!$C$223:$C$227)-ROW('Step 2. IHECO'!$C$223)+1)/('Step 2. IHECO'!$C$223:$C$227<>\"\"),ROWS(BL$62:BL68))),\"\"))","v":" "},{"$f":"CONCATENATE(\" \",IFERROR(INDEX('Step 2. IHECO'!$C$275:$C$281,_xlfn.AGGREGATE(15,6,(ROW('Step 2. IHECO'!$C$275:$C$281)-ROW('Step 2. IHECO'!$C$275)+1)/('Step 2. IHECO'!$C$275:$C$281<>\"\"),ROWS(BM$62:BM68))),\"\"))","v":" 9.5.7. La organización controla el progreso en función de los indicadores de impacto."},{"$f":"CONCATENATE(\" \",IFERROR(INDEX('Step 2. IHECO'!$C$328:$C$331,_xlfn.AGGREGATE(15,6,(ROW('Step 2. IHECO'!$C$328:$C$331)-ROW('Step 2. IHECO'!$C$328)+1)/('Step 2. IHECO'!$C$328:$C$331<>\"\"),ROWS(BN$62:BN68))),\"\"))","v":" "}]
[null,null,null,null,null,null,null,null,null,null,null,null,null,null,null,null,null,null,null,null,null,null,null,null,null,null,null,null,null,null,null,null,null,null,null,null,null,null,null,null,null,null,null,null,null,null,null,null,null,null,null,null,null,null,null,null,{"$f":"CONCATENATE(\" \",IFERROR(INDEX('Step 2. IHECO'!$C$27:$C$33,_xlfn.AGGREGATE(15,6,(ROW('Step 2. IHECO'!$C$27:$C$33)-ROW('Step 2. IHECO'!$C$27)+1)/('Step 2. IHECO'!$C$27:$C$33<>\"\"),ROWS(BE$66:BE69))),\"\"))","v":" 1.6.4. El organigrama muestra claramente los niveles de subordinación y los canales de comunicación. El organigrama refleja los niveles de toma de decisiones y las líneas de subordinación dentro de la organización."},null,null,null,{"$f":"CONCATENATE(\" \",IFERROR(INDEX('Step 2. IHECO'!$C$137:$C$144,_xlfn.AGGREGATE(15,6,(ROW('Step 2. IHECO'!$C$137:$C$144)-ROW('Step 2. IHECO'!$C$137)+1)/('Step 2. IHECO'!$C$137:$C$144<>\"\"),ROWS(BI$63:BI69))),\"\"))","v":" 5.4.7. La organización asiste a las comunidades en el desarrollo de habilidades representativas y de defensoría que aumentan los vínculos con instituciones públicas y privadas."},null,{"$f":"CONCATENATE(\" \",IFERROR(INDEX('Step 2. IHECO'!$C$188:$C$191,_xlfn.AGGREGATE(15,6,(ROW('Step 2. IHECO'!$C$188:$C$191)-ROW('Step 2. IHECO'!$C$188)+1)/('Step 2. IHECO'!$C$188:$C$191<>\"\"),ROWS(BK$64:BK69))),\"\"))","v":" "},{"$f":"CONCATENATE(\" \",IFERROR(INDEX('Step 2. IHECO'!$C$223:$C$227,_xlfn.AGGREGATE(15,6,(ROW('Step 2. IHECO'!$C$223:$C$227)-ROW('Step 2. IHECO'!$C$223)+1)/('Step 2. IHECO'!$C$223:$C$227<>\"\"),ROWS(BL$62:BL69))),\"\"))","v":" "},{"$f":"CONCATENATE(\" \",IFERROR(INDEX('Step 2. IHECO'!$C$275:$C$281,_xlfn.AGGREGATE(15,6,(ROW('Step 2. IHECO'!$C$275:$C$281)-ROW('Step 2. IHECO'!$C$275)+1)/('Step 2. IHECO'!$C$275:$C$281<>\"\"),ROWS(BM$62:BM69))),\"\"))","v":" "},{"$f":"CONCATENATE(\" \",IFERROR(INDEX('Step 2. IHECO'!$C$328:$C$331,_xlfn.AGGREGATE(15,6,(ROW('Step 2. IHECO'!$C$328:$C$331)-ROW('Step 2. IHECO'!$C$328)+1)/('Step 2. IHECO'!$C$328:$C$331<>\"\"),ROWS(BN$62:BN69))),\"\"))","v":" "}]
[null,null,null,null,null,null,null,null,null,null,null,null,null,null,null,null,null,null,null,null,null,null,null,null,null,null,null,null,null,null,null,null,null,null,null,null,null,null,null,null,null,null,null,null,null,null,null,null,null,null,null,null,null,null,null,null,{"$f":"CONCATENATE(\" \",IFERROR(INDEX('Step 2. IHECO'!$C$27:$C$33,_xlfn.AGGREGATE(15,6,(ROW('Step 2. IHECO'!$C$27:$C$33)-ROW('Step 2. IHECO'!$C$27)+1)/('Step 2. IHECO'!$C$27:$C$33<>\"\"),ROWS(BE$66:BE70))),\"\"))","v":" 1.6.5. La estructura administrativa tiene un mecanismo consultivo."},null,null,null,{"$f":"CONCATENATE(\" \",IFERROR(INDEX('Step 2. IHECO'!$C$137:$C$144,_xlfn.AGGREGATE(15,6,(ROW('Step 2. IHECO'!$C$137:$C$144)-ROW('Step 2. IHECO'!$C$137)+1)/('Step 2. IHECO'!$C$137:$C$144<>\"\"),ROWS(BI$63:BI70))),\"\"))","v":" 5.4.8. La organización tiene la capacidad de producir pruebas locales de las necesidades y la eficacia de sus programas y puede comunicárselas al gobierno, los donadores, otras partes interesadas y el público."},null,{"$f":"CONCATENATE(\" \",IFERROR(INDEX('Step 2. IHECO'!$C$188:$C$191,_xlfn.AGGREGATE(15,6,(ROW('Step 2. IHECO'!$C$188:$C$191)-ROW('Step 2. IHECO'!$C$188)+1)/('Step 2. IHECO'!$C$188:$C$191<>\"\"),ROWS(BK$64:BK70))),\"\"))","v":" "},{"$f":"CONCATENATE(\" \",IFERROR(INDEX('Step 2. IHECO'!$C$223:$C$227,_xlfn.AGGREGATE(15,6,(ROW('Step 2. IHECO'!$C$223:$C$227)-ROW('Step 2. IHECO'!$C$223)+1)/('Step 2. IHECO'!$C$223:$C$227<>\"\"),ROWS(BL$62:BL70))),\"\"))","v":" "},{"$f":"CONCATENATE(\" \",IFERROR(INDEX('Step 2. IHECO'!$C$275:$C$281,_xlfn.AGGREGATE(15,6,(ROW('Step 2. IHECO'!$C$275:$C$281)-ROW('Step 2. IHECO'!$C$275)+1)/('Step 2. IHECO'!$C$275:$C$281<>\"\"),ROWS(BM$62:BM70))),\"\"))","v":" "},{"$f":"CONCATENATE(\" \",IFERROR(INDEX('Step 2. IHECO'!$C$328:$C$331,_xlfn.AGGREGATE(15,6,(ROW('Step 2. IHECO'!$C$328:$C$331)-ROW('Step 2. IHECO'!$C$328)+1)/('Step 2. IHECO'!$C$328:$C$331<>\"\"),ROWS(BN$62:BN70))),\"\"))","v":" "}]
[null,null,null,null,null,null,null,null,null,null,null,null,null,null,null,null,null,null,null,null,null,null,null,null,null,null,null,null,null,null,null,null,null,null,null,null,null,null,null,null,null,null,null,null,null,null,null,null,null,null,null,null,null,null,null,null,{"$f":"CONCATENATE(\" \",IFERROR(INDEX('Step 2. IHECO'!$C$27:$C$33,_xlfn.AGGREGATE(15,6,(ROW('Step 2. IHECO'!$C$27:$C$33)-ROW('Step 2. IHECO'!$C$27)+1)/('Step 2. IHECO'!$C$27:$C$33<>\"\"),ROWS(BE$66:BE71))),\"\"))","v":" 1.6.6. Todos los puestos del organigrama están cubiertos, o existe un plan en vigor para cubrirlos en el futuro cercano."},null,null,null,{"$f":"CONCATENATE(\" \",IFERROR(INDEX('Step 2. IHECO'!$C$137:$C$144,_xlfn.AGGREGATE(15,6,(ROW('Step 2. IHECO'!$C$137:$C$144)-ROW('Step 2. IHECO'!$C$137)+1)/('Step 2. IHECO'!$C$137:$C$144<>\"\"),ROWS(BI$63:BI71))),\"\"))","v":" "},null,{"$f":"CONCATENATE(\" \",IFERROR(INDEX('Step 2. IHECO'!$C$188:$C$191,_xlfn.AGGREGATE(15,6,(ROW('Step 2. IHECO'!$C$188:$C$191)-ROW('Step 2. IHECO'!$C$188)+1)/('Step 2. IHECO'!$C$188:$C$191<>\"\"),ROWS(BK$64:BK71))),\"\"))","v":" "},{"$f":"CONCATENATE(\" \",IFERROR(INDEX('Step 2. IHECO'!$C$223:$C$227,_xlfn.AGGREGATE(15,6,(ROW('Step 2. IHECO'!$C$223:$C$227)-ROW('Step 2. IHECO'!$C$223)+1)/('Step 2. IHECO'!$C$223:$C$227<>\"\"),ROWS(BL$62:BL71))),\"\"))","v":" "},{"$f":"CONCATENATE(\" \",IFERROR(INDEX('Step 2. IHECO'!$C$275:$C$281,_xlfn.AGGREGATE(15,6,(ROW('Step 2. IHECO'!$C$275:$C$281)-ROW('Step 2. IHECO'!$C$275)+1)/('Step 2. IHECO'!$C$275:$C$281<>\"\"),ROWS(BM$62:BM71))),\"\"))","v":" "}]
[null,null,null,null,null,null,null,null,null,null,null,null,null,null,null,null,null,null,null,null,null,null,null,null,null,null,null,null,null,null,null,null,null,null,null,null,null,null,null,null,null,null,null,null,null,null,null,null,null,null,null,null,null,null,null,null,{"$f":"CONCATENATE(\" \",IFERROR(INDEX('Step 2. IHECO'!$C$27:$C$33,_xlfn.AGGREGATE(15,6,(ROW('Step 2. IHECO'!$C$27:$C$33)-ROW('Step 2. IHECO'!$C$27)+1)/('Step 2. IHECO'!$C$27:$C$33<>\"\"),ROWS(BE$66:BE72))),\"\"))","v":" 1.6.7. Los puestos de la estructura de la organización reflejan o representan los requisitos de dotación de personal de la organización."},null,null,null,{"$f":"CONCATENATE(\" \",IFERROR(INDEX('Step 2. IHECO'!$C$137:$C$144,_xlfn.AGGREGATE(15,6,(ROW('Step 2. IHECO'!$C$137:$C$144)-ROW('Step 2. IHECO'!$C$137)+1)/('Step 2. IHECO'!$C$137:$C$144<>\"\"),ROWS(BI$63:BI72))),\"\"))","v":" "},null,{"$f":"CONCATENATE(\" \",IFERROR(INDEX('Step 2. IHECO'!$C$188:$C$191,_xlfn.AGGREGATE(15,6,(ROW('Step 2. IHECO'!$C$188:$C$191)-ROW('Step 2. IHECO'!$C$188)+1)/('Step 2. IHECO'!$C$188:$C$191<>\"\"),ROWS(BK$64:BK72))),\"\"))","v":" "},{"$f":"BL7","v":" 8.6. Gestión del inventario"},{"$f":"CONCATENATE(\" \",IFERROR(INDEX('Step 2. IHECO'!$C$275:$C$281,_xlfn.AGGREGATE(15,6,(ROW('Step 2. IHECO'!$C$275:$C$281)-ROW('Step 2. IHECO'!$C$275)+1)/('Step 2. IHECO'!$C$275:$C$281<>\"\"),ROWS(BM$62:BM72))),\"\"))","v":" "}]
[null,null,null,null,null,null,null,null,null,null,null,null,null,null,null,null,null,null,null,null,null,null,null,null,null,null,null,null,null,null,null,null,null,null,null,null,null,null,null,null,null,null,null,null,null,null,null,null,null,null,null,null,null,null,null,null,{"$f":"CONCATENATE(\" \",IFERROR(INDEX('Step 2. IHECO'!$C$27:$C$33,_xlfn.AGGREGATE(15,6,(ROW('Step 2. IHECO'!$C$27:$C$33)-ROW('Step 2. IHECO'!$C$27)+1)/('Step 2. IHECO'!$C$27:$C$33<>\"\"),ROWS(BE$66:BE73))),\"\"))","v":" "},null,null,null,{"$f":"CONCATENATE(\" \",IFERROR(INDEX('Step 2. IHECO'!$C$137:$C$144,_xlfn.AGGREGATE(15,6,(ROW('Step 2. IHECO'!$C$137:$C$144)-ROW('Step 2. IHECO'!$C$137)+1)/('Step 2. IHECO'!$C$137:$C$144<>\"\"),ROWS(BI$63:BI73))),\"\"))","v":" "},null,{"$f":"BK7","v":" 7.6. Desarrollo del personal"},{"$f":"CONCATENATE(\" \",IFERROR(INDEX('Step 2. IHECO'!$C$228:$C$236,_xlfn.AGGREGATE(15,6,(ROW('Step 2. IHECO'!$C$228:$C$236)-ROW('Step 2. IHECO'!$C$228)+1)/('Step 2. IHECO'!$C$228:$C$236<>\"\"),ROWS(BL$73:BL73))),\"\"))","v":" 8.6.1. La organización usa un proceso manual o documentado que especifica los requisitos de almacenamiento y mantenimiento de registros para todos los artículos inventariables."},{"$f":"CONCATENATE(\" \",IFERROR(INDEX('Step 2. IHECO'!$C$275:$C$281,_xlfn.AGGREGATE(15,6,(ROW('Step 2. IHECO'!$C$275:$C$281)-ROW('Step 2. IHECO'!$C$275)+1)/('Step 2. IHECO'!$C$275:$C$281<>\"\"),ROWS(BM$62:BM73))),\"\"))","v":" "}]
[null,null,null,null,null,null,null,null,null,null,null,null,null,null,null,null,null,null,null,null,null,null,null,null,null,null,null,null,null,null,null,null,null,null,null,null,null,null,null,null,null,null,null,null,null,null,null,null,null,null,null,null,null,null,null,null,{"$f":"CONCATENATE(\" \",IFERROR(INDEX('Step 2. IHECO'!$C$27:$C$33,_xlfn.AGGREGATE(15,6,(ROW('Step 2. IHECO'!$C$27:$C$33)-ROW('Step 2. IHECO'!$C$27)+1)/('Step 2. IHECO'!$C$27:$C$33<>\"\"),ROWS(BE$66:BE74))),\"\"))","v":" "},null,null,null,{"$f":"CONCATENATE(\" \",IFERROR(INDEX('Step 2. IHECO'!$C$137:$C$144,_xlfn.AGGREGATE(15,6,(ROW('Step 2. IHECO'!$C$137:$C$144)-ROW('Step 2. IHECO'!$C$137)+1)/('Step 2. IHECO'!$C$137:$C$144<>\"\"),ROWS(BI$63:BI74))),\"\"))","v":" "},null,{"$f":"CONCATENATE(\" \",IFERROR(INDEX('Step 2. IHECO'!$C$192:$C$198,_xlfn.AGGREGATE(15,6,(ROW('Step 2. IHECO'!$C$192:$C$198)-ROW('Step 2. IHECO'!$C$192)+1)/('Step 2. IHECO'!$C$192:$C$198<>\"\"),ROWS(BK$74:BK74))),\"\"))","v":" 7.6.1. Todos los empleados sienten que tienen una oportunidad justa de obtener un ascenso."},{"$f":"CONCATENATE(\" \",IFERROR(INDEX('Step 2. IHECO'!$C$228:$C$236,_xlfn.AGGREGATE(15,6,(ROW('Step 2. IHECO'!$C$228:$C$236)-ROW('Step 2. IHECO'!$C$228)+1)/('Step 2. IHECO'!$C$228:$C$236<>\"\"),ROWS(BL$73:BL74))),\"\"))","v":" 8.6.2. Todos los bienes, incluidos los bienes básicos o el ganado, que la organización reciba o compre, se mantienen adecuadamente y se conservan en instalaciones de almacenamiento adecuadas y seguras."},{"$f":"BM7","v":" 9.6. Supervisión, evaluación y generación de informes"}]
[null,null,null,null,null,null,null,null,null,null,null,null,null,null,null,null,null,null,null,null,null,null,null,null,null,null,null,null,null,null,null,null,null,null,null,null,null,null,null,null,null,null,null,null,null,null,null,null,null,null,null,null,null,null,null,null,{"$f":"CONCATENATE(\" \",IFERROR(INDEX('Step 2. IHECO'!$C$27:$C$33,_xlfn.AGGREGATE(15,6,(ROW('Step 2. IHECO'!$C$27:$C$33)-ROW('Step 2. IHECO'!$C$27)+1)/('Step 2. IHECO'!$C$27:$C$33<>\"\"),ROWS(BE$66:BE75))),\"\"))","v":" "},null,null,null,{"$f":"CONCATENATE(\" \",IFERROR(INDEX('Step 2. IHECO'!$C$137:$C$144,_xlfn.AGGREGATE(15,6,(ROW('Step 2. IHECO'!$C$137:$C$144)-ROW('Step 2. IHECO'!$C$137)+1)/('Step 2. IHECO'!$C$137:$C$144<>\"\"),ROWS(BI$63:BI75))),\"\"))","v":" "},null,{"$f":"CONCATENATE(\" \",IFERROR(INDEX('Step 2. IHECO'!$C$192:$C$198,_xlfn.AGGREGATE(15,6,(ROW('Step 2. IHECO'!$C$192:$C$198)-ROW('Step 2. IHECO'!$C$192)+1)/('Step 2. IHECO'!$C$192:$C$198<>\"\"),ROWS(BK$74:BK75))),\"\"))","v":" 7.6.2. Las oportunidades de obtener un ascenso son publicitadas e identifican claramente el trabajo y las habilidades requeridas."},{"$f":"CONCATENATE(\" \",IFERROR(INDEX('Step 2. IHECO'!$C$228:$C$236,_xlfn.AGGREGATE(15,6,(ROW('Step 2. IHECO'!$C$228:$C$236)-ROW('Step 2. IHECO'!$C$228)+1)/('Step 2. IHECO'!$C$228:$C$236<>\"\"),ROWS(BL$73:BL75))),\"\"))","v":" 8.6.3. Hay un gerente de almacén que supervisa la contabilidad, el mantenimiento y la seguridad de los bienes almacenados en el almacén."},{"$f":"CONCATENATE(\" \",IFERROR(INDEX('Step 2. IHECO'!$C$282:$C$288,_xlfn.AGGREGATE(15,6,(ROW('Step 2. IHECO'!$C$282:$C$288)-ROW('Step 2. IHECO'!$C$282)+1)/('Step 2. IHECO'!$C$282:$C$288<>\"\"),ROWS(BM$75:BM75))),\"\"))","v":" 9.6.1. La organización tiene sistemas de supervisión y evaluación bien diseñados que entregan información cuantitativa y cualitativa clara y un análisis de los procesos y resultados de los programas en relación con las metas y los objetivos de los programas."}]
[null,null,null,null,null,null,null,null,null,null,null,null,null,null,null,null,null,null,null,null,null,null,null,null,null,null,null,null,null,null,null,null,null,null,null,null,null,null,null,null,null,null,null,null,null,null,null,null,null,null,null,null,null,null,null,null,{"$f":"CONCATENATE(\" \",IFERROR(INDEX('Step 2. IHECO'!$C$27:$C$33,_xlfn.AGGREGATE(15,6,(ROW('Step 2. IHECO'!$C$27:$C$33)-ROW('Step 2. IHECO'!$C$27)+1)/('Step 2. IHECO'!$C$27:$C$33<>\"\"),ROWS(BE$66:BE76))),\"\"))","v":" "},null,null,null,null,null,{"$f":"CONCATENATE(\" \",IFERROR(INDEX('Step 2. IHECO'!$C$192:$C$198,_xlfn.AGGREGATE(15,6,(ROW('Step 2. IHECO'!$C$192:$C$198)-ROW('Step 2. IHECO'!$C$192)+1)/('Step 2. IHECO'!$C$192:$C$198<>\"\"),ROWS(BK$74:BK76))),\"\"))","v":" 7.6.3. La organización tiene un sistema documentado para promover el desarrollo de cada miembro del personal y mecanismos para hacer un seguimiento del uso de las nuevas capacidades."},{"$f":"CONCATENATE(\" \",IFERROR(INDEX('Step 2. IHECO'!$C$228:$C$236,_xlfn.AGGREGATE(15,6,(ROW('Step 2. IHECO'!$C$228:$C$236)-ROW('Step 2. IHECO'!$C$228)+1)/('Step 2. IHECO'!$C$228:$C$236<>\"\"),ROWS(BL$73:BL76))),\"\"))","v":" 8.6.4. Las instalaciones de almacenamiento están resguardadas en todo momento."},{"$f":"CONCATENATE(\" \",IFERROR(INDEX('Step 2. IHECO'!$C$282:$C$288,_xlfn.AGGREGATE(15,6,(ROW('Step 2. IHECO'!$C$282:$C$288)-ROW('Step 2. IHECO'!$C$282)+1)/('Step 2. IHECO'!$C$282:$C$288<>\"\"),ROWS(BM$75:BM76))),\"\"))","v":" 9.6.2. La gerencia supervisa, evalúa y genera informes de los proyectos de modo sistemático."}]
[null,null,null,null,null,null,null,null,null,null,null,null,null,null,null,null,null,null,null,null,null,null,null,null,null,null,null,null,null,null,null,null,null,null,null,null,null,null,null,null,null,null,null,null,null,null,null,null,null,null,null,null,null,null,null,null,{"$f":"CONCATENATE(\" \",IFERROR(INDEX('Step 2. IHECO'!$C$27:$C$33,_xlfn.AGGREGATE(15,6,(ROW('Step 2. IHECO'!$C$27:$C$33)-ROW('Step 2. IHECO'!$C$27)+1)/('Step 2. IHECO'!$C$27:$C$33<>\"\"),ROWS(BE$66:BE77))),\"\"))","v":" "},null,null,null,null,null,{"$f":"CONCATENATE(\" \",IFERROR(INDEX('Step 2. IHECO'!$C$192:$C$198,_xlfn.AGGREGATE(15,6,(ROW('Step 2. IHECO'!$C$192:$C$198)-ROW('Step 2. IHECO'!$C$192)+1)/('Step 2. IHECO'!$C$192:$C$198<>\"\"),ROWS(BK$74:BK77))),\"\"))","v":" 7.6.4. El personal tiene un plan de desarrollo que está ligado al logro del desempeño individual y a los objetivos de la organización."},{"$f":"CONCATENATE(\" \",IFERROR(INDEX('Step 2. IHECO'!$C$228:$C$236,_xlfn.AGGREGATE(15,6,(ROW('Step 2. IHECO'!$C$228:$C$236)-ROW('Step 2. IHECO'!$C$228)+1)/('Step 2. IHECO'!$C$228:$C$236<>\"\"),ROWS(BL$73:BL77))),\"\"))","v":" 8.6.5. Todos los bienes almacenados se cuentan independientemente a intervalos determinados, y las diferencias significativas entre los recuentos y los registros del inventario se investigan e informan a la gerencia."},{"$f":"CONCATENATE(\" \",IFERROR(INDEX('Step 2. IHECO'!$C$282:$C$288,_xlfn.AGGREGATE(15,6,(ROW('Step 2. IHECO'!$C$282:$C$288)-ROW('Step 2. IHECO'!$C$282)+1)/('Step 2. IHECO'!$C$282:$C$288<>\"\"),ROWS(BM$75:BM77))),\"\"))","v":" 9.6.3. La organización usa la información reunida a partir de las evaluaciones para desarrollar proyectos más sostenibles."}]
[null,null,null,null,null,null,null,null,null,null,null,null,null,null,null,null,null,null,null,null,null,null,null,null,null,null,null,null,null,null,null,null,null,null,null,null,null,null,null,null,null,null,null,null,null,null,null,null,null,null,null,null,null,null,null,null,{"$f":"CONCATENATE(\" \",IFERROR(INDEX('Step 2. IHECO'!$C$27:$C$33,_xlfn.AGGREGATE(15,6,(ROW('Step 2. IHECO'!$C$27:$C$33)-ROW('Step 2. IHECO'!$C$27)+1)/('Step 2. IHECO'!$C$27:$C$33<>\"\"),ROWS(BE$66:BE78))),\"\"))","v":" "},null,null,null,null,null,{"$f":"CONCATENATE(\" \",IFERROR(INDEX('Step 2. IHECO'!$C$192:$C$198,_xlfn.AGGREGATE(15,6,(ROW('Step 2. IHECO'!$C$192:$C$198)-ROW('Step 2. IHECO'!$C$192)+1)/('Step 2. IHECO'!$C$192:$C$198<>\"\"),ROWS(BK$74:BK78))),\"\"))","v":" 7.6.5. Los objetivos de desarrollo del personal incluyen oportunidades de ascenso, aprendizaje en el trabajo, tutorías y orientación de compañeros de trabajo y capacitaciones."},{"$f":"CONCATENATE(\" \",IFERROR(INDEX('Step 2. IHECO'!$C$228:$C$236,_xlfn.AGGREGATE(15,6,(ROW('Step 2. IHECO'!$C$228:$C$236)-ROW('Step 2. IHECO'!$C$228)+1)/('Step 2. IHECO'!$C$228:$C$236<>\"\"),ROWS(BL$73:BL78))),\"\"))","v":" 8.6.6. Toda la actividad del inventario, incluidos los envíos entrantes/salientes y las diferencias en los recuentos de inventario, se documentan en formularios estándar y se registran en un libro mayor del almacén."},{"$f":"CONCATENATE(\" \",IFERROR(INDEX('Step 2. IHECO'!$C$282:$C$288,_xlfn.AGGREGATE(15,6,(ROW('Step 2. IHECO'!$C$282:$C$288)-ROW('Step 2. IHECO'!$C$282)+1)/('Step 2. IHECO'!$C$282:$C$288<>\"\"),ROWS(BM$75:BM78))),\"\"))","v":" 9.6.4. La organización usa lo que aprende a partir de las evaluaciones intermedias para modificar su estrategia de proyectos con el fin de alcanzar de mejor modo las metas y los objetivos."}]
[null,null,null,null,null,null,null,null,null,null,null,null,null,null,null,null,null,null,null,null,null,null,null,null,null,null,null,null,null,null,null,null,null,null,null,null,null,null,null,null,null,null,null,null,null,null,null,null,null,null,null,null,null,null,null,null,null,null,null,null,null,null,{"$f":"CONCATENATE(\" \",IFERROR(INDEX('Step 2. IHECO'!$C$192:$C$198,_xlfn.AGGREGATE(15,6,(ROW('Step 2. IHECO'!$C$192:$C$198)-ROW('Step 2. IHECO'!$C$192)+1)/('Step 2. IHECO'!$C$192:$C$198<>\"\"),ROWS(BK$74:BK79))),\"\"))","v":" 7.6.6. Todo el personal tiene a su disposición opciones de trayectoria profesional y oportunidades externas e internas para mejorar sus habilidades."},{"$f":"CONCATENATE(\" \",IFERROR(INDEX('Step 2. IHECO'!$C$228:$C$236,_xlfn.AGGREGATE(15,6,(ROW('Step 2. IHECO'!$C$228:$C$236)-ROW('Step 2. IHECO'!$C$228)+1)/('Step 2. IHECO'!$C$228:$C$236<>\"\"),ROWS(BL$73:BL79))),\"\"))","v":" 8.6.7. Los informes de inventario se presentan a la gerencia de la organización y a los donadores usando formatos determinados y dentro de plazos límite establecidos."},{"$f":"CONCATENATE(\" \",IFERROR(INDEX('Step 2. IHECO'!$C$282:$C$288,_xlfn.AGGREGATE(15,6,(ROW('Step 2. IHECO'!$C$282:$C$288)-ROW('Step 2. IHECO'!$C$282)+1)/('Step 2. IHECO'!$C$282:$C$288<>\"\"),ROWS(BM$75:BM79))),\"\"))","v":" 9.6.5. La organización mide el impacto de sus servicios en los participantes hombres y mujeres."}]
[null,null,null,null,null,null,null,null,null,null,null,null,null,null,null,null,null,null,null,null,null,null,null,null,null,null,null,null,null,null,null,null,null,null,null,null,null,null,null,null,null,null,null,null,null,null,null,null,null,null,null,null,null,null,null,null,null,null,null,null,null,null,{"$f":"CONCATENATE(\" \",IFERROR(INDEX('Step 2. IHECO'!$C$192:$C$198,_xlfn.AGGREGATE(15,6,(ROW('Step 2. IHECO'!$C$192:$C$198)-ROW('Step 2. IHECO'!$C$192)+1)/('Step 2. IHECO'!$C$192:$C$198<>\"\"),ROWS(BK$74:BK80))),\"\"))","v":" 7.6.7. La organización tiene un presupuesto para el desarrollo y la capacitación del personal."},{"$f":"CONCATENATE(\" \",IFERROR(INDEX('Step 2. IHECO'!$C$228:$C$236,_xlfn.AGGREGATE(15,6,(ROW('Step 2. IHECO'!$C$228:$C$236)-ROW('Step 2. IHECO'!$C$228)+1)/('Step 2. IHECO'!$C$228:$C$236<>\"\"),ROWS(BL$73:BL80))),\"\"))","v":" 8.6.8. Los informes de inventario dejan un rastro de auditoría que posibilita que los revisores rastreen toda la actividad del inventario documentada de regreso al libro contable del almacén y a otros documentos de respaldo."},{"$f":"CONCATENATE(\" \",IFERROR(INDEX('Step 2. IHECO'!$C$282:$C$288,_xlfn.AGGREGATE(15,6,(ROW('Step 2. IHECO'!$C$282:$C$288)-ROW('Step 2. IHECO'!$C$282)+1)/('Step 2. IHECO'!$C$282:$C$288<>\"\"),ROWS(BM$75:BM80))),\"\"))","v":" 9.6.6. El personal del proyecto efectúa evaluaciones continuas de discrepancias en la habilidad de los programas existentes para satisfacer las necesidades de los destinatarios y hace ajustes según sea necesario."}]
[null,null,null,null,null,null,null,null,null,null,null,null,null,null,null,null,null,null,null,null,null,null,null,null,null,null,null,null,null,null,null,null,null,null,null,null,null,null,null,null,null,null,null,null,null,null,null,null,null,null,null,null,null,null,null,null,null,null,null,null,null,null,{"$f":"CONCATENATE(\" \",IFERROR(INDEX('Step 2. IHECO'!$C$192:$C$198,_xlfn.AGGREGATE(15,6,(ROW('Step 2. IHECO'!$C$192:$C$198)-ROW('Step 2. IHECO'!$C$192)+1)/('Step 2. IHECO'!$C$192:$C$198<>\"\"),ROWS(BK$74:BK81))),\"\"))","v":" "},{"$f":"CONCATENATE(\" \",IFERROR(INDEX('Step 2. IHECO'!$C$228:$C$236,_xlfn.AGGREGATE(15,6,(ROW('Step 2. IHECO'!$C$228:$C$236)-ROW('Step 2. IHECO'!$C$228)+1)/('Step 2. IHECO'!$C$228:$C$236<>\"\"),ROWS(BL$73:BL81))),\"\"))","v":" 8.6.9. El almacenamiento, el envío, la distribución y la generación de informes de los bienes donados o financiados por donadores se realizan de conformidad con los requisitos de los donadores, donde corresponda."},{"$f":"CONCATENATE(\" \",IFERROR(INDEX('Step 2. IHECO'!$C$282:$C$288,_xlfn.AGGREGATE(15,6,(ROW('Step 2. IHECO'!$C$282:$C$288)-ROW('Step 2. IHECO'!$C$282)+1)/('Step 2. IHECO'!$C$282:$C$288<>\"\"),ROWS(BM$75:BM81))),\"\"))","v":" 9.6.7 La organización realiza revisiones de fin de proyecto para medir el cambio o el impacto que se ha producido con las lecciones aprendidas."}]
[null,null,null,null,null,null,null,null,null,null,null,null,null,null,null,null,null,null,null,null,null,null,null,null,null,null,null,null,null,null,null,null,null,null,null,null,null,null,null,null,null,null,null,null,null,null,null,null,null,null,null,null,null,null,null,null,null,null,null,null,null,null,{"$f":"CONCATENATE(\" \",IFERROR(INDEX('Step 2. IHECO'!$C$192:$C$198,_xlfn.AGGREGATE(15,6,(ROW('Step 2. IHECO'!$C$192:$C$198)-ROW('Step 2. IHECO'!$C$192)+1)/('Step 2. IHECO'!$C$192:$C$198<>\"\"),ROWS(BK$74:BK82))),\"\"))","v":" "},{"$f":"CONCATENATE(\" \",IFERROR(INDEX('Step 2. IHECO'!$C$228:$C$236,_xlfn.AGGREGATE(15,6,(ROW('Step 2. IHECO'!$C$228:$C$236)-ROW('Step 2. IHECO'!$C$228)+1)/('Step 2. IHECO'!$C$228:$C$236<>\"\"),ROWS(BL$73:BL82))),\"\"))","v":" "},{"$f":"CONCATENATE(\" \",IFERROR(INDEX('Step 2. IHECO'!$C$282:$C$288,_xlfn.AGGREGATE(15,6,(ROW('Step 2. IHECO'!$C$282:$C$288)-ROW('Step 2. IHECO'!$C$282)+1)/('Step 2. IHECO'!$C$282:$C$288<>\"\"),ROWS(BM$75:BM82))),\"\"))","v":" "}]
[null,null,null,null,null,null,null,null,null,null,null,null,null,null,null,null,null,null,null,null,null,null,null,null,null,null,null,null,null,null,null,null,null,null,null,null,null,null,null,null,null,null,null,null,null,null,null,null,null,null,null,null,null,null,null,null,null,null,null,null,null,null,{"$f":"CONCATENATE(\" \",IFERROR(INDEX('Step 2. IHECO'!$C$192:$C$198,_xlfn.AGGREGATE(15,6,(ROW('Step 2. IHECO'!$C$192:$C$198)-ROW('Step 2. IHECO'!$C$192)+1)/('Step 2. IHECO'!$C$192:$C$198<>\"\"),ROWS(BK$74:BK83))),\"\"))","v":" "},{"$f":"CONCATENATE(\" \",IFERROR(INDEX('Step 2. IHECO'!$C$228:$C$236,_xlfn.AGGREGATE(15,6,(ROW('Step 2. IHECO'!$C$228:$C$236)-ROW('Step 2. IHECO'!$C$228)+1)/('Step 2. IHECO'!$C$228:$C$236<>\"\"),ROWS(BL$73:BL83))),\"\"))","v":" "},{"$f":"CONCATENATE(\" \",IFERROR(INDEX('Step 2. IHECO'!$C$282:$C$288,_xlfn.AGGREGATE(15,6,(ROW('Step 2. IHECO'!$C$282:$C$288)-ROW('Step 2. IHECO'!$C$282)+1)/('Step 2. IHECO'!$C$282:$C$288<>\"\"),ROWS(BM$75:BM83))),\"\"))","v":" "}]
[null,null,null,null,null,null,null,null,null,null,null,null,null,null,null,null,null,null,null,null,null,null,null,null,null,null,null,null,null,null,null,null,null,null,null,null,null,null,null,null,null,null,null,null,null,null,null,null,null,null,null,null,null,null,null,null,null,null,null,null,null,null,{"$f":"CONCATENATE(\" \",IFERROR(INDEX('Step 2. IHECO'!$C$192:$C$198,_xlfn.AGGREGATE(15,6,(ROW('Step 2. IHECO'!$C$192:$C$198)-ROW('Step 2. IHECO'!$C$192)+1)/('Step 2. IHECO'!$C$192:$C$198<>\"\"),ROWS(BK$74:BK84))),\"\"))","v":" "},{"$f":"CONCATENATE(\" \",IFERROR(INDEX('Step 2. IHECO'!$C$228:$C$236,_xlfn.AGGREGATE(15,6,(ROW('Step 2. IHECO'!$C$228:$C$236)-ROW('Step 2. IHECO'!$C$228)+1)/('Step 2. IHECO'!$C$228:$C$236<>\"\"),ROWS(BL$73:BL84))),\"\"))","v":" "},{"$f":"CONCATENATE(\" \",IFERROR(INDEX('Step 2. IHECO'!$C$282:$C$288,_xlfn.AGGREGATE(15,6,(ROW('Step 2. IHECO'!$C$282:$C$288)-ROW('Step 2. IHECO'!$C$282)+1)/('Step 2. IHECO'!$C$282:$C$288<>\"\"),ROWS(BM$75:BM84))),\"\"))","v":" "}]
[null,null,null,null,null,null,null,null,null,null,null,null,null,null,null,null,null,null,null,null,null,null,null,null,null,null,null,null,null,null,null,null,null,null,null,null,null,null,null,null,null,null,null,null,null,null,null,null,null,null,null,null,null,null,null,null,null,null,null,null,null,null,{"$f":"CONCATENATE(\" \",IFERROR(INDEX('Step 2. IHECO'!$C$192:$C$198,_xlfn.AGGREGATE(15,6,(ROW('Step 2. IHECO'!$C$192:$C$198)-ROW('Step 2. IHECO'!$C$192)+1)/('Step 2. IHECO'!$C$192:$C$198<>\"\"),ROWS(BK$74:BK85))),\"\"))","v":" "},{"$f":"CONCATENATE(\" \",IFERROR(INDEX('Step 2. IHECO'!$C$228:$C$236,_xlfn.AGGREGATE(15,6,(ROW('Step 2. IHECO'!$C$228:$C$236)-ROW('Step 2. IHECO'!$C$228)+1)/('Step 2. IHECO'!$C$228:$C$236<>\"\"),ROWS(BL$73:BL85))),\"\"))","v":" "},{"$f":"CONCATENATE(\" \",IFERROR(INDEX('Step 2. IHECO'!$C$282:$C$288,_xlfn.AGGREGATE(15,6,(ROW('Step 2. IHECO'!$C$282:$C$288)-ROW('Step 2. IHECO'!$C$282)+1)/('Step 2. IHECO'!$C$282:$C$288<>\"\"),ROWS(BM$75:BM85))),\"\"))","v":" "}]
[null,null,null,null,null,null,null,null,null,null,null,null,null,null,null,null,null,null,null,null,null,null,null,null,null,null,null,null,null,null,null,null,null,null,null,null,null,null,null,null,null,null,null,null,null,null,null,null,null,null,null,null,null,null,null,null,null,null,null,null,null,null,{"$f":"BK8","v":" 7.7. Resolución de quejas y manejo de conflictos"},{"$f":"CONCATENATE(\" \",IFERROR(INDEX('Step 2. IHECO'!$C$228:$C$236,_xlfn.AGGREGATE(15,6,(ROW('Step 2. IHECO'!$C$228:$C$236)-ROW('Step 2. IHECO'!$C$228)+1)/('Step 2. IHECO'!$C$228:$C$236<>\"\"),ROWS(BL$73:BL86))),\"\"))","v":" "},{"$f":"CONCATENATE(\" \",IFERROR(INDEX('Step 2. IHECO'!$C$282:$C$288,_xlfn.AGGREGATE(15,6,(ROW('Step 2. IHECO'!$C$282:$C$288)-ROW('Step 2. IHECO'!$C$282)+1)/('Step 2. IHECO'!$C$282:$C$288<>\"\"),ROWS(BM$75:BM86))),\"\"))","v":" "}]
[null,null,null,null,null,null,null,null,null,null,null,null,null,null,null,null,null,null,null,null,null,null,null,null,null,null,null,null,null,null,null,null,null,null,null,null,null,null,null,null,null,null,null,null,null,null,null,null,null,null,null,null,null,null,null,null,null,null,null,null,null,null,{"$f":"CONCATENATE(\" \",IFERROR(INDEX('Step 2. IHECO'!$C$199:$C$201,_xlfn.AGGREGATE(15,6,(ROW('Step 2. IHECO'!$C$199:$C$201)-ROW('Step 2. IHECO'!$C$199)+1)/('Step 2. IHECO'!$C$199:$C$201<>\"\"),ROWS(BK$87:BK87))),\"\"))","v":" 7.7.1. La gerencia recibe de buen grado los aportes de una amplia gama de miembros del personal en los debates y las decisiones."},{"$f":"BL8","v":" 8.7. Propiedad, planta y equipo"},{"$f":"BM8","v":" 9.7. Calidad de los servicios"}]
[null,null,null,null,null,null,null,null,null,null,null,null,null,null,null,null,null,null,null,null,null,null,null,null,null,null,null,null,null,null,null,null,null,null,null,null,null,null,null,null,null,null,null,null,null,null,null,null,null,null,null,null,null,null,null,null,null,null,null,null,null,null,{"$f":"CONCATENATE(\" \",IFERROR(INDEX('Step 2. IHECO'!$C$199:$C$201,_xlfn.AGGREGATE(15,6,(ROW('Step 2. IHECO'!$C$199:$C$201)-ROW('Step 2. IHECO'!$C$199)+1)/('Step 2. IHECO'!$C$199:$C$201<>\"\"),ROWS(BK$87:BK88))),\"\"))","v":" 7.7.2. La organización usa un procedimiento documentado de presentación de quejas y resolución de conflictos que es de fácil acceso para el personal y los voluntarios."},{"$f":"CONCATENATE(\" \",IFERROR(INDEX('Step 2. IHECO'!$C$237:$C$242,_xlfn.AGGREGATE(15,6,(ROW('Step 2. IHECO'!$C$237:$C$242)-ROW('Step 2. IHECO'!$C$237)+1)/('Step 2. IHECO'!$C$237:$C$242<>\"\"),ROWS(BL$88:BL88))),\"\"))","v":" 8.7.1. La organización tiene una política que indica las adquisiciones de propiedad que deben capitalizarse, las diversas categorías de activos, las aprobaciones necesarias para las adquisiciones y las eliminaciones, y la vida útil estimada para cada categoría de activo."},{"$f":"CONCATENATE(\" \",IFERROR(INDEX('Step 2. IHECO'!$C$289:$C$291,_xlfn.AGGREGATE(15,6,(ROW('Step 2. IHECO'!$C$289:$C$291)-ROW('Step 2. IHECO'!$C$289)+1)/('Step 2. IHECO'!$C$289:$C$291<>\"\"),ROWS(BM$88:BM88))),\"\"))","v":" 9.7.1. La organización mide la calidad de los servicios que proporciona. Los servicios prestados llegan a los participantes objetivo de los proyectos."}]
[null,null,null,null,null,null,null,null,null,null,null,null,null,null,null,null,null,null,null,null,null,null,null,null,null,null,null,null,null,null,null,null,null,null,null,null,null,null,null,null,null,null,null,null,null,null,null,null,null,null,null,null,null,null,null,null,null,null,null,null,null,null,{"$f":"CONCATENATE(\" \",IFERROR(INDEX('Step 2. IHECO'!$C$199:$C$201,_xlfn.AGGREGATE(15,6,(ROW('Step 2. IHECO'!$C$199:$C$201)-ROW('Step 2. IHECO'!$C$199)+1)/('Step 2. IHECO'!$C$199:$C$201<>\"\"),ROWS(BK$87:BK89))),\"\"))","v":" 7.7.3. El procedimiento de presentación de quejas y resolución de conflictos garantiza una confidencialidad razonable a las personas involucradas, y el personal y los voluntarios se sienten seguros de usarlo."},{"$f":"CONCATENATE(\" \",IFERROR(INDEX('Step 2. IHECO'!$C$237:$C$242,_xlfn.AGGREGATE(15,6,(ROW('Step 2. IHECO'!$C$237:$C$242)-ROW('Step 2. IHECO'!$C$237)+1)/('Step 2. IHECO'!$C$237:$C$242<>\"\"),ROWS(BL$88:BL89))),\"\"))","v":" 8.7.2. La planta y el equipo, comprados o recibidos como propiedad donada, son cargados a los gastos usando la depreciación a lo largo de su vida útil estimada."},{"$f":"CONCATENATE(\" \",IFERROR(INDEX('Step 2. IHECO'!$C$289:$C$291,_xlfn.AGGREGATE(15,6,(ROW('Step 2. IHECO'!$C$289:$C$291)-ROW('Step 2. IHECO'!$C$289)+1)/('Step 2. IHECO'!$C$289:$C$291<>\"\"),ROWS(BM$88:BM89))),\"\"))","v":" 9.7.2. La organización recopila y usa las opiniones y comentarios de los participantes de los proyectos sobre la calidad de los servicios para mejorarlos."}]
[null,null,null,null,null,null,null,null,null,null,null,null,null,null,null,null,null,null,null,null,null,null,null,null,null,null,null,null,null,null,null,null,null,null,null,null,null,null,null,null,null,null,null,null,null,null,null,null,null,null,null,null,null,null,null,null,null,null,null,null,null,null,{"$f":"CONCATENATE(\" \",IFERROR(INDEX('Step 2. IHECO'!$C$199:$C$201,_xlfn.AGGREGATE(15,6,(ROW('Step 2. IHECO'!$C$199:$C$201)-ROW('Step 2. IHECO'!$C$199)+1)/('Step 2. IHECO'!$C$199:$C$201<>\"\"),ROWS(BK$87:BK90))),\"\"))","v":" "},{"$f":"CONCATENATE(\" \",IFERROR(INDEX('Step 2. IHECO'!$C$237:$C$242,_xlfn.AGGREGATE(15,6,(ROW('Step 2. IHECO'!$C$237:$C$242)-ROW('Step 2. IHECO'!$C$237)+1)/('Step 2. IHECO'!$C$237:$C$242<>\"\"),ROWS(BL$88:BL90))),\"\"))","v":" 8.7.3. La planta y el equipo de la organización están seguros en todo momento."},{"$f":"CONCATENATE(\" \",IFERROR(INDEX('Step 2. IHECO'!$C$289:$C$291,_xlfn.AGGREGATE(15,6,(ROW('Step 2. IHECO'!$C$289:$C$291)-ROW('Step 2. IHECO'!$C$289)+1)/('Step 2. IHECO'!$C$289:$C$291<>\"\"),ROWS(BM$88:BM90))),\"\"))","v":" 9.7.3. La calidad de la entrega de los servicios ayuda a la organización a lograr sus estrategias y su misión."}]
[null,null,null,null,null,null,null,null,null,null,null,null,null,null,null,null,null,null,null,null,null,null,null,null,null,null,null,null,null,null,null,null,null,null,null,null,null,null,null,null,null,null,null,null,null,null,null,null,null,null,null,null,null,null,null,null,null,null,null,null,null,null,{"$f":"CONCATENATE(\" \",IFERROR(INDEX('Step 2. IHECO'!$C$199:$C$201,_xlfn.AGGREGATE(15,6,(ROW('Step 2. IHECO'!$C$199:$C$201)-ROW('Step 2. IHECO'!$C$199)+1)/('Step 2. IHECO'!$C$199:$C$201<>\"\"),ROWS(BK$87:BK91))),\"\"))","v":" "},{"$f":"CONCATENATE(\" \",IFERROR(INDEX('Step 2. IHECO'!$C$237:$C$242,_xlfn.AGGREGATE(15,6,(ROW('Step 2. IHECO'!$C$237:$C$242)-ROW('Step 2. IHECO'!$C$237)+1)/('Step 2. IHECO'!$C$237:$C$242<>\"\"),ROWS(BL$88:BL91))),\"\"))","v":" 8.7.4. La organización mantiene registros para respaldar las adquisiciones y eliminaciones de propiedad, planta y equipo."},{"$f":"CONCATENATE(\" \",IFERROR(INDEX('Step 2. IHECO'!$C$289:$C$291,_xlfn.AGGREGATE(15,6,(ROW('Step 2. IHECO'!$C$289:$C$291)-ROW('Step 2. IHECO'!$C$289)+1)/('Step 2. IHECO'!$C$289:$C$291<>\"\"),ROWS(BM$88:BM91))),\"\"))","v":" "}]
[null,null,null,null,null,null,null,null,null,null,null,null,null,null,null,null,null,null,null,null,null,null,null,null,null,null,null,null,null,null,null,null,null,null,null,null,null,null,null,null,null,null,null,null,null,null,null,null,null,null,null,null,null,null,null,null,null,null,null,null,null,null,{"$f":"CONCATENATE(\" \",IFERROR(INDEX('Step 2. IHECO'!$C$199:$C$201,_xlfn.AGGREGATE(15,6,(ROW('Step 2. IHECO'!$C$199:$C$201)-ROW('Step 2. IHECO'!$C$199)+1)/('Step 2. IHECO'!$C$199:$C$201<>\"\"),ROWS(BK$87:BK92))),\"\"))","v":" "},{"$f":"CONCATENATE(\" \",IFERROR(INDEX('Step 2. IHECO'!$C$237:$C$242,_xlfn.AGGREGATE(15,6,(ROW('Step 2. IHECO'!$C$237:$C$242)-ROW('Step 2. IHECO'!$C$237)+1)/('Step 2. IHECO'!$C$237:$C$242<>\"\"),ROWS(BL$88:BL92))),\"\"))","v":" 8.7.5. Los activos de planta y equipo se cuentan independientemente a intervalos determinados. Los resultados de los recuentos se registran, resumen y concilian con los registros de los activos fijos. Las diferencias de recuentos se investigan y ponen a disposición de la gerencia."},{"$f":"CONCATENATE(\" \",IFERROR(INDEX('Step 2. IHECO'!$C$289:$C$291,_xlfn.AGGREGATE(15,6,(ROW('Step 2. IHECO'!$C$289:$C$291)-ROW('Step 2. IHECO'!$C$289)+1)/('Step 2. IHECO'!$C$289:$C$291<>\"\"),ROWS(BM$88:BM92))),\"\"))","v":" "}]
[null,null,null,null,null,null,null,null,null,null,null,null,null,null,null,null,null,null,null,null,null,null,null,null,null,null,null,null,null,null,null,null,null,null,null,null,null,null,null,null,null,null,null,null,null,null,null,null,null,null,null,null,null,null,null,null,null,null,null,null,null,null,{"$f":"CONCATENATE(\" \",IFERROR(INDEX('Step 2. IHECO'!$C$199:$C$201,_xlfn.AGGREGATE(15,6,(ROW('Step 2. IHECO'!$C$199:$C$201)-ROW('Step 2. IHECO'!$C$199)+1)/('Step 2. IHECO'!$C$199:$C$201<>\"\"),ROWS(BK$87:BK93))),\"\"))","v":" "},{"$f":"CONCATENATE(\" \",IFERROR(INDEX('Step 2. IHECO'!$C$237:$C$242,_xlfn.AGGREGATE(15,6,(ROW('Step 2. IHECO'!$C$237:$C$242)-ROW('Step 2. IHECO'!$C$237)+1)/('Step 2. IHECO'!$C$237:$C$242<>\"\"),ROWS(BL$88:BL93))),\"\"))","v":" 8.7.6. La compra, el uso, el almacenamiento y la eliminación de equipo donado o financiado por donadores se realizan de conformidad con los requisitos de los donadores, donde corresponda."},{"$f":"CONCATENATE(\" \",IFERROR(INDEX('Step 2. IHECO'!$C$289:$C$291,_xlfn.AGGREGATE(15,6,(ROW('Step 2. IHECO'!$C$289:$C$291)-ROW('Step 2. IHECO'!$C$289)+1)/('Step 2. IHECO'!$C$289:$C$291<>\"\"),ROWS(BM$88:BM93))),\"\"))","v":" "}]
[null,null,null,null,null,null,null,null,null,null,null,null,null,null,null,null,null,null,null,null,null,null,null,null,null,null,null,null,null,null,null,null,null,null,null,null,null,null,null,null,null,null,null,null,null,null,null,null,null,null,null,null,null,null,null,null,null,null,null,null,null,null,{"$f":"CONCATENATE(\" \",IFERROR(INDEX('Step 2. IHECO'!$C$199:$C$201,_xlfn.AGGREGATE(15,6,(ROW('Step 2. IHECO'!$C$199:$C$201)-ROW('Step 2. IHECO'!$C$199)+1)/('Step 2. IHECO'!$C$199:$C$201<>\"\"),ROWS(BK$87:BK94))),\"\"))","v":" "},{"$f":"CONCATENATE(\" \",IFERROR(INDEX('Step 2. IHECO'!$C$237:$C$242,_xlfn.AGGREGATE(15,6,(ROW('Step 2. IHECO'!$C$237:$C$242)-ROW('Step 2. IHECO'!$C$237)+1)/('Step 2. IHECO'!$C$237:$C$242<>\"\"),ROWS(BL$88:BL94))),\"\"))","v":" "},{"$f":"CONCATENATE(\" \",IFERROR(INDEX('Step 2. IHECO'!$C$289:$C$291,_xlfn.AGGREGATE(15,6,(ROW('Step 2. IHECO'!$C$289:$C$291)-ROW('Step 2. IHECO'!$C$289)+1)/('Step 2. IHECO'!$C$289:$C$291<>\"\"),ROWS(BM$88:BM94))),\"\"))","v":" "}]
[null,null,null,null,null,null,null,null,null,null,null,null,null,null,null,null,null,null,null,null,null,null,null,null,null,null,null,null,null,null,null,null,null,null,null,null,null,null,null,null,null,null,null,null,null,null,null,null,null,null,null,null,null,null,null,null,null,null,null,null,null,null,null,{"$f":"CONCATENATE(\" \",IFERROR(INDEX('Step 2. IHECO'!$C$237:$C$242,_xlfn.AGGREGATE(15,6,(ROW('Step 2. IHECO'!$C$237:$C$242)-ROW('Step 2. IHECO'!$C$237)+1)/('Step 2. IHECO'!$C$237:$C$242<>\"\"),ROWS(BL$88:BL95))),\"\"))","v":" "},{"$f":"CONCATENATE(\" \",IFERROR(INDEX('Step 2. IHECO'!$C$289:$C$291,_xlfn.AGGREGATE(15,6,(ROW('Step 2. IHECO'!$C$289:$C$291)-ROW('Step 2. IHECO'!$C$289)+1)/('Step 2. IHECO'!$C$289:$C$291<>\"\"),ROWS(BM$88:BM95))),\"\"))","v":" "}]
[null,null,null,null,null,null,null,null,null,null,null,null,null,null,null,null,null,null,null,null,null,null,null,null,null,null,null,null,null,null,null,null,null,null,null,null,null,null,null,null,null,null,null,null,null,null,null,null,null,null,null,null,null,null,null,null,null,null,null,null,null,null,null,{"$f":"CONCATENATE(\" \",IFERROR(INDEX('Step 2. IHECO'!$C$237:$C$242,_xlfn.AGGREGATE(15,6,(ROW('Step 2. IHECO'!$C$237:$C$242)-ROW('Step 2. IHECO'!$C$237)+1)/('Step 2. IHECO'!$C$237:$C$242<>\"\"),ROWS(BL$88:BL96))),\"\"))","v":" "},{"$f":"BM9","v":" 9.8. Terminación de proyecto/ Cierre de proyecto"}]
[null,null,null,null,null,null,null,null,null,null,null,null,null,null,null,null,null,null,null,null,null,null,null,null,null,null,null,null,null,null,null,null,null,null,null,null,null,null,null,null,null,null,null,null,null,null,null,null,null,null,null,null,null,null,null,null,null,null,null,null,null,null,null,{"$f":"CONCATENATE(\" \",IFERROR(INDEX('Step 2. IHECO'!$C$237:$C$242,_xlfn.AGGREGATE(15,6,(ROW('Step 2. IHECO'!$C$237:$C$242)-ROW('Step 2. IHECO'!$C$237)+1)/('Step 2. IHECO'!$C$237:$C$242<>\"\"),ROWS(BL$88:BL97))),\"\"))","v":" "},{"$f":"CONCATENATE(\" \",IFERROR(INDEX('Step 2. IHECO'!$C$292:$C$302,_xlfn.AGGREGATE(15,6,(ROW('Step 2. IHECO'!$C$292:$C$302)-ROW('Step 2. IHECO'!$C$292)+1)/('Step 2. IHECO'!$C$292:$C$302<>\"\"),ROWS(BM$97:BM97))),\"\"))","v":" 9.8.1 La organización cuenta con planes de transición al comenzar los proyectos de desarrollo comunitario."}]
[null,null,null,null,null,null,null,null,null,null,null,null,null,null,null,null,null,null,null,null,null,null,null,null,null,null,null,null,null,null,null,null,null,null,null,null,null,null,null,null,null,null,null,null,null,null,null,null,null,null,null,null,null,null,null,null,null,null,null,null,null,null,null,{"$f":"CONCATENATE(\" \",IFERROR(INDEX('Step 2. IHECO'!$C$237:$C$242,_xlfn.AGGREGATE(15,6,(ROW('Step 2. IHECO'!$C$237:$C$242)-ROW('Step 2. IHECO'!$C$237)+1)/('Step 2. IHECO'!$C$237:$C$242<>\"\"),ROWS(BL$88:BL98))),\"\"))","v":" "},{"$f":"CONCATENATE(\" \",IFERROR(INDEX('Step 2. IHECO'!$C$292:$C$302,_xlfn.AGGREGATE(15,6,(ROW('Step 2. IHECO'!$C$292:$C$302)-ROW('Step 2. IHECO'!$C$292)+1)/('Step 2. IHECO'!$C$292:$C$302<>\"\"),ROWS(BM$97:BM98))),\"\"))","v":" 9.8.2 Se refuerza la capacidad de los socios locales para contribuir a una transición eficaz."}]
[null,null,null,null,null,null,null,null,null,null,null,null,null,null,null,null,null,null,null,null,null,null,null,null,null,null,null,null,null,null,null,null,null,null,null,null,null,null,null,null,null,null,null,null,null,null,null,null,null,null,null,null,null,null,null,null,null,null,null,null,null,null,null,{"$f":"BL9","v":" 8.8. Gestión de cuentas por cobrar"},{"$f":"CONCATENATE(\" \",IFERROR(INDEX('Step 2. IHECO'!$C$292:$C$302,_xlfn.AGGREGATE(15,6,(ROW('Step 2. IHECO'!$C$292:$C$302)-ROW('Step 2. IHECO'!$C$292)+1)/('Step 2. IHECO'!$C$292:$C$302<>\"\"),ROWS(BM$97:BM99))),\"\"))","v":" 9.8.3 Se movilizan recursos locales para garantizar una transición fluida."}]
[null,null,null,null,null,null,null,null,null,null,null,null,null,null,null,null,null,null,null,null,null,null,null,null,null,null,null,null,null,null,null,null,null,null,null,null,null,null,null,null,null,null,null,null,null,null,null,null,null,null,null,null,null,null,null,null,null,null,null,null,null,null,null,{"$f":"CONCATENATE(\" \",IFERROR(INDEX('Step 2. IHECO'!$C$243:$C$246,_xlfn.AGGREGATE(15,6,(ROW('Step 2. IHECO'!$C$243:$C$246)-ROW('Step 2. IHECO'!$C$243)+1)/('Step 2. IHECO'!$C$243:$C$246<>\"\"),ROWS(BL$100:BL100))),\"\"))","v":" 8.8.1. Todos los importes adelantados a otras organizaciones, proveedores o empleados se contabilizan como cuentas por cobrar pendientes en el libro mayor de contabilidad de la organización."},{"$f":"CONCATENATE(\" \",IFERROR(INDEX('Step 2. IHECO'!$C$292:$C$302,_xlfn.AGGREGATE(15,6,(ROW('Step 2. IHECO'!$C$292:$C$302)-ROW('Step 2. IHECO'!$C$292)+1)/('Step 2. IHECO'!$C$292:$C$302<>\"\"),ROWS(BM$97:BM100))),\"\"))","v":" 9.8.4 La organización efectúa un cierre por etapas (terminación gradual escalonada)"}]
[null,null,null,null,null,null,null,null,null,null,null,null,null,null,null,null,null,null,null,null,null,null,null,null,null,null,null,null,null,null,null,null,null,null,null,null,null,null,null,null,null,null,null,null,null,null,null,null,null,null,null,null,null,null,null,null,null,null,null,null,null,null,null,{"$f":"CONCATENATE(\" \",IFERROR(INDEX('Step 2. IHECO'!$C$243:$C$246,_xlfn.AGGREGATE(15,6,(ROW('Step 2. IHECO'!$C$243:$C$246)-ROW('Step 2. IHECO'!$C$243)+1)/('Step 2. IHECO'!$C$243:$C$246<>\"\"),ROWS(BL$100:BL101))),\"\"))","v":" 8.8.2. La organización sigue una política documentada que establece cuándo vence cada tipo de cuenta por cobrar o adelanto."},{"$f":"CONCATENATE(\" \",IFERROR(INDEX('Step 2. IHECO'!$C$292:$C$302,_xlfn.AGGREGATE(15,6,(ROW('Step 2. IHECO'!$C$292:$C$302)-ROW('Step 2. IHECO'!$C$292)+1)/('Step 2. IHECO'!$C$292:$C$302<>\"\"),ROWS(BM$97:BM101))),\"\"))","v":" 9.8.5 ¿Se ha liberado o reasignado al personal?"}]
[null,null,null,null,null,null,null,null,null,null,null,null,null,null,null,null,null,null,null,null,null,null,null,null,null,null,null,null,null,null,null,null,null,null,null,null,null,null,null,null,null,null,null,null,null,null,null,null,null,null,null,null,null,null,null,null,null,null,null,null,null,null,null,{"$f":"CONCATENATE(\" \",IFERROR(INDEX('Step 2. IHECO'!$C$243:$C$246,_xlfn.AGGREGATE(15,6,(ROW('Step 2. IHECO'!$C$243:$C$246)-ROW('Step 2. IHECO'!$C$243)+1)/('Step 2. IHECO'!$C$243:$C$246<>\"\"),ROWS(BL$100:BL102))),\"\"))","v":" 8.8.3. La gerencia toma medidas rápidas para cobrar o resolver los saldos de las cuentas por cobrar pendientes."},{"$f":"CONCATENATE(\" \",IFERROR(INDEX('Step 2. IHECO'!$C$292:$C$302,_xlfn.AGGREGATE(15,6,(ROW('Step 2. IHECO'!$C$292:$C$302)-ROW('Step 2. IHECO'!$C$292)+1)/('Step 2. IHECO'!$C$292:$C$302<>\"\"),ROWS(BM$97:BM102))),\"\"))","v":" 9.8.6 ¿Se han vendido o reasignado el equipo y otros bienes?"}]
[null,null,null,null,null,null,null,null,null,null,null,null,null,null,null,null,null,null,null,null,null,null,null,null,null,null,null,null,null,null,null,null,null,null,null,null,null,null,null,null,null,null,null,null,null,null,null,null,null,null,null,null,null,null,null,null,null,null,null,null,null,null,null,{"$f":"CONCATENATE(\" \",IFERROR(INDEX('Step 2. IHECO'!$C$243:$C$246,_xlfn.AGGREGATE(15,6,(ROW('Step 2. IHECO'!$C$243:$C$246)-ROW('Step 2. IHECO'!$C$243)+1)/('Step 2. IHECO'!$C$243:$C$246<>\"\"),ROWS(BL$100:BL103))),\"\"))","v":" 8.8.4. Al menos una vez al trimestre, se preparan cronogramas que muestran los importes que debe cada parte y las fechas en que se adelantaron los importes, se los reconcilia con el libro mayor de contabilidad y se presentan para revisión de la gerencia."},{"$f":"CONCATENATE(\" \",IFERROR(INDEX('Step 2. IHECO'!$C$292:$C$302,_xlfn.AGGREGATE(15,6,(ROW('Step 2. IHECO'!$C$292:$C$302)-ROW('Step 2. IHECO'!$C$292)+1)/('Step 2. IHECO'!$C$292:$C$302<>\"\"),ROWS(BM$97:BM103))),\"\"))","v":" 9.8.7 ¿Recibió la organización la totalidad del financiamiento para el proyecto?"}]
[null,null,null,null,null,null,null,null,null,null,null,null,null,null,null,null,null,null,null,null,null,null,null,null,null,null,null,null,null,null,null,null,null,null,null,null,null,null,null,null,null,null,null,null,null,null,null,null,null,null,null,null,null,null,null,null,null,null,null,null,null,null,null,{"$f":"CONCATENATE(\" \",IFERROR(INDEX('Step 2. IHECO'!$C$243:$C$246,_xlfn.AGGREGATE(15,6,(ROW('Step 2. IHECO'!$C$243:$C$246)-ROW('Step 2. IHECO'!$C$243)+1)/('Step 2. IHECO'!$C$243:$C$246<>\"\"),ROWS(BL$100:BL104))),\"\"))","v":" "},{"$f":"CONCATENATE(\" \",IFERROR(INDEX('Step 2. IHECO'!$C$292:$C$302,_xlfn.AGGREGATE(15,6,(ROW('Step 2. IHECO'!$C$292:$C$302)-ROW('Step 2. IHECO'!$C$292)+1)/('Step 2. IHECO'!$C$292:$C$302<>\"\"),ROWS(BM$97:BM104))),\"\"))","v":" 9.8.9 ¿Se liquidaron las cuentas y efectos por cobrar y se pagaron las cuentas por pagar?"}]
[null,null,null,null,null,null,null,null,null,null,null,null,null,null,null,null,null,null,null,null,null,null,null,null,null,null,null,null,null,null,null,null,null,null,null,null,null,null,null,null,null,null,null,null,null,null,null,null,null,null,null,null,null,null,null,null,null,null,null,null,null,null,null,{"$f":"CONCATENATE(\" \",IFERROR(INDEX('Step 2. IHECO'!$C$243:$C$246,_xlfn.AGGREGATE(15,6,(ROW('Step 2. IHECO'!$C$243:$C$246)-ROW('Step 2. IHECO'!$C$243)+1)/('Step 2. IHECO'!$C$243:$C$246<>\"\"),ROWS(BL$100:BL105))),\"\"))","v":" "},{"$f":"CONCATENATE(\" \",IFERROR(INDEX('Step 2. IHECO'!$C$292:$C$302,_xlfn.AGGREGATE(15,6,(ROW('Step 2. IHECO'!$C$292:$C$302)-ROW('Step 2. IHECO'!$C$292)+1)/('Step 2. IHECO'!$C$292:$C$302<>\"\"),ROWS(BM$97:BM105))),\"\"))","v":" 9.8.9 Todos los contratos que suscribió la organización están cerrados."}]
[null,null,null,null,null,null,null,null,null,null,null,null,null,null,null,null,null,null,null,null,null,null,null,null,null,null,null,null,null,null,null,null,null,null,null,null,null,null,null,null,null,null,null,null,null,null,null,null,null,null,null,null,null,null,null,null,null,null,null,null,null,null,null,{"$f":"CONCATENATE(\" \",IFERROR(INDEX('Step 2. IHECO'!$C$243:$C$246,_xlfn.AGGREGATE(15,6,(ROW('Step 2. IHECO'!$C$243:$C$246)-ROW('Step 2. IHECO'!$C$243)+1)/('Step 2. IHECO'!$C$243:$C$246<>\"\"),ROWS(BL$100:BL106))),\"\"))","v":" "},{"$f":"CONCATENATE(\" \",IFERROR(INDEX('Step 2. IHECO'!$C$292:$C$302,_xlfn.AGGREGATE(15,6,(ROW('Step 2. IHECO'!$C$292:$C$302)-ROW('Step 2. IHECO'!$C$292)+1)/('Step 2. IHECO'!$C$292:$C$302<>\"\"),ROWS(BM$97:BM106))),\"\"))","v":" 9.8.10 El donante tendría que haber recibido, analizado y aceptado los informes y otros productos a entregar."}]
[null,null,null,null,null,null,null,null,null,null,null,null,null,null,null,null,null,null,null,null,null,null,null,null,null,null,null,null,null,null,null,null,null,null,null,null,null,null,null,null,null,null,null,null,null,null,null,null,null,null,null,null,null,null,null,null,null,null,null,null,null,null,null,{"$f":"CONCATENATE(\" \",IFERROR(INDEX('Step 2. IHECO'!$C$243:$C$246,_xlfn.AGGREGATE(15,6,(ROW('Step 2. IHECO'!$C$243:$C$246)-ROW('Step 2. IHECO'!$C$243)+1)/('Step 2. IHECO'!$C$243:$C$246<>\"\"),ROWS(BL$100:BL107))),\"\"))","v":" "},{"$f":"CONCATENATE(\" \",IFERROR(INDEX('Step 2. IHECO'!$C$292:$C$302,_xlfn.AGGREGATE(15,6,(ROW('Step 2. IHECO'!$C$292:$C$302)-ROW('Step 2. IHECO'!$C$292)+1)/('Step 2. IHECO'!$C$292:$C$302<>\"\"),ROWS(BM$97:BM107))),\"\"))","v":" 9.8.11 La organización documenta y comparte las lecciones aprendidas durante el proyecto de desarrollo comunitario."}]
[null,null,null,null,null,null,null,null,null,null,null,null,null,null,null,null,null,null,null,null,null,null,null,null,null,null,null,null,null,null,null,null,null,null,null,null,null,null,null,null,null,null,null,null,null,null,null,null,null,null,null,null,null,null,null,null,null,null,null,null,null,null,null,{"$f":"CONCATENATE(\" \",IFERROR(INDEX('Step 2. IHECO'!$C$243:$C$246,_xlfn.AGGREGATE(15,6,(ROW('Step 2. IHECO'!$C$243:$C$246)-ROW('Step 2. IHECO'!$C$243)+1)/('Step 2. IHECO'!$C$243:$C$246<>\"\"),ROWS(BL$100:BL108))),\"\"))","v":" "},{"$f":"CONCATENATE(\" \",IFERROR(INDEX('Step 2. IHECO'!$C$292:$C$302,_xlfn.AGGREGATE(15,6,(ROW('Step 2. IHECO'!$C$292:$C$302)-ROW('Step 2. IHECO'!$C$292)+1)/('Step 2. IHECO'!$C$292:$C$302<>\"\"),ROWS(BM$97:BM108))),\"\"))","v":" "}]
[null,null,null,null,null,null,null,null,null,null,null,null,null,null,null,null,null,null,null,null,null,null,null,null,null,null,null,null,null,null,null,null,null,null,null,null,null,null,null,null,null,null,null,null,null,null,null,null,null,null,null,null,null,null,null,null,null,null,null,null,null,null,null,{"$f":"BL10","v":" 8.9. Elaboración de presupuestos"},{"$f":"CONCATENATE(\" \",IFERROR(INDEX('Step 2. IHECO'!$C$292:$C$302,_xlfn.AGGREGATE(15,6,(ROW('Step 2. IHECO'!$C$292:$C$302)-ROW('Step 2. IHECO'!$C$292)+1)/('Step 2. IHECO'!$C$292:$C$302<>\"\"),ROWS(BM$97:BM109))),\"\"))","v":" "}]
[null,null,null,null,null,null,null,null,null,null,null,null,null,null,null,null,null,null,null,null,null,null,null,null,null,null,null,null,null,null,null,null,null,null,null,null,null,null,null,null,null,null,null,null,null,null,null,null,null,null,null,null,null,null,null,null,null,null,null,null,null,null,null,{"$f":"CONCATENATE(\" \",IFERROR(INDEX('Step 2. IHECO'!$C$247:$C$252,_xlfn.AGGREGATE(15,6,(ROW('Step 2. IHECO'!$C$247:$C$252)-ROW('Step 2. IHECO'!$C$247)+1)/('Step 2. IHECO'!$C$247:$C$252<>\"\"),ROWS(BL$110:BL110))),\"\"))","v":" 8.9.1. Todos los gerentes participan en un proceso de elaboración de presupuestos que es una parte integral del plan operativo."},{"$f":"CONCATENATE(\" \",IFERROR(INDEX('Step 2. IHECO'!$C$292:$C$302,_xlfn.AGGREGATE(15,6,(ROW('Step 2. IHECO'!$C$292:$C$302)-ROW('Step 2. IHECO'!$C$292)+1)/('Step 2. IHECO'!$C$292:$C$302<>\"\"),ROWS(BM$97:BM110))),\"\"))","v":" "}]
[null,null,null,null,null,null,null,null,null,null,null,null,null,null,null,null,null,null,null,null,null,null,null,null,null,null,null,null,null,null,null,null,null,null,null,null,null,null,null,null,null,null,null,null,null,null,null,null,null,null,null,null,null,null,null,null,null,null,null,null,null,null,null,{"$f":"CONCATENATE(\" \",IFERROR(INDEX('Step 2. IHECO'!$C$247:$C$252,_xlfn.AGGREGATE(15,6,(ROW('Step 2. IHECO'!$C$247:$C$252)-ROW('Step 2. IHECO'!$C$247)+1)/('Step 2. IHECO'!$C$247:$C$252<>\"\"),ROWS(BL$110:BL111))),\"\"))","v":" 8.9.2. El presupuesto anual muestra tanto los ingresos como los gastos proyectados y cuenta con la aprobación del Director Ejecutivo o de la junta directiva."},{"$f":"CONCATENATE(\" \",IFERROR(INDEX('Step 2. IHECO'!$C$292:$C$302,_xlfn.AGGREGATE(15,6,(ROW('Step 2. IHECO'!$C$292:$C$302)-ROW('Step 2. IHECO'!$C$292)+1)/('Step 2. IHECO'!$C$292:$C$302<>\"\"),ROWS(BM$97:BM111))),\"\"))","v":" "}]
[null,null,null,null,null,null,null,null,null,null,null,null,null,null,null,null,null,null,null,null,null,null,null,null,null,null,null,null,null,null,null,null,null,null,null,null,null,null,null,null,null,null,null,null,null,null,null,null,null,null,null,null,null,null,null,null,null,null,null,null,null,null,null,{"$f":"CONCATENATE(\" \",IFERROR(INDEX('Step 2. IHECO'!$C$247:$C$252,_xlfn.AGGREGATE(15,6,(ROW('Step 2. IHECO'!$C$247:$C$252)-ROW('Step 2. IHECO'!$C$247)+1)/('Step 2. IHECO'!$C$247:$C$252<>\"\"),ROWS(BL$110:BL112))),\"\"))","v":" 8.9.3. Los presupuestos de los proyectos existentes y las estimaciones para los proyectos propuestos se incorporan al presupuesto anual y se corrigen cuando es necesario."},{"$f":"CONCATENATE(\" \",IFERROR(INDEX('Step 2. IHECO'!$C$292:$C$302,_xlfn.AGGREGATE(15,6,(ROW('Step 2. IHECO'!$C$292:$C$302)-ROW('Step 2. IHECO'!$C$292)+1)/('Step 2. IHECO'!$C$292:$C$302<>\"\"),ROWS(BM$97:BM112))),\"\"))","v":" "}]
[null,null,null,null,null,null,null,null,null,null,null,null,null,null,null,null,null,null,null,null,null,null,null,null,null,null,null,null,null,null,null,null,null,null,null,null,null,null,null,null,null,null,null,null,null,null,null,null,null,null,null,null,null,null,null,null,null,null,null,null,null,null,null,{"$f":"CONCATENATE(\" \",IFERROR(INDEX('Step 2. IHECO'!$C$247:$C$252,_xlfn.AGGREGATE(15,6,(ROW('Step 2. IHECO'!$C$247:$C$252)-ROW('Step 2. IHECO'!$C$247)+1)/('Step 2. IHECO'!$C$247:$C$252<>\"\"),ROWS(BL$110:BL113))),\"\"))","v":" 8.9.4. Las asignaciones en el proceso de elaboración de presupuestos reflejan estrechamente las prioridades de la organización."}]
[null,null,null,null,null,null,null,null,null,null,null,null,null,null,null,null,null,null,null,null,null,null,null,null,null,null,null,null,null,null,null,null,null,null,null,null,null,null,null,null,null,null,null,null,null,null,null,null,null,null,null,null,null,null,null,null,null,null,null,null,null,null,null,{"$f":"CONCATENATE(\" \",IFERROR(INDEX('Step 2. IHECO'!$C$247:$C$252,_xlfn.AGGREGATE(15,6,(ROW('Step 2. IHECO'!$C$247:$C$252)-ROW('Step 2. IHECO'!$C$247)+1)/('Step 2. IHECO'!$C$247:$C$252<>\"\"),ROWS(BL$110:BL114))),\"\"))","v":" 8.9.5. Si varios donadores financian un solo proyecto, los fondos y los gastos relacionados se identifican en forma separada por donador en los registros contables."}]
[null,null,null,null,null,null,null,null,null,null,null,null,null,null,null,null,null,null,null,null,null,null,null,null,null,null,null,null,null,null,null,null,null,null,null,null,null,null,null,null,null,null,null,null,null,null,null,null,null,null,null,null,null,null,null,null,null,null,null,null,null,null,null,{"$f":"CONCATENATE(\" \",IFERROR(INDEX('Step 2. IHECO'!$C$247:$C$252,_xlfn.AGGREGATE(15,6,(ROW('Step 2. IHECO'!$C$247:$C$252)-ROW('Step 2. IHECO'!$C$247)+1)/('Step 2. IHECO'!$C$247:$C$252<>\"\"),ROWS(BL$110:BL115))),\"\"))","v":" 8.9.6. Hay sistemas para controlar el gasto presupuestario."}]
[null,null,null,null,null,null,null,null,null,null,null,null,null,null,null,null,null,null,null,null,null,null,null,null,null,null,null,null,null,null,null,null,null,null,null,null,null,null,null,null,null,null,null,null,null,null,null,null,null,null,null,null,null,null,null,null,null,null,null,null,null,null,null,{"$f":"CONCATENATE(\" \",IFERROR(INDEX('Step 2. IHECO'!$C$247:$C$252,_xlfn.AGGREGATE(15,6,(ROW('Step 2. IHECO'!$C$247:$C$252)-ROW('Step 2. IHECO'!$C$247)+1)/('Step 2. IHECO'!$C$247:$C$252<>\"\"),ROWS(BL$110:BL116))),\"\"))","v":" "}]
[null,null,null,null,null,null,null,null,null,null,null,null,null,null,null,null,null,null,null,null,null,null,null,null,null,null,null,null,null,null,null,null,null,null,null,null,null,null,null,null,null,null,null,null,null,null,null,null,null,null,null,null,null,null,null,null,null,null,null,null,null,null,null,{"$f":"CONCATENATE(\" \",IFERROR(INDEX('Step 2. IHECO'!$C$247:$C$252,_xlfn.AGGREGATE(15,6,(ROW('Step 2. IHECO'!$C$247:$C$252)-ROW('Step 2. IHECO'!$C$247)+1)/('Step 2. IHECO'!$C$247:$C$252<>\"\"),ROWS(BL$110:BL117))),\"\"))","v":" "}]
[null,null,null,null,null,null,null,null,null,null,null,null,null,null,null,null,null,null,null,null,null,null,null,null,null,null,null,null,null,null,null,null,null,null,null,null,null,null,null,null,null,null,null,null,null,null,null,null,null,null,null,null,null,null,null,null,null,null,null,null,null,null,null,{"$f":"CONCATENATE(\" \",IFERROR(INDEX('Step 2. IHECO'!$C$247:$C$252,_xlfn.AGGREGATE(15,6,(ROW('Step 2. IHECO'!$C$247:$C$252)-ROW('Step 2. IHECO'!$C$247)+1)/('Step 2. IHECO'!$C$247:$C$252<>\"\"),ROWS(BL$110:BL118))),\"\"))","v":" "}]
[null,null,null,null,null,null,null,null,null,null,null,null,null,null,null,null,null,null,null,null,null,null,null,null,null,null,null,null,null,null,null,null,null,null,null,null,null,null,null,null,null,null,null,null,null,null,null,null,null,null,null,null,null,null,null,null,null,null,null,null,null,null,null,{"$f":"CONCATENATE(\" \",IFERROR(INDEX('Step 2. IHECO'!$C$247:$C$252,_xlfn.AGGREGATE(15,6,(ROW('Step 2. IHECO'!$C$247:$C$252)-ROW('Step 2. IHECO'!$C$247)+1)/('Step 2. IHECO'!$C$247:$C$252<>\"\"),ROWS(BL$110:BL119))),\"\"))","v":" "}]
[null,null,null,null,null,null,null,null,null,null,null,null,null,null,null,null,null,null,null,null,null,null,null,null,null,null,null,null,null,null,null,null,null,null,null,null,null,null,null,null,null,null,null,null,null,null,null,null,null,null,null,null,null,null,null,null,null,null,null,null,null,null,null,{"$f":"CONCATENATE(\" \",IFERROR(INDEX('Step 2. IHECO'!$C$247:$C$252,_xlfn.AGGREGATE(15,6,(ROW('Step 2. IHECO'!$C$247:$C$252)-ROW('Step 2. IHECO'!$C$247)+1)/('Step 2. IHECO'!$C$247:$C$252<>\"\"),ROWS(BL$110:BL120))),\"\"))","v":" "}]

{"sheet":"Import","index":1,"n_rows":68,"n_cols":55,"rows_kept":68,"cut":false,"hidden":true,"merged":[[5,1,5,54],[1,1,1,12],[17,1,17,11]]}
[]
[null,"DEMO IMPORT"]
[{"$f":"$A$1","v":0},{"$f":"$B$1","v":0},{"$f":"IF('Step 1. LA INSTITUCIÓN'!$D$16=\"\",\"\",'Step 1. LA INSTITUCIÓN'!$D$16)","v":""},{"$f":"IF('Step 1. LA INSTITUCIÓN'!$D$17=\"\",\"\",'Step 1. LA INSTITUCIÓN'!$D$17)","v":""},{"$f":"IF('Step 1. LA INSTITUCIÓN'!$D$18=\"\",\"\",'Step 1. LA INSTITUCIÓN'!$D$18)","v":""},{"$f":"IF('Step 1. LA INSTITUCIÓN'!$D$19=\"\",\"\",'Step 1. LA INSTITUCIÓN'!$D$19)","v":""},{"$f":"IF('Step 1. LA INSTITUCIÓN'!#REF!=\"\",\"\",'Step 1. LA INSTITUCIÓN'!#REF!)","v":{"$error":"#REF!"}},{"$f":"IF('Step 1. LA INSTITUCIÓN'!#REF!=\"\",\"\",'Step 1. LA INSTITUCIÓN'!#REF!)","v":{"$error":"#REF!"}},{"$f":"IF('Step 1. LA INSTITUCIÓN'!#REF!=\"\",\"\",'Step 1. LA INSTITUCIÓN'!#REF!)","v":{"$error":"#REF!"}},{"$f":"IF('Step 1. LA INSTITUCIÓN'!#REF!=\"\",\"\",'Step 1. LA INSTITUCIÓN'!#REF!)","v":{"$error":"#REF!"}}]
[]
[]
[null,"RESULTS IMPORT"]
[{"$f":"$A$1","v":0},{"$f":"$B$1","v":0},"Identity and Governance",{"$f":"'Step 3. Resultados del IHECO'!$G$4","v":""},{"$f":"'Step 3. Resultados del IHECO'!$G$5","v":""},{"$f":"'Step 3. Resultados del IHECO'!$G$6","v":""},{"$f":"'Step 3. Resultados del IHECO'!$G$7","v":""},{"$f":"'Step 3. Resultados del IHECO'!$G$8","v":""},{"$f":"'Step 3. Resultados del IHECO'!$G$9","v":""}]
[{"$f":"$A$1","v":0},{"$f":"$B$1","v":0},"Strategy and Planning",null,null,null,null,null,null,{"$f":"'Step 3. Resultados del IHECO'!$G$10","v":""},{"$f":"'Step 3. Resultados del IHECO'!$G$11","v":""},{"$f":"'Step 3. Resultados del IHECO'!$G$12","v":""},{"$f":"'Step 3. Resultados del IHECO'!$G$13","v":""}]
[0,0,"General Management",null,null,null,null,null,null,null,null,null,null,{"$f":"'Step 3. Resultados del IHECO'!$G$14","v":""},{"$f":"'Step 3. Resultados del IHECO'!$G$15","v":""},{"$f":"'Step 3. Resultados del IHECO'!$G$16","v":""},{"$f":"'Step 3. Resultados del IHECO'!$G$17","v":""},{"$f":"'Step 3. Resultados del IHECO'!$G$18","v":""}]
[0,0,"External Relations and Partnerships",null,null,null,null,null,null,null,null,null,null,null,null,null,null,null,{"$f":"'Step 3. Resultados del IHECO'!$G$19","v":""},{"$f":"'Step 3. Resultados del IHECO'!$G$20","v":""},{"$f":"'Step 3. Resultados del IHECO'!$G$21","v":""},{"$f":"'Step 3. Resultados del IHECO'!$G$22","v":""}]
[0,0,"Sustainability",null,null,null,null,null,null,null,null,null,null,null,null,null,null,null,null,null,null,null,{"$f":"'Step 3. Resultados del IHECO'!$G$23","v":""},{"$f":"'Step 3. Resultados del IHECO'!$G$24","v":""},{"$f":"'Step 3. Resultados del IHECO'!$G$25","v":""},{"$f":"'Step 3. Resultados del IHECO'!$G$26","v":""}]
[0,0,"Organizational Learning",null,null,null,null,null,null,null,null,null,null,null,null,null,null,null,null,null,null,null,null,null,null,null,{"$f":"'Step 3. Resultados del IHECO'!$G$27","v":""},{"$f":"'Step 3. Resultados del IHECO'!$G$28","v":""},{"$f":"'Step 3. Resultados del IHECO'!$G$29","v":""},{"$f":"'Step 3. Resultados del IHECO'!$G$30","v":""}]
[0,0,"Human Resource Management",null,null,null,null,null,null,null,null,null,null,null,null,null,null,null,null,null,null,null,null,null,null,null,null,null,null,null,{"$f":"'Step 3. Resultados del IHECO'!$G$31","v":""},{"$f":"'Step 3. Resultados del IHECO'!$G$32","v":""},{"$f":"'Step 3. Resultados del IHECO'!$G$33","v":""},{"$f":"'Step 3. Resultados del IHECO'!$G$34","v":""},{"$f":"'Step 3. Resultados del IHECO'!$G$35","v":""},{"$f":"'Step 3. Resultados del IHECO'!$G$36","v":""},{"$f":"'Step 3. Resultados del IHECO'!$G$37","v":""}]
[0,0,"Programming, Services, and Results",null,null,null,null,null,null,null,null,null,null,null,null,null,null,null,null,null,null,null,null,null,null,null,null,null,null,null,null,null,null,null,null,null,null,{"$f":"'Step 3. Resultados del IHECO'!$G$47","v":""},{"$f":"'Step 3. Resultados del IHECO'!$G$48","v":""},{"$f":"'Step 3. Resultados del IHECO'!$G$49","v":""},{"$f":"'Step 3. Resultados del IHECO'!$G$50","v":""},{"$f":"'Step 3. Resultados del IHECO'!$G$51","v":""},{"$f":"'Step 3. Resultados del IHECO'!$G$52","v":""},{"$f":"'Step 3. Resultados del IHECO'!$G$53","v":""},{"$f":"'Step 3. Resultados del IHECO'!$G$54","v":""}]
[0,0,"Subrecipient Financial Personnel Assessment",null,null,null,null,null,null,null,null,null,null,null,null,null,null,null,null,null,null,null,null,null,null,null,null,null,null,null,null,null,null,null,null,null,null,null,null,null,null,null,null,null,null,{"$f":"'Step 3. Resultados del IHECO'!#REF!","v":{"$error":"#REF!"}},{"$f":"'Step 3. Resultados del IHECO'!#REF!","v":{"$error":"#REF!"}},{"$f":"'Step 3. Resultados del IHECO'!#REF!","v":{"$error":"#REF!"}},{"$f":"'Step 3. Resultados del IHECO'!#REF!","v":{"$error":"#REF!"}},{"$f":"'Step 3. Resultados del IHECO'!#REF!","v":{"$error":"#REF!"}},{"$f":"'Step 3. Resultados del IHECO'!#REF!","v":{"$error":"#REF!"}},{"$f":"'Step 3. Resultados del IHECO'!#REF!","v":{"$error":"#REF!"}},{"$f":"'Step 3. Resultados del IHECO'!#REF!","v":{"$error":"#REF!"}},{"$f":"'Step 3. Resultados del IHECO'!#REF!","v":{"$error":"#REF!"}},{"$f":"'Step 3. Resultados del IHECO'!#REF!","v":{"$error":"#REF!"}}]
[]
[]
[null,"ACTION PLAN IMPORT"]
[{"$f":"IF(ISNUMBER($H19),$A$1,\"\")","v":""},{"$f":"IF(ISNUMBER($H19),$B$1,\"\")","v":""},{"$f":"IF(ISTEXT('Step 4. Plan de Acción'!#REF!),'Step 4. Plan de Acción'!#REF!,\"\")","v":""},{"$f":"IF(ISTEXT('Step 4. Plan de Acción'!B6),'Step 4. Plan de Acción'!B6,\"\")","v":""},{"$f":"IF(ISTEXT('Step 4. Plan de Acción'!C6),'Step 4. Plan de Acción'!C6,\"\")","v":""},{"$f":"IF(ISTEXT('Step 4. Plan de Acción'!G6),'Step 4. Plan de Acción'!G6,\"\")","v":""},{"$f":"IF(ISTEXT('Step 4. Plan de Acción'!H6),'Step 4. Plan de Acción'!H6,\"\")","v":""},{"$f":"IF(ISNUMBER('Step 4. Plan de Acción'!K6),'Step 4. Plan de Acción'!K6,\"\")","v":""},{"$f":"IF(ISNUMBER('Step 4. Plan de Acción'!M6),'Step 4. Plan de Acción'!M6,\"\")","v":""},{"$f":"IF(ISTEXT('Step 4. Plan de Acción'!#REF!),'Step 4. Plan de Acción'!#REF!,\"\")","v":""},{"$f":"IF(ISNUMBER('Step 4. Plan de Acción'!I6),'Step 4. Plan de Acción'!I6,\"\")","v":""},{"$f":"IF(ISNUMBER('Step 4. Plan de Acción'!L6),'Step 4. Plan de Acción'!L6,\"\")","v":""}]
[{"$f":"IF(ISNUMBER($H20),$A$1,\"\")","v":""},{"$f":"IF(ISNUMBER($H20),$B$1,\"\")","v":""},{"$f":"IF(ISTEXT('Step 4. Plan de Acción'!#REF!),'Step 4. Plan de Acción'!#REF!,\"\")","v":""},{"$f":"IF(ISTEXT('Step 4. Plan de Acción'!B7),'Step 4. Plan de Acción'!B7,\"\")","v":""},{"$f":"IF(ISTEXT('Step 4. Plan de Acción'!C7),'Step 4. Plan de Acción'!C7,\"\")","v":""},{"$f":"IF(ISTEXT('Step 4. Plan de Acción'!G7),'Step 4. Plan de Acción'!G7,\"\")","v":""},{"$f":"IF(ISTEXT('Step 4. Plan de Acción'!H7),'Step 4. Plan de Acción'!H7,\"\")","v":""},{"$f":"IF(ISNUMBER('Step 4. Plan de Acción'!K7),'Step 4. Plan de Acción'!K7,\"\")","v":""},{"$f":"IF(ISNUMBER('Step 4. Plan de Acción'!M7),'Step 4. Plan de Acción'!M7,\"\")","v":""},{"$f":"IF(ISTEXT('Step 4. Plan de Acción'!#REF!),'Step 4. Plan de Acción'!#REF!,\"\")","v":""},{"$f":"IF(ISNUMBER('Step 4. Plan de Acción'!I7),'Step 4. Plan de Acción'!I7,\"\")","v":""},{"$f":"IF(ISNUMBER('Step 4. Plan de Acción'!L7),'Step 4. Plan de Acción'!L7,\"\")","v":""}]
[{"$f":"IF(ISNUMBER($H21),$A$1,\"\")","v":""},"",{"$f":"IF(ISTEXT('Step 4. Plan de Acción'!#REF!),'Step 4. Plan de Acción'!#REF!,\"\")","v":""},{"$f":"IF(ISTEXT('Step 4. Plan de Acción'!B8),'Step 4. Plan de Acción'!B8,\"\")","v":""},{"$f":"IF(ISTEXT('Step 4. Plan de Acción'!C8),'Step 4. Plan de Acción'!C8,\"\")","v":""},{"$f":"IF(ISTEXT('Step 4. Plan de Acción'!G8),'Step 4. Plan de Acción'!G8,\"\")","v":""},{"$f":"IF(ISTEXT('Step 4. Plan de Acción'!H8),'Step 4. Plan de Acción'!H8,\"\")","v":""},{"$f":"IF(ISNUMBER('Step 4. Plan de Acción'!#REF!),'Step 4. Plan de Acción'!#REF!,\"\")","v":""},{"$f":"IF(ISNUMBER('Step 4. Plan de Acción'!M8),'Step 4. Plan de Acción'!M8,\"\")","v":""},{"$f":"IF(ISTEXT('Step 4. Plan de Acción'!#REF!),'Step 4. Plan de Acción'!#REF!,\"\")","v":""},{"$f":"IF(ISNUMBER('Step 4. Plan de Acción'!I8),'Step 4. Plan de Acción'!I8,\"\")","v":""},{"$f":"IF(ISNUMBER('Step 4. Plan de Acción'!L8),'Step 4. Plan de Acción'!L8,\"\")","v":""},null,null,""]
["","",{"$f":"IF(ISTEXT('Step 4. Plan de Acción'!#REF!),'Step 4. Plan de Acción'!#REF!,\"\")","v":""},{"$f":"IF(ISTEXT('Step 4. Plan de Acción'!B9),'Step 4. Plan de Acción'!B9,\"\")","v":""},{"$f":"IF(ISTEXT('Step 4. Plan de Acción'!C9),'Step 4. Plan de Acción'!C9,\"\")","v":""},{"$f":"IF(ISTEXT('Step 4. Plan de Acción'!G9),'Step 4. Plan de Acción'!G9,\"\")","v":""},{"$f":"IF(ISTEXT('Step 4. Plan de Acción'!H9),'Step 4. Plan de Acción'!H9,\"\")","v":""},{"$f":"IF(ISNUMBER('Step 4. Plan de Acción'!#REF!),'Step 4. Plan de Acción'!#REF!,\"\")","v":""},{"$f":"IF(ISNUMBER('Step 4. Plan de Acción'!M9),'Step 4. Plan de Acción'!M9,\"\")","v":""},{"$f":"IF(ISTEXT('Step 4. Plan de Acción'!#REF!),'Step 4. Plan de Acción'!#REF!,\"\")","v":""},{"$f":"IF(ISNUMBER('Step 4. Plan de Acción'!I9),'Step 4. Plan de Acción'!I9,\"\")","v":""},{"$f":"IF(ISNUMBER('Step 4. Plan de Acción'!L9),'Step 4. Plan de Acción'!L9,\"\")","v":""}]
["","",{"$f":"IF(ISTEXT('Step 4. Plan de Acción'!#REF!),'Step 4. Plan de Acción'!#REF!,\"\")","v":""},{"$f":"IF(ISTEXT('Step 4. Plan de Acción'!B10),'Step 4. Plan de Acción'!B10,\"\")","v":""},{"$f":"IF(ISTEXT('Step 4. Plan de Acción'!C10),'Step 4. Plan de Acción'!C10,\"\")","v":""},{"$f":"IF(ISTEXT('Step 4. Plan de Acción'!G10),'Step 4. Plan de Acción'!G10,\"\")","v":""},{"$f":"IF(ISTEXT('Step 4. Plan de Acción'!H10),'Step 4. Plan de Acción'!H10,\"\")","v":""},{"$f":"IF(ISNUMBER('Step 4. Plan de Acción'!#REF!),'Step 4. Plan de Acción'!#REF!,\"\")","v":""},{"$f":"IF(ISNUMBER('Step 4. Plan de Acción'!M10),'Step 4. Plan de Acción'!M10,\"\")","v":""},{"$f":"IF(ISTEXT('Step 4. Plan de Acción'!#REF!),'Step 4. Plan de Acción'!#REF!,\"\")","v":""},{"$f":"IF(ISNUMBER('Step 4. Plan de Acción'!I10),'Step 4. Plan de Acción'!I10,\"\")","v":""},{"$f":"IF(ISNUMBER('Step 4. Plan de Acción'!L10),'Step 4. Plan de Acción'!L10,\"\")","v":""}]
["","",{"$f":"IF(ISTEXT('Step 4. Plan de Acción'!#REF!),'Step 4. Plan de Acción'!#REF!,\"\")","v":""},{"$f":"IF(ISTEXT('Step 4. Plan de Acción'!B11),'Step 4. Plan de Acción'!B11,\"\")","v":""},{"$f":"IF(ISTEXT('Step 4. Plan de Acción'!C11),'Step 4. Plan de Acción'!C11,\"\")","v":""},{"$f":"IF(ISTEXT('Step 4. Plan de Acción'!G11),'Step 4. Plan de Acción'!G11,\"\")","v":""},{"$f":"IF(ISTEXT('Step 4. Plan de Acción'!H11),'Step 4. Plan de Acción'!H11,\"\")","v":""},{"$f":"IF(ISNUMBER('Step 4. Plan de Acción'!#REF!),'Step 4. Plan de Acción'!#REF!,\"\")","v":""},{"$f":"IF(ISNUMBER('Step 4. Plan de Acción'!M11),'Step 4. Plan de Acción'!M11,\"\")","v":""},{"$f":"IF(ISTEXT('Step 4. Plan de Acción'!#REF!),'Step 4. Plan de Acción'!#REF!,\"\")","v":""},{"$f":"IF(ISNUMBER('Step 4. Plan de Acción'!I11),'Step 4. Plan de Acción'!I11,\"\")","v":""},{"$f":"IF(ISNUMBER('Step 4. Plan de Acción'!L11),'Step 4. Plan de Acción'!L11,\"\")","v":""}]
["","",{"$f":"IF(ISTEXT('Step 4. Plan de Acción'!#REF!),'Step 4. Plan de Acción'!#REF!,\"\")","v":""},{"$f":"IF(ISTEXT('Step 4. Plan de Acción'!B12),'Step 4. Plan de Acción'!B12,\"\")","v":""},{"$f":"IF(ISTEXT('Step 4. Plan de Acción'!C12),'Step 4. Plan de Acción'!C12,\"\")","v":""},{"$f":"IF(ISTEXT('Step 4. Plan de Acción'!G12),'Step 4. Plan de Acción'!G12,\"\")","v":""},{"$f":"IF(ISTEXT('Step 4. Plan de Acción'!H12),'Step 4. Plan de Acción'!H12,\"\")","v":""},{"$f":"IF(ISNUMBER('Step 4. Plan de Acción'!#REF!),'Step 4. Plan de Acción'!#REF!,\"\")","v":""},{"$f":"IF(ISNUMBER('Step 4. Plan de Acción'!M12),'Step 4. Plan de Acción'!M12,\"\")","v":""},{"$f":"IF(ISTEXT('Step 4. Plan de Acción'!#REF!),'Step 4. Plan de Acción'!#REF!,\"\")","v":""},{"$f":"IF(ISNUMBER('Step 4. Plan de Acción'!I12),'Step 4. Plan de Acción'!I12,\"\")","v":""},{"$f":"IF(ISNUMBER('Step 4. Plan de Acción'!L12),'Step 4. Plan de Acción'!L12,\"\")","v":""}]
["","",{"$f":"IF(ISTEXT('Step 4. Plan de Acción'!#REF!),'Step 4. Plan de Acción'!#REF!,\"\")","v":""},{"$f":"IF(ISTEXT('Step 4. Plan de Acción'!B13),'Step 4. Plan de Acción'!B13,\"\")","v":""},{"$f":"IF(ISTEXT('Step 4. Plan de Acción'!C13),'Step 4. Plan de Acción'!C13,\"\")","v":""},{"$f":"IF(ISTEXT('Step 4. Plan de Acción'!G13),'Step 4. Plan de Acción'!G13,\"\")","v":""},{"$f":"IF(ISTEXT('Step 4. Plan de Acción'!H13),'Step 4. Plan de Acción'!H13,\"\")","v":""},{"$f":"IF(ISNUMBER('Step 4. Plan de Acción'!#REF!),'Step 4. Plan de Acción'!#REF!,\"\")","v":""},{"$f":"IF(ISNUMBER('Step 4. Plan de Acción'!M13),'Step 4. Plan de Acción'!M13,\"\")","v":""},{"$f":"IF(ISTEXT('Step 4. Plan de Acción'!#REF!),'Step 4. Plan de Acción'!#REF!,\"\")","v":""},{"$f":"IF(ISNUMBER('Step 4. Plan de Acción'!I13),'Step 4. Plan de Acción'!I13,\"\")","v":""},{"$f":"IF(ISNUMBER('Step 4. Plan de Acción'!L13),'Step 4. Plan de Acción'!L13,\"\")","v":""}]
["","",{"$f":"IF(ISTEXT('Step 4. Plan de Acción'!#REF!),'Step 4. Plan de Acción'!#REF!,\"\")","v":""},{"$f":"IF(ISTEXT('Step 4. Plan de Acción'!B14),'Step 4. Plan de Acción'!B14,\"\")","v":""},{"$f":"IF(ISTEXT('Step 4. Plan de Acción'!C14),'Step 4. Plan de Acción'!C14,\"\")","v":""},{"$f":"IF(ISTEXT('Step 4. Plan de Acción'!G14),'Step 4. Plan de Acción'!G14,\"\")","v":""},{"$f":"IF(ISTEXT('Step 4. Plan de Acción'!H14),'Step 4. Plan de Acción'!H14,\"\")","v":""},{"$f":"IF(ISNUMBER('Step 4. Plan de Acción'!#REF!),'Step 4. Plan de Acción'!#REF!,\"\")","v":""},{"$f":"IF(ISNUMBER('Step 4. Plan de Acción'!M14),'Step 4. Plan de Acción'!M14,\"\")","v":""},{"$f":"IF(ISTEXT('Step 4. Plan de Acción'!#REF!),'Step 4. Plan de Acción'!#REF!,\"\")","v":""},{"$f":"IF(ISNUMBER('Step 4. Plan de Acción'!I14),'Step 4. Plan de Acción'!I14,\"\")","v":""},{"$f":"IF(ISNUMBER('Step 4. Plan de Acción'!L14),'Step 4. Plan de Acción'!L14,\"\")","v":""}]
["","",{"$f":"IF(ISTEXT('Step 4. Plan de Acción'!#REF!),'Step 4. Plan de Acción'!#REF!,\"\")","v":""},{"$f":"IF(ISTEXT('Step 4. Plan de Acción'!B15),'Step 4. Plan de Acción'!B15,\"\")","v":""},{"$f":"IF(ISTEXT('Step 4. Plan de Acción'!C15),'Step 4. Plan de Acción'!C15,\"\")","v":""},{"$f":"IF(ISTEXT('Step 4. Plan de Acción'!G15),'Step 4. Plan de Acción'!G15,\"\")","v":""},{"$f":"IF(ISTEXT('Step 4. Plan de Acción'!H15),'Step 4. Plan de Acción'!H15,\"\")","v":""},{"$f":"IF(ISNUMBER('Step 4. Plan de Acción'!#REF!),'Step 4. Plan de Acción'!#REF!,\"\")","v":""},{"$f":"IF(ISNUMBER('Step 4. Plan de Acción'!M15),'Step 4. Plan de Acción'!M15,\"\")","v":""},{"$f":"IF(ISTEXT('Step 4. Plan de Acción'!#REF!),'Step 4. Plan de Acción'!#REF!,\"\")","v":""},{"$f":"IF(ISNUMBER('Step 4. Plan de Acción'!I15),'Step 4. Plan de Acción'!I15,\"\")","v":""},{"$f":"IF(ISNUMBER('Step 4. Plan de Acción'!L15),'Step 4. Plan de Acción'!L15,\"\")","v":""}]
["","",{"$f":"IF(ISTEXT('Step 4. Plan de Acción'!#REF!),'Step 4. Plan de Acción'!#REF!,\"\")","v":""},{"$f":"IF(ISTEXT('Step 4. Plan de Acción'!B16),'Step 4. Plan de Acción'!B16,\"\")","v":""},{"$f":"IF(ISTEXT('Step 4. Plan de Acción'!C16),'Step 4. Plan de Acción'!C16,\"\")","v":""},{"$f":"IF(ISTEXT('Step 4. Plan de Acción'!G16),'Step 4. Plan de Acción'!G16,\"\")","v":""},{"$f":"IF(ISTEXT('Step 4. Plan de Acción'!H16),'Step 4. Plan de Acción'!H16,\"\")","v":""},{"$f":"IF(ISNUMBER('Step 4. Plan de Acción'!#REF!),'Step 4. Plan de Acción'!#REF!,\"\")","v":""},{"$f":"IF(ISNUMBER('Step 4. Plan de Acción'!M16),'Step 4. Plan de Acción'!M16,\"\")","v":""},{"$f":"IF(ISTEXT('Step 4. Plan de Acción'!#REF!),'Step 4. Plan de Acción'!#REF!,\"\")","v":""},{"$f":"IF(ISNUMBER('Step 4. Plan de Acción'!I16),'Step 4. Plan de Acción'!I16,\"\")","v":""},{"$f":"IF(ISNUMBER('Step 4. Plan de Acción'!L16),'Step 4. Plan de Acción'!L16,\"\")","v":""}]
["","",{"$f":"IF(ISTEXT('Step 4. Plan de Acción'!#REF!),'Step 4. Plan de Acción'!#REF!,\"\")","v":""},{"$f":"IF(ISTEXT('Step 4. Plan de Acción'!B17),'Step 4. Plan de Acción'!B17,\"\")","v":""},{"$f":"IF(ISTEXT('Step 4. Plan de Acción'!C17),'Step 4. Plan de Acción'!C17,\"\")","v":""},{"$f":"IF(ISTEXT('Step 4. Plan de Acción'!G17),'Step 4. Plan de Acción'!G17,\"\")","v":""},{"$f":"IF(ISTEXT('Step 4. Plan de Acción'!H17),'Step 4. Plan de Acción'!H17,\"\")","v":""},{"$f":"IF(ISNUMBER('Step 4. Plan de Acción'!#REF!),'Step 4. Plan de Acción'!#REF!,\"\")","v":""},{"$f":"IF(ISNUMBER('Step 4. Plan de Acción'!M17),'Step 4. Plan de Acción'!M17,\"\")","v":""},{"$f":"IF(ISTEXT('Step 4. Plan de Acción'!#REF!),'Step 4. Plan de Acción'!#REF!,\"\")","v":""},{"$f":"IF(ISNUMBER('Step 4. Plan de Acción'!I17),'Step 4. Plan de Acción'!I17,\"\")","v":""},{"$f":"IF(ISNUMBER('Step 4. Plan de Acción'!L17),'Step 4. Plan de Acción'!L17,\"\")","v":""}]
["","",{"$f":"IF(ISTEXT('Step 4. Plan de Acción'!#REF!),'Step 4. Plan de Acción'!#REF!,\"\")","v":""},{"$f":"IF(ISTEXT('Step 4. Plan de Acción'!B18),'Step 4. Plan de Acción'!B18,\"\")","v":""},{"$f":"IF(ISTEXT('Step 4. Plan de Acción'!C18),'Step 4. Plan de Acción'!C18,\"\")","v":""},{"$f":"IF(ISTEXT('Step 4. Plan de Acción'!G18),'Step 4. Plan de Acción'!G18,\"\")","v":""},{"$f":"IF(ISTEXT('Step 4. Plan de Acción'!H18),'Step 4. Plan de Acción'!H18,\"\")","v":""},{"$f":"IF(ISNUMBER('Step 4. Plan de Acción'!#REF!),'Step 4. Plan de Acción'!#REF!,\"\")","v":""},{"$f":"IF(ISNUMBER('Step 4. Plan de Acción'!M18),'Step 4. Plan de Acción'!M18,\"\")","v":""},{"$f":"IF(ISTEXT('Step 4. Plan de Acción'!#REF!),'Step 4. Plan de Acción'!#REF!,\"\")","v":""},{"$f":"IF(ISNUMBER('Step 4. Plan de Acción'!I18),'Step 4. Plan de Acción'!I18,\"\")","v":""},{"$f":"IF(ISNUMBER('Step 4. Plan de Acción'!L18),'Step 4. Plan de Acción'!L18,\"\")","v":""}]
["","",{"$f":"IF(ISTEXT('Step 4. Plan de Acción'!#REF!),'Step 4. Plan de Acción'!#REF!,\"\")","v":""},{"$f":"IF(ISTEXT('Step 4. Plan de Acción'!B19),'Step 4. Plan de Acción'!B19,\"\")","v":""},{"$f":"IF(ISTEXT('Step 4. Plan de Acción'!C19),'Step 4. Plan de Acción'!C19,\"\")","v":""},{"$f":"IF(ISTEXT('Step 4. Plan de Acción'!G19),'Step 4. Plan de Acción'!G19,\"\")","v":""},{"$f":"IF(ISTEXT('Step 4. Plan de Acción'!H19),'Step 4. Plan de Acción'!H19,\"\")","v":""},{"$f":"IF(ISNUMBER('Step 4. Plan de Acción'!#REF!),'Step 4. Plan de Acción'!#REF!,\"\")","v":""},{"$f":"IF(ISNUMBER('Step 4. Plan de Acción'!M19),'Step 4. Plan de Acción'!M19,\"\")","v":""},{"$f":"IF(ISTEXT('Step 4. Plan de Acción'!#REF!),'Step 4. Plan de Acción'!#REF!,\"\")","v":""},{"$f":"IF(ISNUMBER('Step 4. Plan de Acción'!I19),'Step 4. Plan de Acción'!I19,\"\")","v":""},{"$f":"IF(ISNUMBER('Step 4. Plan de Acción'!L19),'Step 4. Plan de Acción'!L19,\"\")","v":""}]
["","",{"$f":"IF(ISTEXT('Step 4. Plan de Acción'!#REF!),'Step 4. Plan de Acción'!#REF!,\"\")","v":""},{"$f":"IF(ISTEXT('Step 4. Plan de Acción'!B20),'Step 4. Plan de Acción'!B20,\"\")","v":""},{"$f":"IF(ISTEXT('Step 4. Plan de Acción'!C20),'Step 4. Plan de Acción'!C20,\"\")","v":""},{"$f":"IF(ISTEXT('Step 4. Plan de Acción'!G20),'Step 4. Plan de Acción'!G20,\"\")","v":""},{"$f":"IF(ISTEXT('Step 4. Plan de Acción'!H20),'Step 4. Plan de Acción'!H20,\"\")","v":""},{"$f":"IF(ISNUMBER('Step 4. Plan de Acción'!#REF!),'Step 4. Plan de Acción'!#REF!,\"\")","v":""},{"$f":"IF(ISNUMBER('Step 4. Plan de Acción'!M20),'Step 4. Plan de Acción'!M20,\"\")","v":""},{"$f":"IF(ISTEXT('Step 4. Plan de Acción'!#REF!),'Step 4. Plan de Acción'!#REF!,\"\")","v":""},{"$f":"IF(ISNUMBER('Step 4. Plan de Acción'!I20),'Step 4. Plan de Acción'!I20,\"\")","v":""},{"$f":"IF(ISNUMBER('Step 4. Plan de Acción'!L20),'Step 4. Plan de Acción'!L20,\"\")","v":""}]
["","",{"$f":"IF(ISTEXT('Step 4. Plan de Acción'!#REF!),'Step 4. Plan de Acción'!#REF!,\"\")","v":""},{"$f":"IF(ISTEXT('Step 4. Plan de Acción'!B21),'Step 4. Plan de Acción'!B21,\"\")","v":""},{"$f":"IF(ISTEXT('Step 4. Plan de Acción'!C21),'Step 4. Plan de Acción'!C21,\"\")","v":""},{"$f":"IF(ISTEXT('Step 4. Plan de Acción'!G21),'Step 4. Plan de Acción'!G21,\"\")","v":""},{"$f":"IF(ISTEXT('Step 4. Plan de Acción'!H21),'Step 4. Plan de Acción'!H21,\"\")","v":""},{"$f":"IF(ISNUMBER('Step 4. Plan de Acción'!#REF!),'Step 4. Plan de Acción'!#REF!,\"\")","v":""},{"$f":"IF(ISNUMBER('Step 4. Plan de Acción'!M21),'Step 4. Plan de Acción'!M21,\"\")","v":""},{"$f":"IF(ISTEXT('Step 4. Plan de Acción'!#REF!),'Step 4. Plan de Acción'!#REF!,\"\")","v":""},{"$f":"IF(ISNUMBER('Step 4. Plan de Acción'!I21),'Step 4. Plan de Acción'!I21,\"\")","v":""},{"$f":"IF(ISNUMBER('Step 4. Plan de Acción'!L21),'Step 4. Plan de Acción'!L21,\"\")","v":""}]
["","",{"$f":"IF(ISTEXT('Step 4. Plan de Acción'!#REF!),'Step 4. Plan de Acción'!#REF!,\"\")","v":""},{"$f":"IF(ISTEXT('Step 4. Plan de Acción'!B22),'Step 4. Plan de Acción'!B22,\"\")","v":""},{"$f":"IF(ISTEXT('Step 4. Plan de Acción'!C22),'Step 4. Plan de Acción'!C22,\"\")","v":""},{"$f":"IF(ISTEXT('Step 4. Plan de Acción'!G22),'Step 4. Plan de Acción'!G22,\"\")","v":""},{"$f":"IF(ISTEXT('Step 4. Plan de Acción'!H22),'Step 4. Plan de Acción'!H22,\"\")","v":""},{"$f":"IF(ISNUMBER('Step 4. Plan de Acción'!#REF!),'Step 4. Plan de Acción'!#REF!,\"\")","v":""},{"$f":"IF(ISNUMBER('Step 4. Plan de Acción'!M22),'Step 4. Plan de Acción'!M22,\"\")","v":""},{"$f":"IF(ISTEXT('Step 4. Plan de Acción'!#REF!),'Step 4. Plan de Acción'!#REF!,\"\")","v":""},{"$f":"IF(ISNUMBER('Step 4. Plan de Acción'!I22),'Step 4. Plan de Acción'!I22,\"\")","v":""},{"$f":"IF(ISNUMBER('Step 4. Plan de Acción'!L22),'Step 4. Plan de Acción'!L22,\"\")","v":""}]
["","",{"$f":"IF(ISTEXT('Step 4. Plan de Acción'!#REF!),'Step 4. Plan de Acción'!#REF!,\"\")","v":""},{"$f":"IF(ISTEXT('Step 4. Plan de Acción'!B23),'Step 4. Plan de Acción'!B23,\"\")","v":""},{"$f":"IF(ISTEXT('Step 4. Plan de Acción'!C23),'Step 4. Plan de Acción'!C23,\"\")","v":""},{"$f":"IF(ISTEXT('Step 4. Plan de Acción'!G23),'Step 4. Plan de Acción'!G23,\"\")","v":""},{"$f":"IF(ISTEXT('Step 4. Plan de Acción'!H23),'Step 4. Plan de Acción'!H23,\"\")","v":""},{"$f":"IF(ISNUMBER('Step 4. Plan de Acción'!#REF!),'Step 4. Plan de Acción'!#REF!,\"\")","v":""},{"$f":"IF(ISNUMBER('Step 4. Plan de Acción'!M23),'Step 4. Plan de Acción'!M23,\"\")","v":""},{"$f":"IF(ISTEXT('Step 4. Plan de Acción'!#REF!),'Step 4. Plan de Acción'!#REF!,\"\")","v":""},{"$f":"IF(ISNUMBER('Step 4. Plan de Acción'!I23),'Step 4. Plan de Acción'!I23,\"\")","v":""},{"$f":"IF(ISNUMBER('Step 4. Plan de Acción'!L23),'Step 4. Plan de Acción'!L23,\"\")","v":""}]
["","",{"$f":"IF(ISTEXT('Step 4. Plan de Acción'!#REF!),'Step 4. Plan de Acción'!#REF!,\"\")","v":""},{"$f":"IF(ISTEXT('Step 4. Plan de Acción'!B24),'Step 4. Plan de Acción'!B24,\"\")","v":""},{"$f":"IF(ISTEXT('Step 4. Plan de Acción'!C24),'Step 4. Plan de Acción'!C24,\"\")","v":""},{"$f":"IF(ISTEXT('Step 4. Plan de Acción'!G24),'Step 4. Plan de Acción'!G24,\"\")","v":""},{"$f":"IF(ISTEXT('Step 4. Plan de Acción'!H24),'Step 4. Plan de Acción'!H24,\"\")","v":""},{"$f":"IF(ISNUMBER('Step 4. Plan de Acción'!#REF!),'Step 4. Plan de Acción'!#REF!,\"\")","v":""},{"$f":"IF(ISNUMBER('Step 4. Plan de Acción'!M24),'Step 4. Plan de Acción'!M24,\"\")","v":""},{"$f":"IF(ISTEXT('Step 4. Plan de Acción'!#REF!),'Step 4. Plan de Acción'!#REF!,\"\")","v":""},{"$f":"IF(ISNUMBER('Step 4. Plan de Acción'!I24),'Step 4. Plan de Acción'!I24,\"\")","v":""},{"$f":"IF(ISNUMBER('Step 4. Plan de Acción'!L24),'Step 4. Plan de Acción'!L24,\"\")","v":""}]
["","",{"$f":"IF(ISTEXT('Step 4. Plan de Acción'!#REF!),'Step 4. Plan de Acción'!#REF!,\"\")","v":""},{"$f":"IF(ISTEXT('Step 4. Plan de Acción'!B25),'Step 4. Plan de Acción'!B25,\"\")","v":""},{"$f":"IF(ISTEXT('Step 4. Plan de Acción'!C25),'Step 4. Plan de Acción'!C25,\"\")","v":""},{"$f":"IF(ISTEXT('Step 4. Plan de Acción'!G25),'Step 4. Plan de Acción'!G25,\"\")","v":""},{"$f":"IF(ISTEXT('Step 4. Plan de Acción'!H25),'Step 4. Plan de Acción'!H25,\"\")","v":""},{"$f":"IF(ISNUMBER('Step 4. Plan de Acción'!#REF!),'Step 4. Plan de Acción'!#REF!,\"\")","v":""},{"$f":"IF(ISNUMBER('Step 4. Plan de Acción'!M25),'Step 4. Plan de Acción'!M25,\"\")","v":""},{"$f":"IF(ISTEXT('Step 4. Plan de Acción'!#REF!),'Step 4. Plan de Acción'!#REF!,\"\")","v":""},{"$f":"IF(ISNUMBER('Step 4. Plan de Acción'!I25),'Step 4. Plan de Acción'!I25,\"\")","v":""},{"$f":"IF(ISNUMBER('Step 4. Plan de Acción'!L25),'Step 4. Plan de Acción'!L25,\"\")","v":""}]
["","",{"$f":"IF(ISTEXT('Step 4. Plan de Acción'!#REF!),'Step 4. Plan de Acción'!#REF!,\"\")","v":""},{"$f":"IF(ISTEXT('Step 4. Plan de Acción'!B26),'Step 4. Plan de Acción'!B26,\"\")","v":""},{"$f":"IF(ISTEXT('Step 4. Plan de Acción'!C26),'Step 4. Plan de Acción'!C26,\"\")","v":""},{"$f":"IF(ISTEXT('Step 4. Plan de Acción'!G26),'Step 4. Plan de Acción'!G26,\"\")","v":""},{"$f":"IF(ISTEXT('Step 4. Plan de Acción'!H26),'Step 4. Plan de Acción'!H26,\"\")","v":""},{"$f":"IF(ISNUMBER('Step 4. Plan de Acción'!#REF!),'Step 4. Plan de Acción'!#REF!,\"\")","v":""},{"$f":"IF(ISNUMBER('Step 4. Plan de Acción'!M26),'Step 4. Plan de Acción'!M26,\"\")","v":""},{"$f":"IF(ISTEXT('Step 4. Plan de Acción'!#REF!),'Step 4. Plan de Acción'!#REF!,\"\")","v":""},{"$f":"IF(ISNUMBER('Step 4. Plan de Acción'!I26),'Step 4. Plan de Acción'!I26,\"\")","v":""},{"$f":"IF(ISNUMBER('Step 4. Plan de Acción'!L26),'Step 4. Plan de Acción'!L26,\"\")","v":""}]
["","",{"$f":"IF(ISTEXT('Step 4. Plan de Acción'!#REF!),'Step 4. Plan de Acción'!#REF!,\"\")","v":""},{"$f":"IF(ISTEXT('Step 4. Plan de Acción'!B27),'Step 4. Plan de Acción'!B27,\"\")","v":""},{"$f":"IF(ISTEXT('Step 4. Plan de Acción'!C27),'Step 4. Plan de Acción'!C27,\"\")","v":""},{"$f":"IF(ISTEXT('Step 4. Plan de Acción'!G27),'Step 4. Plan de Acción'!G27,\"\")","v":""},{"$f":"IF(ISTEXT('Step 4. Plan de Acción'!H27),'Step 4. Plan de Acción'!H27,\"\")","v":""},{"$f":"IF(ISNUMBER('Step 4. Plan de Acción'!#REF!),'Step 4. Plan de Acción'!#REF!,\"\")","v":""},{"$f":"IF(ISNUMBER('Step 4. Plan de Acción'!M27),'Step 4. Plan de Acción'!M27,\"\")","v":""},{"$f":"IF(ISTEXT('Step 4. Plan de Acción'!#REF!),'Step 4. Plan de Acción'!#REF!,\"\")","v":""},{"$f":"IF(ISNUMBER('Step 4. Plan de Acción'!I27),'Step 4. Plan de Acción'!I27,\"\")","v":""},{"$f":"IF(ISNUMBER('Step 4. Plan de Acción'!L27),'Step 4. Plan de Acción'!L27,\"\")","v":""}]
["","",{"$f":"IF(ISTEXT('Step 4. Plan de Acción'!#REF!),'Step 4. Plan de Acción'!#REF!,\"\")","v":""},{"$f":"IF(ISTEXT('Step 4. Plan de Acción'!B28),'Step 4. Plan de Acción'!B28,\"\")","v":""},{"$f":"IF(ISTEXT('Step 4. Plan de Acción'!C28),'Step 4. Plan de Acción'!C28,\"\")","v":""},{"$f":"IF(ISTEXT('Step 4. Plan de Acción'!G28),'Step 4. Plan de Acción'!G28,\"\")","v":""},{"$f":"IF(ISTEXT('Step 4. Plan de Acción'!H28),'Step 4. Plan de Acción'!H28,\"\")","v":""},{"$f":"IF(ISNUMBER('Step 4. Plan de Acción'!#REF!),'Step 4. Plan de Acción'!#REF!,\"\")","v":""},{"$f":"IF(ISNUMBER('Step 4. Plan de Acción'!M28),'Step 4. Plan de Acción'!M28,\"\")","v":""},{"$f":"IF(ISTEXT('Step 4. Plan de Acción'!#REF!),'Step 4. Plan de Acción'!#REF!,\"\")","v":""},{"$f":"IF(ISNUMBER('Step 4. Plan de Acción'!I28),'Step 4. Plan de Acción'!I28,\"\")","v":""},{"$f":"IF(ISNUMBER('Step 4. Plan de Acción'!L28),'Step 4. Plan de Acción'!L28,\"\")","v":""}]
["","",{"$f":"IF(ISTEXT('Step 4. Plan de Acción'!#REF!),'Step 4. Plan de Acción'!#REF!,\"\")","v":""},{"$f":"IF(ISTEXT('Step 4. Plan de Acción'!B29),'Step 4. Plan de Acción'!B29,\"\")","v":""},{"$f":"IF(ISTEXT('Step 4. Plan de Acción'!C29),'Step 4. Plan de Acción'!C29,\"\")","v":""},{"$f":"IF(ISTEXT('Step 4. Plan de Acción'!G29),'Step 4. Plan de Acción'!G29,\"\")","v":""},{"$f":"IF(ISTEXT('Step 4. Plan de Acción'!H29),'Step 4. Plan de Acción'!H29,\"\")","v":""},{"$f":"IF(ISNUMBER('Step 4. Plan de Acción'!#REF!),'Step 4. Plan de Acción'!#REF!,\"\")","v":""},{"$f":"IF(ISNUMBER('Step 4. Plan de Acción'!M29),'Step 4. Plan de Acción'!M29,\"\")","v":""},{"$f":"IF(ISTEXT('Step 4. Plan de Acción'!#REF!),'Step 4. Plan de Acción'!#REF!,\"\")","v":""},{"$f":"IF(ISNUMBER('Step 4. Plan de Acción'!I29),'Step 4. Plan de Acción'!I29,\"\")","v":""},{"$f":"IF(ISNUMBER('Step 4. Plan de Acción'!L29),'Step 4. Plan de Acción'!L29,\"\")","v":""}]
["","",{"$f":"IF(ISTEXT('Step 4. Plan de Acción'!#REF!),'Step 4. Plan de Acción'!#REF!,\"\")","v":""},{"$f":"IF(ISTEXT('Step 4. Plan de Acción'!B30),'Step 4. Plan de Acción'!B30,\"\")","v":""},{"$f":"IF(ISTEXT('Step 4. Plan de Acción'!C30),'Step 4. Plan de Acción'!C30,\"\")","v":""},{"$f":"IF(ISTEXT('Step 4. Plan de Acción'!G30),'Step 4. Plan de Acción'!G30,\"\")","v":""},{"$f":"IF(ISTEXT('Step 4. Plan de Acción'!H30),'Step 4. Plan de Acción'!H30,\"\")","v":""},{"$f":"IF(ISNUMBER('Step 4. Plan de Acción'!#REF!),'Step 4. Plan de Acción'!#REF!,\"\")","v":""},{"$f":"IF(ISNUMBER('Step 4. Plan de Acción'!M30),'Step 4. Plan de Acción'!M30,\"\")","v":""},{"$f":"IF(ISTEXT('Step 4. Plan de Acción'!#REF!),'Step 4. Plan de Acción'!#REF!,\"\")","v":""},{"$f":"IF(ISNUMBER('Step 4. Plan de Acción'!I30),'Step 4. Plan de Acción'!I30,\"\")","v":""},{"$f":"IF(ISNUMBER('Step 4. Plan de Acción'!L30),'Step 4. Plan de Acción'!L30,\"\")","v":""}]
["","",{"$f":"IF(ISTEXT('Step 4. Plan de Acción'!#REF!),'Step 4. Plan de Acción'!#REF!,\"\")","v":""},{"$f":"IF(ISTEXT('Step 4. Plan de Acción'!B31),'Step 4. Plan de Acción'!B31,\"\")","v":""},{"$f":"IF(ISTEXT('Step 4. Plan de Acción'!C31),'Step 4. Plan de Acción'!C31,\"\")","v":""},{"$f":"IF(ISTEXT('Step 4. Plan de Acción'!G31),'Step 4. Plan de Acción'!G31,\"\")","v":""},{"$f":"IF(ISTEXT('Step 4. Plan de Acción'!H31),'Step 4. Plan de Acción'!H31,\"\")","v":""},{"$f":"IF(ISNUMBER('Step 4. Plan de Acción'!#REF!),'Step 4. Plan de Acción'!#REF!,\"\")","v":""},{"$f":"IF(ISNUMBER('Step 4. Plan de Acción'!M31),'Step 4. Plan de Acción'!M31,\"\")","v":""},{"$f":"IF(ISTEXT('Step 4. Plan de Acción'!#REF!),'Step 4. Plan de Acción'!#REF!,\"\")","v":""},{"$f":"IF(ISNUMBER('Step 4. Plan de Acción'!I31),'Step 4. Plan de Acción'!I31,\"\")","v":""},{"$f":"IF(ISNUMBER('Step 4. Plan de Acción'!L31),'Step 4. Plan de Acción'!L31,\"\")","v":""}]
["","",{"$f":"IF(ISTEXT('Step 4. Plan de Acción'!#REF!),'Step 4. Plan de Acción'!#REF!,\"\")","v":""},{"$f":"IF(ISTEXT('Step 4. Plan de Acción'!B32),'Step 4. Plan de Acción'!B32,\"\")","v":""},{"$f":"IF(ISTEXT('Step 4. Plan de Acción'!C32),'Step 4. Plan de Acción'!C32,\"\")","v":""},{"$f":"IF(ISTEXT('Step 4. Plan de Acción'!G32),'Step 4. Plan de Acción'!G32,\"\")","v":""},{"$f":"IF(ISTEXT('Step 4. Plan de Acción'!H32),'Step 4. Plan de Acción'!H32,\"\")","v":""},{"$f":"IF(ISNUMBER('Step 4. Plan de Acción'!#REF!),'Step 4. Plan de Acción'!#REF!,\"\")","v":""},{"$f":"IF(ISNUMBER('Step 4. Plan de Acción'!M32),'Step 4. Plan de Acción'!M32,\"\")","v":""},{"$f":"IF(ISTEXT('Step 4. Plan de Acción'!#REF!),'Step 4. Plan de Acción'!#REF!,\"\")","v":""},{"$f":"IF(ISNUMBER('Step 4. Plan de Acción'!I32),'Step 4. Plan de Acción'!I32,\"\")","v":""},{"$f":"IF(ISNUMBER('Step 4. Plan de Acción'!L32),'Step 4. Plan de Acción'!L32,\"\")","v":""}]
["","",{"$f":"IF(ISTEXT('Step 4. Plan de Acción'!#REF!),'Step 4. Plan de Acción'!#REF!,\"\")","v":""},{"$f":"IF(ISTEXT('Step 4. Plan de Acción'!B33),'Step 4. Plan de Acción'!B33,\"\")","v":""},{"$f":"IF(ISTEXT('Step 4. Plan de Acción'!C33),'Step 4. Plan de Acción'!C33,\"\")","v":""},{"$f":"IF(ISTEXT('Step 4. Plan de Acción'!G33),'Step 4. Plan de Acción'!G33,\"\")","v":""},{"$f":"IF(ISTEXT('Step 4. Plan de Acción'!H33),'Step 4. Plan de Acción'!H33,\"\")","v":""},{"$f":"IF(ISNUMBER('Step 4. Plan de Acción'!#REF!),'Step 4. Plan de Acción'!#REF!,\"\")","v":""},{"$f":"IF(ISNUMBER('Step 4. Plan de Acción'!M33),'Step 4. Plan de Acción'!M33,\"\")","v":""},{"$f":"IF(ISTEXT('Step 4. Plan de Acción'!#REF!),'Step 4. Plan de Acción'!#REF!,\"\")","v":""},{"$f":"IF(ISNUMBER('Step 4. Plan de Acción'!I33),'Step 4. Plan de Acción'!I33,\"\")","v":""},{"$f":"IF(ISNUMBER('Step 4. Plan de Acción'!L33),'Step 4. Plan de Acción'!L33,\"\")","v":""}]
["","",{"$f":"IF(ISTEXT('Step 4. Plan de Acción'!#REF!),'Step 4. Plan de Acción'!#REF!,\"\")","v":""},{"$f":"IF(ISTEXT('Step 4. Plan de Acción'!B34),'Step 4. Plan de Acción'!B34,\"\")","v":""},{"$f":"IF(ISTEXT('Step 4. Plan de Acción'!C34),'Step 4. Plan de Acción'!C34,\"\")","v":""},{"$f":"IF(ISTEXT('Step 4. Plan de Acción'!G34),'Step 4. Plan de Acción'!G34,\"\")","v":""},{"$f":"IF(ISTEXT('Step 4. Plan de Acción'!H34),'Step 4. Plan de Acción'!H34,\"\")","v":""},{"$f":"IF(ISNUMBER('Step 4. Plan de Acción'!K8),'Step 4. Plan de Acción'!K8,\"\")","v":""},{"$f":"IF(ISNUMBER('Step 4. Plan de Acción'!M34),'Step 4. Plan de Acción'!M34,\"\")","v":""},{"$f":"IF(ISTEXT('Step 4. Plan de Acción'!#REF!),'Step 4. Plan de Acción'!#REF!,\"\")","v":""},{"$f":"IF(ISNUMBER('Step 4. Plan de Acción'!I34),'Step 4. Plan de Acción'!I34,\"\")","v":""},{"$f":"IF(ISNUMBER('Step 4. Plan de Acción'!L34),'Step 4. Plan de Acción'!L34,\"\")","v":""}]
["","",{"$f":"IF(ISTEXT('Step 4. Plan de Acción'!#REF!),'Step 4. Plan de Acción'!#REF!,\"\")","v":""},{"$f":"IF(ISTEXT('Step 4. Plan de Acción'!B35),'Step 4. Plan de Acción'!B35,\"\")","v":""},{"$f":"IF(ISTEXT('Step 4. Plan de Acción'!C35),'Step 4. Plan de Acción'!C35,\"\")","v":""},{"$f":"IF(ISTEXT('Step 4. Plan de Acción'!G35),'Step 4. Plan de Acción'!G35,\"\")","v":""},{"$f":"IF(ISTEXT('Step 4. Plan de Acción'!H35),'Step 4. Plan de Acción'!H35,\"\")","v":""},{"$f":"IF(ISNUMBER('Step 4. Plan de Acción'!#REF!),'Step 4. Plan de Acción'!#REF!,\"\")","v":""},{"$f":"IF(ISNUMBER('Step 4. Plan de Acción'!M35),'Step 4. Plan de Acción'!M35,\"\")","v":""},{"$f":"IF(ISTEXT('Step 4. Plan de Acción'!#REF!),'Step 4. Plan de Acción'!#REF!,\"\")","v":""},{"$f":"IF(ISNUMBER('Step 4. Plan de Acción'!I35),'Step 4. Plan de Acción'!I35,\"\")","v":""},{"$f":"IF(ISNUMBER('Step 4. Plan de Acción'!L35),'Step 4. Plan de Acción'!L35,\"\")","v":""}]
["","",{"$f":"IF(ISTEXT('Step 4. Plan de Acción'!#REF!),'Step 4. Plan de Acción'!#REF!,\"\")","v":""},{"$f":"IF(ISTEXT('Step 4. Plan de Acción'!B36),'Step 4. Plan de Acción'!B36,\"\")","v":""},{"$f":"IF(ISTEXT('Step 4. Plan de Acción'!C36),'Step 4. Plan de Acción'!C36,\"\")","v":""},{"$f":"IF(ISTEXT('Step 4. Plan de Acción'!G36),'Step 4. Plan de Acción'!G36,\"\")","v":""},{"$f":"IF(ISTEXT('Step 4. Plan de Acción'!H36),'Step 4. Plan de Acción'!H36,\"\")","v":""},{"$f":"IF(ISNUMBER('Step 4. Plan de Acción'!#REF!),'Step 4. Plan de Acción'!#REF!,\"\")","v":""},{"$f":"IF(ISNUMBER('Step 4. Plan de Acción'!M36),'Step 4. Plan de Acción'!M36,\"\")","v":""},{"$f":"IF(ISTEXT('Step 4. Plan de Acción'!#REF!),'Step 4. Plan de Acción'!#REF!,\"\")","v":""},{"$f":"IF(ISNUMBER('Step 4. Plan de Acción'!I36),'Step 4. Plan de Acción'!I36,\"\")","v":""},{"$f":"IF(ISNUMBER('Step 4. Plan de Acción'!L36),'Step 4. Plan de Acción'!L36,\"\")","v":""}]
["","",{"$f":"IF(ISTEXT('Step 4. Plan de Acción'!#REF!),'Step 4. Plan de Acción'!#REF!,\"\")","v":""},{"$f":"IF(ISTEXT('Step 4. Plan de Acción'!B37),'Step 4. Plan de Acción'!B37,\"\")","v":""},{"$f":"IF(ISTEXT('Step 4. Plan de Acción'!C37),'Step 4. Plan de Acción'!C37,\"\")","v":""},{"$f":"IF(ISTEXT('Step 4. Plan de Acción'!G37),'Step 4. Plan de Acción'!G37,\"\")","v":""},{"$f":"IF(ISTEXT('Step 4. Plan de Acción'!H37),'Step 4. Plan de Acción'!H37,\"\")","v":""},{"$f":"IF(ISNUMBER('Step 4. Plan de Acción'!#REF!),'Step 4. Plan de Acción'!#REF!,\"\")","v":""},{"$f":"IF(ISNUMBER('Step 4. Plan de Acción'!M37),'Step 4. Plan de Acción'!M37,\"\")","v":""},{"$f":"IF(ISTEXT('Step 4. Plan de Acción'!#REF!),'Step 4. Plan de Acción'!#REF!,\"\")","v":""},{"$f":"IF(ISNUMBER('Step 4. Plan de Acción'!I37),'Step 4. Plan de Acción'!I37,\"\")","v":""},{"$f":"IF(ISNUMBER('Step 4. Plan de Acción'!L37),'Step 4. Plan de Acción'!L37,\"\")","v":""}]
["","",{"$f":"IF(ISTEXT('Step 4. Plan de Acción'!#REF!),'Step 4. Plan de Acción'!#REF!,\"\")","v":""},{"$f":"IF(ISTEXT('Step 4. Plan de Acción'!B38),'Step 4. Plan de Acción'!B38,\"\")","v":""},{"$f":"IF(ISTEXT('Step 4. Plan de Acción'!C38),'Step 4. Plan de Acción'!C38,\"\")","v":""},{"$f":"IF(ISTEXT('Step 4. Plan de Acción'!G38),'Step 4. Plan de Acción'!G38,\"\")","v":""},{"$f":"IF(ISTEXT('Step 4. Plan de Acción'!H38),'Step 4. Plan de Acción'!H38,\"\")","v":""},{"$f":"IF(ISNUMBER('Step 4. Plan de Acción'!#REF!),'Step 4. Plan de Acción'!#REF!,\"\")","v":""},{"$f":"IF(ISNUMBER('Step 4. Plan de Acción'!M38),'Step 4. Plan de Acción'!M38,\"\")","v":""},{"$f":"IF(ISTEXT('Step 4. Plan de Acción'!#REF!),'Step 4. Plan de Acción'!#REF!,\"\")","v":""},{"$f":"IF(ISNUMBER('Step 4. Plan de Acción'!I38),'Step 4. Plan de Acción'!I38,\"\")","v":""},{"$f":"IF(ISNUMBER('Step 4. Plan de Acción'!L38),'Step 4. Plan de Acción'!L38,\"\")","v":""}]
["","",{"$f":"IF(ISTEXT('Step 4. Plan de Acción'!#REF!),'Step 4. Plan de Acción'!#REF!,\"\")","v":""},{"$f":"IF(ISTEXT('Step 4. Plan de Acción'!B39),'Step 4. Plan de Acción'!B39,\"\")","v":""},{"$f":"IF(ISTEXT('Step 4. Plan de Acción'!C39),'Step 4. Plan de Acción'!C39,\"\")","v":""},{"$f":"IF(ISTEXT('Step 4. Plan de Acción'!G39),'Step 4. Plan de Acción'!G39,\"\")","v":""},{"$f":"IF(ISTEXT('Step 4. Plan de Acción'!H39),'Step 4. Plan de Acción'!H39,\"\")","v":""},{"$f":"IF(ISNUMBER('Step 4. Plan de Acción'!#REF!),'Step 4. Plan de Acción'!#REF!,\"\")","v":""},{"$f":"IF(ISNUMBER('Step 4. Plan de Acción'!M39),'Step 4. Plan de Acción'!M39,\"\")","v":""},{"$f":"IF(ISTEXT('Step 4. Plan de Acción'!#REF!),'Step 4. Plan de Acción'!#REF!,\"\")","v":""},{"$f":"IF(ISNUMBER('Step 4. Plan de Acción'!I39),'Step 4. Plan de Acción'!I39,\"\")","v":""},{"$f":"IF(ISNUMBER('Step 4. Plan de Acción'!L39),'Step 4. Plan de Acción'!L39,\"\")","v":""}]
["","",{"$f":"IF(ISTEXT('Step 4. Plan de Acción'!#REF!),'Step 4. Plan de Acción'!#REF!,\"\")","v":""},{"$f":"IF(ISTEXT('Step 4. Plan de Acción'!B40),'Step 4. Plan de Acción'!B40,\"\")","v":""},{"$f":"IF(ISTEXT('Step 4. Plan de Acción'!C40),'Step 4. Plan de Acción'!C40,\"\")","v":""},{"$f":"IF(ISTEXT('Step 4. Plan de Acción'!G40),'Step 4. Plan de Acción'!G40,\"\")","v":""},{"$f":"IF(ISTEXT('Step 4. Plan de Acción'!H40),'Step 4. Plan de Acción'!H40,\"\")","v":""},{"$f":"IF(ISNUMBER('Step 4. Plan de Acción'!#REF!),'Step 4. Plan de Acción'!#REF!,\"\")","v":""},{"$f":"IF(ISNUMBER('Step 4. Plan de Acción'!M40),'Step 4. Plan de Acción'!M40,\"\")","v":""},{"$f":"IF(ISTEXT('Step 4. Plan de Acción'!#REF!),'Step 4. Plan de Acción'!#REF!,\"\")","v":""},{"$f":"IF(ISNUMBER('Step 4. Plan de Acción'!I40),'Step 4. Plan de Acción'!I40,\"\")","v":""},{"$f":"IF(ISNUMBER('Step 4. Plan de Acción'!L40),'Step 4. Plan de Acción'!L40,\"\")","v":""}]
["","",{"$f":"IF(ISTEXT('Step 4. Plan de Acción'!#REF!),'Step 4. Plan de Acción'!#REF!,\"\")","v":""},{"$f":"IF(ISTEXT('Step 4. Plan de Acción'!B41),'Step 4. Plan de Acción'!B41,\"\")","v":""},{"$f":"IF(ISTEXT('Step 4. Plan de Acción'!C41),'Step 4. Plan de Acción'!C41,\"\")","v":""},{"$f":"IF(ISTEXT('Step 4. Plan de Acción'!G41),'Step 4. Plan de Acción'!G41,\"\")","v":""},{"$f":"IF(ISTEXT('Step 4. Plan de Acción'!H41),'Step 4. Plan de Acción'!H41,\"\")","v":""},{"$f":"IF(ISNUMBER('Step 4. Plan de Acción'!#REF!),'Step 4. Plan de Acción'!#REF!,\"\")","v":""},{"$f":"IF(ISNUMBER('Step 4. Plan de Acción'!M41),'Step 4. Plan de Acción'!M41,\"\")","v":""},{"$f":"IF(ISTEXT('Step 4. Plan de Acción'!#REF!),'Step 4. Plan de Acción'!#REF!,\"\")","v":""},{"$f":"IF(ISNUMBER('Step 4. Plan de Acción'!I41),'Step 4. Plan de Acción'!I41,\"\")","v":""},{"$f":"IF(ISNUMBER('Step 4. Plan de Acción'!L41),'Step 4. Plan de Acción'!L41,\"\")","v":""}]
["","",{"$f":"IF(ISTEXT('Step 4. Plan de Acción'!#REF!),'Step 4. Plan de Acción'!#REF!,\"\")","v":""},{"$f":"IF(ISTEXT('Step 4. Plan de Acción'!B42),'Step 4. Plan de Acción'!B42,\"\")","v":""},{"$f":"IF(ISTEXT('Step 4. Plan de Acción'!C42),'Step 4. Plan de Acción'!C42,\"\")","v":""},{"$f":"IF(ISTEXT('Step 4. Plan de Acción'!G42),'Step 4. Plan de Acción'!G42,\"\")","v":""},{"$f":"IF(ISTEXT('Step 4. Plan de Acción'!H42),'Step 4. Plan de Acción'!H42,\"\")","v":""},{"$f":"IF(ISNUMBER('Step 4. Plan de Acción'!#REF!),'Step 4. Plan de Acción'!#REF!,\"\")","v":""},{"$f":"IF(ISNUMBER('Step 4. Plan de Acción'!M42),'Step 4. Plan de Acción'!M42,\"\")","v":""},{"$f":"IF(ISTEXT('Step 4. Plan de Acción'!#REF!),'Step 4. Plan de Acción'!#REF!,\"\")","v":""},{"$f":"IF(ISNUMBER('Step 4. Plan de Acción'!I42),'Step 4. Plan de Acción'!I42,\"\")","v":""},{"$f":"IF(ISNUMBER('Step 4. Plan de Acción'!L42),'Step 4. Plan de Acción'!L42,\"\")","v":""}]
["","",{"$f":"IF(ISTEXT('Step 4. Plan de Acción'!#REF!),'Step 4. Plan de Acción'!#REF!,\"\")","v":""},{"$f":"IF(ISTEXT('Step 4. Plan de Acción'!B43),'Step 4. Plan de Acción'!B43,\"\")","v":""},{"$f":"IF(ISTEXT('Step 4. Plan de Acción'!C43),'Step 4. Plan de Acción'!C43,\"\")","v":""},{"$f":"IF(ISTEXT('Step 4. Plan de Acción'!G43),'Step 4. Plan de Acción'!G43,\"\")","v":""},{"$f":"IF(ISTEXT('Step 4. Plan de Acción'!H43),'Step 4. Plan de Acción'!H43,\"\")","v":""},{"$f":"IF(ISNUMBER('Step 4. Plan de Acción'!#REF!),'Step 4. Plan de Acción'!#REF!,\"\")","v":""},{"$f":"IF(ISNUMBER('Step 4. Plan de Acción'!M43),'Step 4. Plan de Acción'!M43,\"\")","v":""},{"$f":"IF(ISTEXT('Step 4. Plan de Acción'!#REF!),'Step 4. Plan de Acción'!#REF!,\"\")","v":""},{"$f":"IF(ISNUMBER('Step 4. Plan de Acción'!I43),'Step 4. Plan de Acción'!I43,\"\")","v":""},{"$f":"IF(ISNUMBER('Step 4. Plan de Acción'!L43),'Step 4. Plan de Acción'!L43,\"\")","v":""}]
["","",{"$f":"IF(ISTEXT('Step 4. Plan de Acción'!#REF!),'Step 4. Plan de Acción'!#REF!,\"\")","v":""},{"$f":"IF(ISTEXT('Step 4. Plan de Acción'!#REF!),'Step 4. Plan de Acción'!#REF!,\"\")","v":""},{"$f":"IF(ISTEXT('Step 4. Plan de Acción'!#REF!),'Step 4. Plan de Acción'!#REF!,\"\")","v":""},{"$f":"IF(ISTEXT('Step 4. Plan de Acción'!#REF!),'Step 4. Plan de Acción'!#REF!,\"\")","v":""},{"$f":"IF(ISTEXT('Step 4. Plan de Acción'!#REF!),'Step 4. Plan de Acción'!#REF!,\"\")","v":""},{"$f":"IF(ISNUMBER('Step 4. Plan de Acción'!#REF!),'Step 4. Plan de Acción'!#REF!,\"\")","v":""},{"$f":"IF(ISNUMBER('Step 4. Plan de Acción'!#REF!),'Step 4. Plan de Acción'!#REF!,\"\")","v":""},{"$f":"IF(ISTEXT('Step 4. Plan de Acción'!#REF!),'Step 4. Plan de Acción'!#REF!,\"\")","v":""},{"$f":"IF(ISNUMBER('Step 4. Plan de Acción'!#REF!),'Step 4. Plan de Acción'!#REF!,\"\")","v":""},{"$f":"IF(ISNUMBER('Step 4. Plan de Acción'!#REF!),'Step 4. Plan de Acción'!#REF!,\"\")","v":""}]
["","",{"$f":"IF(ISTEXT('Step 4. Plan de Acción'!#REF!),'Step 4. Plan de Acción'!#REF!,\"\")","v":""},{"$f":"IF(ISTEXT('Step 4. Plan de Acción'!#REF!),'Step 4. Plan de Acción'!#REF!,\"\")","v":""},{"$f":"IF(ISTEXT('Step 4. Plan de Acción'!#REF!),'Step 4. Plan de Acción'!#REF!,\"\")","v":""},{"$f":"IF(ISTEXT('Step 4. Plan de Acción'!#REF!),'Step 4. Plan de Acción'!#REF!,\"\")","v":""},{"$f":"IF(ISTEXT('Step 4. Plan de Acción'!#REF!),'Step 4. Plan de Acción'!#REF!,\"\")","v":""},{"$f":"IF(ISNUMBER('Step 4. Plan de Acción'!#REF!),'Step 4. Plan de Acción'!#REF!,\"\")","v":""},{"$f":"IF(ISNUMBER('Step 4. Plan de Acción'!#REF!),'Step 4. Plan de Acción'!#REF!,\"\")","v":""},{"$f":"IF(ISTEXT('Step 4. Plan de Acción'!#REF!),'Step 4. Plan de Acción'!#REF!,\"\")","v":""},{"$f":"IF(ISNUMBER('Step 4. Plan de Acción'!#REF!),'Step 4. Plan de Acción'!#REF!,\"\")","v":""},{"$f":"IF(ISNUMBER('Step 4. Plan de Acción'!#REF!),'Step 4. Plan de Acción'!#REF!,\"\")","v":""}]
["","",{"$f":"IF(ISTEXT('Step 4. Plan de Acción'!#REF!),'Step 4. Plan de Acción'!#REF!,\"\")","v":""},{"$f":"IF(ISTEXT('Step 4. Plan de Acción'!#REF!),'Step 4. Plan de Acción'!#REF!,\"\")","v":""},{"$f":"IF(ISTEXT('Step 4. Plan de Acción'!#REF!),'Step 4. Plan de Acción'!#REF!,\"\")","v":""},{"$f":"IF(ISTEXT('Step 4. Plan de Acción'!#REF!),'Step 4. Plan de Acción'!#REF!,\"\")","v":""},{"$f":"IF(ISTEXT('Step 4. Plan de Acción'!#REF!),'Step 4. Plan de Acción'!#REF!,\"\")","v":""},{"$f":"IF(ISNUMBER('Step 4. Plan de Acción'!#REF!),'Step 4. Plan de Acción'!#REF!,\"\")","v":""},{"$f":"IF(ISNUMBER('Step 4. Plan de Acción'!#REF!),'Step 4. Plan de Acción'!#REF!,\"\")","v":""},{"$f":"IF(ISTEXT('Step 4. Plan de Acción'!#REF!),'Step 4. Plan de Acción'!#REF!,\"\")","v":""},{"$f":"IF(ISNUMBER('Step 4. Plan de Acción'!#REF!),'Step 4. Plan de Acción'!#REF!,\"\")","v":""},{"$f":"IF(ISNUMBER('Step 4. Plan de Acción'!#REF!),'Step 4. Plan de Acción'!#REF!,\"\")","v":""}]
["","",{"$f":"IF(ISTEXT('Step 4. Plan de Acción'!#REF!),'Step 4. Plan de Acción'!#REF!,\"\")","v":""},{"$f":"IF(ISTEXT('Step 4. Plan de Acción'!#REF!),'Step 4. Plan de Acción'!#REF!,\"\")","v":""},{"$f":"IF(ISTEXT('Step 4. Plan de Acción'!#REF!),'Step 4. Plan de Acción'!#REF!,\"\")","v":""},{"$f":"IF(ISTEXT('Step 4. Plan de Acción'!#REF!),'Step 4. Plan de Acción'!#REF!,\"\")","v":""},{"$f":"IF(ISTEXT('Step 4. Plan de Acción'!#REF!),'Step 4. Plan de Acción'!#REF!,\"\")","v":""},{"$f":"IF(ISNUMBER('Step 4. Plan de Acción'!#REF!),'Step 4. Plan de Acción'!#REF!,\"\")","v":""},{"$f":"IF(ISNUMBER('Step 4. Plan de Acción'!#REF!),'Step 4. Plan de Acción'!#REF!,\"\")","v":""},{"$f":"IF(ISTEXT('Step 4. Plan de Acción'!#REF!),'Step 4. Plan de Acción'!#REF!,\"\")","v":""},{"$f":"IF(ISNUMBER('Step 4. Plan de Acción'!#REF!),'Step 4. Plan de Acción'!#REF!,\"\")","v":""},{"$f":"IF(ISNUMBER('Step 4. Plan de Acción'!#REF!),'Step 4. Plan de Acción'!#REF!,\"\")","v":""}]
["","",{"$f":"IF(ISTEXT('Step 4. Plan de Acción'!#REF!),'Step 4. Plan de Acción'!#REF!,\"\")","v":""},{"$f":"IF(ISTEXT('Step 4. Plan de Acción'!#REF!),'Step 4. Plan de Acción'!#REF!,\"\")","v":""},{"$f":"IF(ISTEXT('Step 4. Plan de Acción'!#REF!),'Step 4. Plan de Acción'!#REF!,\"\")","v":""},{"$f":"IF(ISTEXT('Step 4. Plan de Acción'!#REF!),'Step 4. Plan de Acción'!#REF!,\"\")","v":""},{"$f":"IF(ISTEXT('Step 4. Plan de Acción'!#REF!),'Step 4. Plan de Acción'!#REF!,\"\")","v":""},{"$f":"IF(ISNUMBER('Step 4. Plan de Acción'!#REF!),'Step 4. Plan de Acción'!#REF!,\"\")","v":""},{"$f":"IF(ISNUMBER('Step 4. Plan de Acción'!#REF!),'Step 4. Plan de Acción'!#REF!,\"\")","v":""},{"$f":"IF(ISTEXT('Step 4. Plan de Acción'!#REF!),'Step 4. Plan de Acción'!#REF!,\"\")","v":""},{"$f":"IF(ISNUMBER('Step 4. Plan de Acción'!#REF!),'Step 4. Plan de Acción'!#REF!,\"\")","v":""},{"$f":"IF(ISNUMBER('Step 4. Plan de Acción'!#REF!),'Step 4. Plan de Acción'!#REF!,\"\")","v":""}]
["","",{"$f":"IF(ISTEXT('Step 4. Plan de Acción'!#REF!),'Step 4. Plan de Acción'!#REF!,\"\")","v":""},{"$f":"IF(ISTEXT('Step 4. Plan de Acción'!#REF!),'Step 4. Plan de Acción'!#REF!,\"\")","v":""},{"$f":"IF(ISTEXT('Step 4. Plan de Acción'!#REF!),'Step 4. Plan de Acción'!#REF!,\"\")","v":""},{"$f":"IF(ISTEXT('Step 4. Plan de Acción'!#REF!),'Step 4. Plan de Acción'!#REF!,\"\")","v":""},{"$f":"IF(ISTEXT('Step 4. Plan de Acción'!#REF!),'Step 4. Plan de Acción'!#REF!,\"\")","v":""},{"$f":"IF(ISNUMBER('Step 4. Plan de Acción'!#REF!),'Step 4. Plan de Acción'!#REF!,\"\")","v":""},{"$f":"IF(ISNUMBER('Step 4. Plan de Acción'!#REF!),'Step 4. Plan de Acción'!#REF!,\"\")","v":""},{"$f":"IF(ISTEXT('Step 4. Plan de Acción'!#REF!),'Step 4. Plan de Acción'!#REF!,\"\")","v":""},{"$f":"IF(ISNUMBER('Step 4. Plan de Acción'!#REF!),'Step 4. Plan de Acción'!#REF!,\"\")","v":""},{"$f":"IF(ISNUMBER('Step 4. Plan de Acción'!#REF!),'Step 4. Plan de Acción'!#REF!,\"\")","v":""}]
["","",{"$f":"IF(ISTEXT('Step 4. Plan de Acción'!#REF!),'Step 4. Plan de Acción'!#REF!,\"\")","v":""},{"$f":"IF(ISTEXT('Step 4. Plan de Acción'!#REF!),'Step 4. Plan de Acción'!#REF!,\"\")","v":""},{"$f":"IF(ISTEXT('Step 4. Plan de Acción'!#REF!),'Step 4. Plan de Acción'!#REF!,\"\")","v":""},{"$f":"IF(ISTEXT('Step 4. Plan de Acción'!#REF!),'Step 4. Plan de Acción'!#REF!,\"\")","v":""},{"$f":"IF(ISTEXT('Step 4. Plan de Acción'!#REF!),'Step 4. Plan de Acción'!#REF!,\"\")","v":""},{"$f":"IF(ISNUMBER('Step 4. Plan de Acción'!#REF!),'Step 4. Plan de Acción'!#REF!,\"\")","v":""},{"$f":"IF(ISNUMBER('Step 4. Plan de Acción'!#REF!),'Step 4. Plan de Acción'!#REF!,\"\")","v":""},{"$f":"IF(ISTEXT('Step 4. Plan de Acción'!#REF!),'Step 4. Plan de Acción'!#REF!,\"\")","v":""},{"$f":"IF(ISNUMBER('Step 4. Plan de Acción'!#REF!),'Step 4. Plan de Acción'!#REF!,\"\")","v":""},{"$f":"IF(ISNUMBER('Step 4. Plan de Acción'!#REF!),'Step 4. Plan de Acción'!#REF!,\"\")","v":""}]
["","",{"$f":"IF(ISTEXT('Step 4. Plan de Acción'!#REF!),'Step 4. Plan de Acción'!#REF!,\"\")","v":""},{"$f":"IF(ISTEXT('Step 4. Plan de Acción'!#REF!),'Step 4. Plan de Acción'!#REF!,\"\")","v":""},{"$f":"IF(ISTEXT('Step 4. Plan de Acción'!#REF!),'Step 4. Plan de Acción'!#REF!,\"\")","v":""},{"$f":"IF(ISTEXT('Step 4. Plan de Acción'!#REF!),'Step 4. Plan de Acción'!#REF!,\"\")","v":""},{"$f":"IF(ISTEXT('Step 4. Plan de Acción'!#REF!),'Step 4. Plan de Acción'!#REF!,\"\")","v":""},{"$f":"IF(ISNUMBER('Step 4. Plan de Acción'!#REF!),'Step 4. Plan de Acción'!#REF!,\"\")","v":""},{"$f":"IF(ISNUMBER('Step 4. Plan de Acción'!#REF!),'Step 4. Plan de Acción'!#REF!,\"\")","v":""},{"$f":"IF(ISTEXT('Step 4. Plan de Acción'!#REF!),'Step 4. Plan de Acción'!#REF!,\"\")","v":""},{"$f":"IF(ISNUMBER('Step 4. Plan de Acción'!#REF!),'Step 4. Plan de Acción'!#REF!,\"\")","v":""},{"$f":"IF(ISNUMBER('Step 4. Plan de Acción'!#REF!),'Step 4. Plan de Acción'!#REF!,\"\")","v":""}]
["","",{"$f":"IF(ISTEXT('Step 4. Plan de Acción'!#REF!),'Step 4. Plan de Acción'!#REF!,\"\")","v":""},{"$f":"IF(ISTEXT('Step 4. Plan de Acción'!#REF!),'Step 4. Plan de Acción'!#REF!,\"\")","v":""},{"$f":"IF(ISTEXT('Step 4. Plan de Acción'!#REF!),'Step 4. Plan de Acción'!#REF!,\"\")","v":""},{"$f":"IF(ISTEXT('Step 4. Plan de Acción'!#REF!),'Step 4. Plan de Acción'!#REF!,\"\")","v":""},{"$f":"IF(ISTEXT('Step 4. Plan de Acción'!#REF!),'Step 4. Plan de Acción'!#REF!,\"\")","v":""},{"$f":"IF(ISNUMBER('Step 4. Plan de Acción'!#REF!),'Step 4. Plan de Acción'!#REF!,\"\")","v":""},{"$f":"IF(ISNUMBER('Step 4. Plan de Acción'!#REF!),'Step 4. Plan de Acción'!#REF!,\"\")","v":""},{"$f":"IF(ISTEXT('Step 4. Plan de Acción'!#REF!),'Step 4. Plan de Acción'!#REF!,\"\")","v":""},{"$f":"IF(ISNUMBER('Step 4. Plan de Acción'!#REF!),'Step 4. Plan de Acción'!#REF!,\"\")","v":""},{"$f":"IF(ISNUMBER('Step 4. Plan de Acción'!#REF!),'Step 4. Plan de Acción'!#REF!,\"\")","v":""}]
["","",{"$f":"IF(ISTEXT('Step 4. Plan de Acción'!#REF!),'Step 4. Plan de Acción'!#REF!,\"\")","v":""},{"$f":"IF(ISTEXT('Step 4. Plan de Acción'!#REF!),'Step 4. Plan de Acción'!#REF!,\"\")","v":""},{"$f":"IF(ISTEXT('Step 4. Plan de Acción'!#REF!),'Step 4. Plan de Acción'!#REF!,\"\")","v":""},{"$f":"IF(ISTEXT('Step 4. Plan de Acción'!#REF!),'Step 4. Plan de Acción'!#REF!,\"\")","v":""},{"$f":"IF(ISTEXT('Step 4. Plan de Acción'!#REF!),'Step 4. Plan de Acción'!#REF!,\"\")","v":""},{"$f":"IF(ISNUMBER('Step 4. Plan de Acción'!#REF!),'Step 4. Plan de Acción'!#REF!,\"\")","v":""},{"$f":"IF(ISNUMBER('Step 4. Plan de Acción'!#REF!),'Step 4. Plan de Acción'!#REF!,\"\")","v":""},{"$f":"IF(ISTEXT('Step 4. Plan de Acción'!#REF!),'Step 4. Plan de Acción'!#REF!,\"\")","v":""},{"$f":"IF(ISNUMBER('Step 4. Plan de Acción'!#REF!),'Step 4. Plan de Acción'!#REF!,\"\")","v":""},{"$f":"IF(ISNUMBER('Step 4. Plan de Acción'!#REF!),'Step 4. Plan de Acción'!#REF!,\"\")","v":""}]
["","",{"$f":"IF(ISTEXT('Step 4. Plan de Acción'!#REF!),'Step 4. Plan de Acción'!#REF!,\"\")","v":""},{"$f":"IF(ISTEXT('Step 4. Plan de Acción'!#REF!),'Step 4. Plan de Acción'!#REF!,\"\")","v":""},{"$f":"IF(ISTEXT('Step 4. Plan de Acción'!#REF!),'Step 4. Plan de Acción'!#REF!,\"\")","v":""},{"$f":"IF(ISTEXT('Step 4. Plan de Acción'!#REF!),'Step 4. Plan de Acción'!#REF!,\"\")","v":""},{"$f":"IF(ISTEXT('Step 4. Plan de Acción'!#REF!),'Step 4. Plan de Acción'!#REF!,\"\")","v":""},{"$f":"IF(ISNUMBER('Step 4. Plan de Acción'!#REF!),'Step 4. Plan de Acción'!#REF!,\"\")","v":""},{"$f":"IF(ISNUMBER('Step 4. Plan de Acción'!#REF!),'Step 4. Plan de Acción'!#REF!,\"\")","v":""},{"$f":"IF(ISTEXT('Step 4. Plan de Acción'!#REF!),'Step 4. Plan de Acción'!#REF!,\"\")","v":""},{"$f":"IF(ISNUMBER('Step 4. Plan de Acción'!#REF!),'Step 4. Plan de Acción'!#REF!,\"\")","v":""},{"$f":"IF(ISNUMBER('Step 4. Plan de Acción'!#REF!),'Step 4. Plan de Acción'!#REF!,\"\")","v":""}]
["","",{"$f":"IF(ISTEXT('Step 4. Plan de Acción'!#REF!),'Step 4. Plan de Acción'!#REF!,\"\")","v":""},{"$f":"IF(ISTEXT('Step 4. Plan de Acción'!#REF!),'Step 4. Plan de Acción'!#REF!,\"\")","v":""},{"$f":"IF(ISTEXT('Step 4. Plan de Acción'!#REF!),'Step 4. Plan de Acción'!#REF!,\"\")","v":""},{"$f":"IF(ISTEXT('Step 4. Plan de Acción'!#REF!),'Step 4. Plan de Acción'!#REF!,\"\")","v":""},{"$f":"IF(ISTEXT('Step 4. Plan de Acción'!#REF!),'Step 4. Plan de Acción'!#REF!,\"\")","v":""},{"$f":"IF(ISNUMBER('Step 4. Plan de Acción'!#REF!),'Step 4. Plan de Acción'!#REF!,\"\")","v":""},{"$f":"IF(ISNUMBER('Step 4. Plan de Acción'!#REF!),'Step 4. Plan de Acción'!#REF!,\"\")","v":""},{"$f":"IF(ISTEXT('Step 4. Plan de Acción'!#REF!),'Step 4. Plan de Acción'!#REF!,\"\")","v":""},{"$f":"IF(ISNUMBER('Step 4. Plan de Acción'!#REF!),'Step 4. Plan de Acción'!#REF!,\"\")","v":""},{"$f":"IF(ISNUMBER('Step 4. Plan de Acción'!#REF!),'Step 4. Plan de Acción'!#REF!,\"\")","v":""}]

{"sheet":"INSTRUCCIONES","index":2,"n_rows":0,"n_cols":0,"rows_kept":0,"cut":false,"hidden":false,"merged":[]}

{"sheet":"Step 1. LA INSTITUCIÓN","index":3,"n_rows":27,"n_cols":2,"rows_kept":27,"cut":false,"hidden":false,"merged":[[1,1,4,3],[15,1,15,2],[16,1,16,2],[12,1,12,3],[6,1,6,3],[8,1,8,3],[9,1,9,3],[10,1,10,3],[11,1,11,3],[7,1,7,3],[13,1,13,3],[18,1,18,2],[14,1,14,2],[17,1,17,2],[25,1,25,2],[26,1,26,2],[19,1,19,3],[21,1,21,3],[22,1,22,3],[20,1,20,3],[23,1,23,2],[24,1,24,2]]}
[]
[]
[]
[]
[]
[]
[null,"DATOS SOBRE LA INSTITUCIÓN"]
[null,"POR FAVOR RECUERDE LEER LAS INSTRUCCIONES ANTES DE COMENZAR!!!"]
[null,"Nombre de la institución:"]
[]
[null,"Dirección:"]
[]
[]
[]
[null,"Información sobre la ubicación:"]
[null,"Districto:"]
[null,"Provincia:"]
[null,"Región:"]
[null,"País:"]
[null,"Persona de contacto:"]
[]
[]
[]
[null,"Número de empleados remunerados:"]
[null,"Número de miembros de la Junta Directiva:"]
[null,"Número de voluntarios:"]
[null,"Número de miembros de la Asamblea General:"]

{"sheet":"Step 2. IHECO","index":4,"n_rows":331,"n_cols":16,"rows_kept":331,"cut":false,"hidden":false,"merged":[[302,0,330,0],[302,1,309,1],[309,10,309,15],[310,1,316,1],[311,10,316,15],[317,1,322,1],[318,10,322,15],[323,1,326,1],[324,10,326,15],[327,1,330,1],[328,10,330,15],[253,10,257,15],[259,10,262,15],[264,10,265,15],[267,10,273,15],[275,10,280,15],[282,10,287,15],[289,10,290,15],[292,10,301,15],[192,10,197,15],[199,10,200,15],[202,10,202,15],[204,10,208,15],[210,10,211,15],[213,10,221,15],[223,10,226,15],[228,10,235,15],[237,10,241,15],[243,10,245,15],[247,10,251,15],[246,1,251,1],[21,10,21,15],[23,10,25,15],[27,10,32,15],[34,10,38,15],[40,10,51,15],[53,10,58,15],[60,10,60,15],[62,10,66,15],[68,10,70,15],[72,10,73,15],[75,10,75,15],[77,10,86,15],[88,10,92,15],[94,10,98,15],[100,10,100,15],[102,10,102,15],[104,10,112,15],[114,10,118,15],[145,10,149,15],[151,10,152,15],[154,10,157,15],[159,10,161,15],[163,10,168,15],[252,0,301,0],[169,1,175,1],[176,1,183,1],[153,1,157,1],[162,1,168,1],[158,1,161,1],[144,1,149,1],[150,1,152,1],[184,1,186,1],[187,1,190,1],[252,1,257,1],[258,1,262,1],[263,1,265,1],[266,1,273,1],[274,1,280,1],[201,0,251,0],[201,1,202,1],[203,1,208,1],[209,1,211,1],[212,1,221,1],[222,1,226,1],[227,1,235,1],[236,1,241,1],[242,1,245,1],[103,0,143,0],[103,1,112,1],[113,1,118,1],[119,1,135,1],[136,1,143,1],[120,10,135,15],[137,10,143,15],[144,0,161,0],[162,0,200,0],[170,10,175,15],[177,10,183,15],[185,10,186,15],[188,10,190,15],[39,1,51,1],[87,0,102,0],[87,1,92,1],[93,1,98,1],[61,0,86,0],[61,1,66,1],[59,1,60,1],[52,1,58,1],[99,1,100,1],[101,1,102,1],[0,0,0,5],[1,0,1,5],[2,0,2,5],[5,10,7,15],[9,10,16,15],[18,10,19,15],[281,1,287,1],[288,1,290,1],[291,1,301,1],[191,1,197,1],[198,1,200,1],[4,0,32,0],[4,1,7,1],[8,1,16,1],[17,1,19,1],[20,1,21,1],[22,1,25,1],[26,1,32,1],[67,1,70,1],[71,1,73,1],[74,1,75,1],[76,1,86,1],[33,0,60,0],[33,1,38,1]]}
[]
["IHECO"]
["POR FAVOR RECUERDE LEER LAS INSTRUCCIONES ANTES DE COMENZAR!!!"]
["Área general de capacidad","Componente","Área de capacidad","Nivel de Logro","Nivel de Prioridad","Notas","Achievment Value","Maximum Value","Applicable Value","Actual Score","Total Applicable","Total Actual","HOCAI Percentage","Area Total Applicable","Area Total Actual","Area HOCAI Percentage"]
["1. Identidad Y Gobernanza","1.1. Gobernanza","1.1.1. Una junta directiva constituida legalmente supervisa la estrategia y la visión general de la organización.",null,null,null,{"$f":"IF(D5=0,\"\",VLOOKUP(D5,'Data Validation'!$C$2:$D$7,2,FALSE))","v":""},4,{"$f":"IF(OR(D5=\"N/A (Not applicable)\",D5=\"\"),\"0\",IF(E5=\"\",\"0\",H5))","v":"0"},{"$f":"IF(D5=\"\",\"\",IF(G5=0,\"0\",G5*I5))","v":""},{"$f":"SUM(I5:I8)","v":0},{"$f":"SUM(J5:J8)","v":0},{"$f":"IF(K5=0,\"\",ROUND(L5/K5,2))","v":""},{"$f":"SUM(I5:I33)","v":0},{"$f":"SUM(J5:J33)","v":0},{"$f":"IF(N5=0,\"\",ROUND(O5/N5,2))","v":""}]
[null,null,"1.1.2. Los roles de la junta directiva y de los comités de dicha junta están definidos en los estatutos.",null,null,null,{"$f":"IF(D6=0,\"\",VLOOKUP(D6,'Data Validation'!$C$2:$D$7,2,FALSE))","v":""},4,"0",""]
[null,null,"1.1.3. Se celebran reuniones de la junta directiva con regularidad; las decisiones se documentan y reflejan responsabilidad y administración de los recursos.",null,null,null,{"$f":"IF(D7=0,\"\",VLOOKUP(D7,'Data Validation'!$C$2:$D$7,2,FALSE))","v":""},4,"0",""]
[null,null,"1.1.4. La composición de la junta directiva incluye a miembros que son reconocidos por su liderazgo o por sus áreas de especialidad y representan a las partes interesadas, incluidos los participantes del programa.",null,null,null,{"$f":"IF(D8=0,\"\",VLOOKUP(D8,'Data Validation'!$C$2:$D$7,2,FALSE))","v":""},4,"0",""]
[null,"1.2. Misión, visión y valores","1.2.1. Las declaraciones de misión, visión y valores son claras, específicas, se desarrollaron de un modo participativo y son una descripción convincente de las aspiraciones.",null,null,null,{"$f":"IF(D9=0,\"\",VLOOKUP(D9,'Data Validation'!$C$2:$D$7,2,FALSE))","v":""},4,"0","",{"$f":"SUM(I9:I17)","v":0},{"$f":"SUM(J9:J17)","v":0},{"$f":"IF(K9=0,\"\",ROUND(L9/K9,2))","v":""}]
[null,null,"1.2.2. Las declaraciones de misión, visión y valores reflejan las necesidades de la comunidad a la que sirve la organización.",null,null,null,{"$f":"IF(D10=0,\"\",VLOOKUP(D10,'Data Validation'!$C$2:$D$7,2,FALSE))","v":""},4,"0",""]
[null,null,"1.2.3. Las declaraciones de misión, visión y valores cuentan con la aprobación de la junta directiva.",null,null,null,{"$f":"IF(D11=0,\"\",VLOOKUP(D11,'Data Validation'!$C$2:$D$7,2,FALSE))","v":""},4,"0",""]
[null,null,"1.2.4. Las declaraciones de misión, visión y valores están claramente expresadas para las partes interesadas, los miembros de la comunidad y el personal, y estos las conocen y las entienden.",null,null,null,{"$f":"IF(D12=0,\"\",VLOOKUP(D12,'Data Validation'!$C$2:$D$7,2,FALSE))","v":""},4,"0",""]
[null,null,"1.2.5. Las declaraciones de misión, visión y valores están incorporadas en los sistemas y las políticas existentes.",null,null,null,{"$f":"IF(D13=0,\"\",VLOOKUP(D13,'Data Validation'!$C$2:$D$7,2,FALSE))","v":""},4,"0",""]
[null,null,"1.2.6. Las declaraciones de misión, visión y valores se usan para guiar la toma de decisiones y las actividades diarias.",null,null,null,{"$f":"IF(D14=0,\"\",VLOOKUP(D14,'Data Validation'!$C$2:$D$7,2,FALSE))","v":""},4,"0",""]
[null,null,"1.2.7. La organización cumple con su misión y visión sin depender de los donadores.",null,null,null,{"$f":"IF(D15=0,\"\",VLOOKUP(D15,'Data Validation'!$C$2:$D$7,2,FALSE))","v":""},4,"0",""]
[null,null,"1.2.8. Las declaraciones de misión y visión reflejan los valores de la organización.",null,null,null,{"$f":"IF(D16=0,\"\",VLOOKUP(D16,'Data Validation'!$C$2:$D$7,2,FALSE))","v":""},4,"0",""]
[null,null,"1.2.9. Los integrantes del personal pueden explicar eficazmente la misión, la visión y los principios de la organización a los socios y a las partes interesadas externas.",null,null,null,{"$f":"IF(D17=0,\"\",VLOOKUP(D17,'Data Validation'!$C$2:$D$7,2,FALSE))","v":""},4,"0",""]
[null,"1.3. Participación de las partes interesadas","1.3.1. Las partes interesadas están identificadas a través de un mapeo de partes interesadas.",null,null,null,{"$f":"IF(D18=0,\"\",VLOOKUP(D18,'Data Validation'!$C$2:$D$7,2,FALSE))","v":""},4,"0","",{"$f":"SUM(I18:I20)","v":0},{"$f":"SUM(J18:J20)","v":0},{"$f":"IF(K18=0,\"\",ROUND(L18/K18,2))","v":""}]
[null,null,"1.3.2. La organización conoce y puede describir adecuadamente las características de las partes interesadas principales.",null,null,null,{"$f":"IF(D19=0,\"\",VLOOKUP(D19,'Data Validation'!$C$2:$D$7,2,FALSE))","v":""},4,"0",""]
[null,null,"1.3.3. La participación de las partes interesadas se produce a través de una variedad de oportunidades, tales como membresía en la junta directiva, recaudación de fondos, campañas de defensoría, fijación de prioridades, etc.",null,null,null,{"$f":"IF(D20=0,\"\",VLOOKUP(D20,'Data Validation'!$C$2:$D$7,2,FALSE))","v":""},4,"0",""]
[null,"1.4. Constitución de la organización","1.4.1. La organización está registrada y tiene un estatuto.",null,null,null,{"$f":"IF(D21=0,\"\",VLOOKUP(D21,'Data Validation'!$C$2:$D$7,2,FALSE))","v":""},4,"0","",{"$f":"SUM(I21:I22)","v":0},{"$f":"SUM(J21:J22)","v":0},{"$f":"IF(K21=0,\"\",ROUND(L21/K21,2))","v":""}]
[null,null,"1.4.2. La organización cumple con todos los requisitos establecidos por la ley.",null,null,null,{"$f":"IF(D22=0,\"\",VLOOKUP(D22,'Data Validation'!$C$2:$D$7,2,FALSE))","v":""},4,"0",""]
[null,"1.5. Cultura de la organización","1.5.1. La cultura de la organización refleja la misión y la visión de la organización.",null,null,null,{"$f":"IF(D23=0,\"\",VLOOKUP(D23,'Data Validation'!$C$2:$D$7,2,FALSE))","v":""},4,"0","",{"$f":"SUM(I23:I26)","v":0},{"$f":"SUM(J23:J26)","v":0},{"$f":"IF(K23=0,\"\",ROUND(L23/K23,2))","v":""}]
[null,null,"1.5.2. La ética en el trabajo fomenta el intercambio, la colaboración y la reciprocidad.",null,null,null,{"$f":"IF(D24=0,\"\",VLOOKUP(D24,'Data Validation'!$C$2:$D$7,2,FALSE))","v":""},4,"0",""]
[null,null,"1.5.3. La organización respeta la diversidad cultural, el idioma y las creencias religiosas.",null,null,null,{"$f":"IF(D25=0,\"\",VLOOKUP(D25,'Data Validation'!$C$2:$D$7,2,FALSE))","v":""},4,"0",""]
[null,null,"1.5.4. La organización promueve un entorno de trabajo en el que no se discrimina.",null,null,null,{"$f":"IF(D26=0,\"\",VLOOKUP(D26,'Data Validation'!$C$2:$D$7,2,FALSE))","v":""},4,"0",""]
[null,"1.6. Estructura organizativa","1.6.1. La estructura organizativa respalda la misión, la visión y los valores de la organización.",null,null,null,{"$f":"IF(D27=0,\"\",VLOOKUP(D27,'Data Validation'!$C$2:$D$7,2,FALSE))","v":""},4,"0","",{"$f":"SUM(I27:I33)","v":0},{"$f":"SUM(J27:J33)","v":0},{"$f":"IF(K27=0,\"\",ROUND(L27/K27,2))","v":""}]
[null,null,"1.6.2. Los estatutos y la estructura de la organización separan claramente los roles y las responsabilidades de la gerencia y la junta directiva.",null,null,null,{"$f":"IF(D28=0,\"\",VLOOKUP(D28,'Data Validation'!$C$2:$D$7,2,FALSE))","v":""},4,"0",""]
[null,null,"1.6.3. La organización tiene un organigrama actualizado, que se comparte con el personal.",null,null,null,{"$f":"IF(D29=0,\"\",VLOOKUP(D29,'Data Validation'!$C$2:$D$7,2,FALSE))","v":""},4,"0",""]
[null,null,"1.6.4. El organigrama muestra claramente los niveles de subordinación y los canales de comunicación. El organigrama refleja los niveles de toma de decisiones y las líneas de subordinación dentro de la organización.",null,null,null,{"$f":"IF(D30=0,\"\",VLOOKUP(D30,'Data Validation'!$C$2:$D$7,2,FALSE))","v":""},4,"0",""]
[null,null,"1.6.5. La estructura administrativa tiene un mecanismo consultivo.",null,null,null,{"$f":"IF(D31=0,\"\",VLOOKUP(D31,'Data Validation'!$C$2:$D$7,2,FALSE))","v":""},4,"0",""]
[null,null,"1.6.6. Todos los puestos del organigrama están cubiertos, o existe un plan en vigor para cubrirlos en el futuro cercano.",null,null,null,{"$f":"IF(D32=0,\"\",VLOOKUP(D32,'Data Validation'!$C$2:$D$7,2,FALSE))","v":""},4,"0",""]
[null,null,"1.6.7. Los puestos de la estructura de la organización reflejan o representan los requisitos de dotación de personal de la organización.",null,null,null,{"$f":"IF(D33=0,\"\",VLOOKUP(D33,'Data Validation'!$C$2:$D$7,2,FALSE))","v":""},4,"0",""]
["2. Estrategia Y Planificación","2.1. Proceso de planificación general","2.1.1. El proceso de planificación refleja los valores centrales de la organización.",null,null,null,{"$f":"IF(D34=0,\"\",VLOOKUP(D34,'Data Validation'!$C$2:$D$7,2,FALSE))","v":""},4,"0","",{"$f":"SUM(I34:I39)","v":0},{"$f":"SUM(J34:J39)","v":0},{"$f":"IF(K34=0,\"\",ROUND(L34/K34,2))","v":""},{"$f":"SUM(I34:I61)","v":0},{"$f":"SUM(J34:J61)","v":0},{"$f":"IF(N34=0,\"\",ROUND(O34/N34,2))","v":""}]
[null,null,"2.1.2. El proceso de planificación está documentado y se le hace un seguimiento.",null,null,null,{"$f":"IF(D35=0,\"\",VLOOKUP(D35,'Data Validation'!$C$2:$D$7,2,FALSE))","v":""},4,"0",""]
[null,null,"2.1.3. Los datos relevantes de fuentes internas y externas se usan sistemáticamente para respaldar y mejorar la planificación.",null,null,null,{"$f":"IF(D36=0,\"\",VLOOKUP(D36,'Data Validation'!$C$2:$D$7,2,FALSE))","v":""},4,"0",""]
[null,null,"2.1.4. El proceso de planificación incluye la consulta a las comunidades identificadas como blanco y el análisis objetivo de sus necesidades.",null,null,null,{"$f":"IF(D37=0,\"\",VLOOKUP(D37,'Data Validation'!$C$2:$D$7,2,FALSE))","v":""},4,{"$f":"IF(OR(D37=\"N/A (Not applicable)\",D37=\"\"),\"0\",IF(E37=\"\",\"0\",H37))","v":"0"},{"$f":"IF(D37=\"\",\"\",IF(G37=0,\"0\",G37*I37))","v":""}]
[null,null,"2.1.5. El proceso de planificación incluye la toma de decisiones participativas para fijar prioridades y asignar recursos.",null,null,null,{"$f":"IF(D38=0,\"\",VLOOKUP(D38,'Data Validation'!$C$2:$D$7,2,FALSE))","v":""},4,"0",""]
[null,null,"2.1.6. La responsabilidad de la planificación está incluida en las descripciones de los puestos de trabajo del personal y en el sistema de desempeño y evaluación del personal.",null,null,null,{"$f":"IF(D39=0,\"\",VLOOKUP(D39,'Data Validation'!$C$2:$D$7,2,FALSE))","v":""},4,"0",""]
[null,"2.2. Planificación estratégica","2.2.1. La estrategia refleja la misión, la visión y los valores de la organización.",null,null,null,{"$f":"IF(D40=0,\"\",VLOOKUP(D40,'Data Validation'!$C$2:$D$7,2,FALSE))","v":""},4,"0","",{"$f":"SUM(I40:I52)","v":0},{"$f":"SUM(J40:J52)","v":0},{"$f":"IF(K40=0,\"\",ROUND(L40/K40,2))","v":""}]
[null,null,"2.2.2. La estrategia promueve el desarrollo humano.",null,null,null,{"$f":"IF(D41=0,\"\",VLOOKUP(D41,'Data Validation'!$C$2:$D$7,2,FALSE))","v":""},4,"0",""]
[null,null,"2.2.3. El ejercicio de la planificación estratégica se lleva a cabo periódicamente.",null,null,null,{"$f":"IF(D42=0,\"\",VLOOKUP(D42,'Data Validation'!$C$2:$D$7,2,FALSE))","v":""},4,"0",""]
[null,null,"2.2.4. La gerencia superior lidera el desarrollo del plan estratégico de la organización.",null,null,null,{"$f":"IF(D43=0,\"\",VLOOKUP(D43,'Data Validation'!$C$2:$D$7,2,FALSE))","v":""},4,"0",""]
[null,null,"2.2.5. La organización cuenta con pericia interna, o la capacidad de usar pericia externa eficientemente, para guiar la planificación estratégica.",null,null,null,{"$f":"IF(D44=0,\"\",VLOOKUP(D44,'Data Validation'!$C$2:$D$7,2,FALSE))","v":""},4,"0",""]
[null,null,"2.2.6. El plan estratégico está desarrollado de un modo participativo que involucra al personal, las partes interesadas y las comunidades que reciben el impacto de la estrategia.",null,null,null,{"$f":"IF(D45=0,\"\",VLOOKUP(D45,'Data Validation'!$C$2:$D$7,2,FALSE))","v":""},4,"0",""]
[null,null,"2.2.7. El análisis del entorno interno y externo, incluidas las tendencias principales, es parte del proceso de planificación estratégica de la organización.",null,null,null,{"$f":"IF(D46=0,\"\",VLOOKUP(D46,'Data Validation'!$C$2:$D$7,2,FALSE))","v":""},4,"0",""]
[null,null,"2.2.8. El plan estratégico es claro, realista y alcanzable.",null,null,null,{"$f":"IF(D47=0,\"\",VLOOKUP(D47,'Data Validation'!$C$2:$D$7,2,FALSE))","v":""},4,"0",""]
[null,null,"2.2.9. Los marcos de tiempo para lograr las metas y los objetivos estratégicos están establecidos claramente.",null,null,null,{"$f":"IF(D48=0,\"\",VLOOKUP(D48,'Data Validation'!$C$2:$D$7,2,FALSE))","v":""},4,"0",""]
[null,null,"2.2.10. La gerencia usa la estrategia para tomar decisiones.",null,null,null,{"$f":"IF(D49=0,\"\",VLOOKUP(D49,'Data Validation'!$C$2:$D$7,2,FALSE))","v":""},4,"0",""]
[null,null,"2.2.11. La estrategia ayuda constantemente a impulsar el comportamiento deseado en todos los niveles de la organización.",null,null,null,{"$f":"IF(D50=0,\"\",VLOOKUP(D50,'Data Validation'!$C$2:$D$7,2,FALSE))","v":""},4,"0",""]
[null,null,"2.2.12. Las iniciativas se desarrollan e implementan de maneras que son coherentes con el plan estratégico de la organización.",null,null,null,{"$f":"IF(D51=0,\"\",VLOOKUP(D51,'Data Validation'!$C$2:$D$7,2,FALSE))","v":""},4,"0",""]
[null,null,"2.2.13. La estrategia se revisa y actualiza periódicamente de un modo participativo y representativo por parte del personal, las partes interesadas y las comunidades.",null,null,null,{"$f":"IF(D52=0,\"\",VLOOKUP(D52,'Data Validation'!$C$2:$D$7,2,FALSE))","v":""},4,"0",""]
[null,"2.3. Planes operativos","2.3.1. Los planes operativos se desarrollan para lograr los objetivos del plan estratégico y satisfacer las necesidades de aquellos a quienes sirve la organización.",null,null,null,{"$f":"IF(D53=0,\"\",VLOOKUP(D53,'Data Validation'!$C$2:$D$7,2,FALSE))","v":""},4,"0","",{"$f":"SUM(I53:I59)","v":0},{"$f":"SUM(J53:J59)","v":0},{"$f":"IF(K53=0,\"\",ROUND(L53/K53,2))","v":""}]
[null,null,"2.3.2. Los planes operativos se usan para dar forma a la preparación del presupuesto.",null,null,null,{"$f":"IF(D54=0,\"\",VLOOKUP(D54,'Data Validation'!$C$2:$D$7,2,FALSE))","v":""},4,"0",""]
[null,null,"2.3.3. Los planes operativos son detallados y pueden implementarse dentro de un marco de tiempo específico.",null,null,null,{"$f":"IF(D55=0,\"\",VLOOKUP(D55,'Data Validation'!$C$2:$D$7,2,FALSE))","v":""},4,"0",""]
[null,null,"2.3.4. Los planes operativos indican los recursos humanos, financieros y materiales que se necesitan para lograr los objetivos.",null,null,null,{"$f":"IF(D56=0,\"\",VLOOKUP(D56,'Data Validation'!$C$2:$D$7,2,FALSE))","v":""},4,"0",""]
[null,null,"2.3.5. El personal usa los planes operativos para la toma de decisiones en las operaciones del día a día.",null,null,null,{"$f":"IF(D57=0,\"\",VLOOKUP(D57,'Data Validation'!$C$2:$D$7,2,FALSE))","v":""},4,"0",""]
[null,null,"2.3.6. El desempeño del personal y los productos finales departamentales están vinculados al plan operativo.",null,null,null,{"$f":"IF(D58=0,\"\",VLOOKUP(D58,'Data Validation'!$C$2:$D$7,2,FALSE))","v":""},4,"0",""]
[null,null,"2.3.7. Los planes son desarrollados o revisados periódicamente de un modo participativo y representativo por parte del personal y aquellos a quienes sirve la organización.",null,null,null,{"$f":"IF(D59=0,\"\",VLOOKUP(D59,'Data Validation'!$C$2:$D$7,2,FALSE))","v":""},4,"0",""]
[null,"2.4. Supervisión de los planes estratégicos y operativos","2.4.1. La organización tiene sistemas de supervisión para los planes estratégicos y operativos que informan y comunican el progreso hacia el logro de los objetivos de los planes al personal y a las partes interesadas.",null,null,null,{"$f":"IF(D60=0,\"\",VLOOKUP(D60,'Data Validation'!$C$2:$D$7,2,FALSE))","v":""},4,"0","",{"$f":"SUM(I60:I61)","v":0},{"$f":"SUM(J60:J61)","v":0},{"$f":"IF(K60=0,\"\",ROUND(L60/K60,2))","v":""}]
[null,null,"2.4.2. La dirección involucra al personal periódicamente para que reflexione de modo crítico sobre los objetivos de los planes estratégicos y operativos y usa la información para ajustar los planes o la implementación.",null,null,null,{"$f":"IF(D61=0,\"\",VLOOKUP(D61,'Data Validation'!$C$2:$D$7,2,FALSE))","v":""},4,"0",""]
["3. Gestión General","3.1. Gerencia","3.1.1. La gerencia superior proporciona liderazgo para la integración de políticas, planificación, operaciones y procesos, y coordinación en línea con el plan estratégico.",null,null,null,{"$f":"IF(D62=0,\"\",VLOOKUP(D62,'Data Validation'!$C$2:$D$7,2,FALSE))","v":""},4,"0","",{"$f":"SUM(I62:I67)","v":0},{"$f":"SUM(J62:J67)","v":0},{"$f":"IF(K62=0,\"\",ROUND(L62/K62,2))","v":""},{"$f":"SUM(I62:I87)","v":0},{"$f":"SUM(J62:J87)","v":0},{"$f":"IF(N62=0,\"\",ROUND(O62/N62,2))","v":""}]
[null,null,"3.1.2. La gerencia se asegura de que la organización tenga una cantidad de personal suficiente y de que todos tengan las calificaciones y la experiencia relevantes.",null,null,null,{"$f":"IF(D63=0,\"\",VLOOKUP(D63,'Data Validation'!$C$2:$D$7,2,FALSE))","v":""},4,"0",""]
[null,null,"3.1.3. La gerencia supervisa los sistemas adecuados de información, generación de informes y coordinación.",null,null,null,{"$f":"IF(D64=0,\"\",VLOOKUP(D64,'Data Validation'!$C$2:$D$7,2,FALSE))","v":""},4,"0",""]
[null,null,"3.1.4. El proceso de toma de decisiones es consultivo hasta el mayor grado posible y la gerencia comunica de manera clara y oportuna los argumentos que sustentan las decisiones tomadas a las personas que corresponda.",null,null,null,{"$f":"IF(D65=0,\"\",VLOOKUP(D65,'Data Validation'!$C$2:$D$7,2,FALSE))","v":""},4,"0",""]
[null,null,"3.1.5. Las revisiones periódicas de las prácticas gerenciales y las capacidades organizativas son parte de las autoevaluaciones organizativas.",null,null,null,{"$f":"IF(D66=0,\"\",VLOOKUP(D66,'Data Validation'!$C$2:$D$7,2,FALSE))","v":""},4,"0",""]
[null,null,"3.1.6. La gerencia se asegura de que la organización tenga políticas y procedimientos administrativos, financieros y de personal actualizados, y que todo el personal se adhiera a estos.",null,null,null,{"$f":"IF(D67=0,\"\",VLOOKUP(D67,'Data Validation'!$C$2:$D$7,2,FALSE))","v":""},4,"0",""]
[null,"3.2. Gestión de la generación de informes y de la información","3.2.1. Hay procedimientos actualizados en vigor para el intercambio de información y la generación de informes internos y externos, y todo el personal sigue los procedimientos.",null,null,null,{"$f":"IF(D68=0,\"\",VLOOKUP(D68,'Data Validation'!$C$2:$D$7,2,FALSE))","v":""},4,"0","",{"$f":"SUM(I68:I71)","v":0},{"$f":"SUM(J68:J71)","v":0},{"$f":"IF(K68=0,\"\",ROUND(L68/K68,2))","v":""}]
[null,null,"3.2.2. Todos los documentos de la organización se archivan y guardan sistemáticamente conforme a procedimientos documentados y se los pone a disposición de todas las partes correspondientes según sea necesario.",null,null,null,{"$f":"IF(D69=0,\"\",VLOOKUP(D69,'Data Validation'!$C$2:$D$7,2,FALSE))","v":""},4,{"$f":"IF(OR(D69=\"N/A (Not applicable)\",D69=\"\"),\"0\",IF(E69=\"\",\"0\",H69))","v":"0"},{"$f":"IF(D69=\"\",\"\",IF(G69=0,\"0\",G69*I69))","v":""}]
[null,null,"3.2.3. El personal de todos los niveles se adhiere a los protocolos de comunicación establecidos.",null,null,null,{"$f":"IF(D70=0,\"\",VLOOKUP(D70,'Data Validation'!$C$2:$D$7,2,FALSE))","v":""},4,"0",""]
[null,null,"3.2.4. El personal mantiene archivos confidenciales de cada empleado y se da acceso a estos conforme a los requisitos de las leyes locales y a un procedimiento especificado.",null,null,null,{"$f":"IF(D71=0,\"\",VLOOKUP(D71,'Data Validation'!$C$2:$D$7,2,FALSE))","v":""},4,"0",""]
[null,"3.3. Relaciones de equipo","3.3.1. La gerencia respalda un entorno de trabajo en equipo que es constructivo y brinda apoyo.",null,null,null,{"$f":"IF(D72=0,\"\",VLOOKUP(D72,'Data Validation'!$C$2:$D$7,2,FALSE))","v":""},4,"0","",{"$f":"SUM(I72:I74)","v":0},{"$f":"SUM(J72:J74)","v":0},{"$f":"IF(K72=0,\"\",ROUND(L72/K72,2))","v":""}]
[null,null,"3.3.2. Hay respeto mutuo, confianza y cooperación entre los empleados de todos los niveles de la organización.",null,null,null,{"$f":"IF(D73=0,\"\",VLOOKUP(D73,'Data Validation'!$C$2:$D$7,2,FALSE))","v":""},4,"0",""]
[null,null,"3.3.3. Las actividades programadas de formación de equipos posibilitan la colaboración y la comunicación abierta de los equipos, y fomentan la buena moral del personal.",null,null,null,{"$f":"IF(D74=0,\"\",VLOOKUP(D74,'Data Validation'!$C$2:$D$7,2,FALSE))","v":""},4,"0",""]
[null,"3.4. Gestión de cambios","3.4.1. La gerencia superior adopta y respalda las oportunidades de cambio dirigidas al mejoramiento y el crecimiento de la organización.",null,null,null,{"$f":"IF(D75=0,\"\",VLOOKUP(D75,'Data Validation'!$C$2:$D$7,2,FALSE))","v":""},4,"0","",{"$f":"SUM(I75:I76)","v":0},{"$f":"SUM(J75:J76)","v":0},{"$f":"IF(K75=0,\"\",ROUND(L75/K75,2))","v":""}]
[null,null,"3.4.2. La gerencia proporciona los recursos humanos, materiales y financieros para respaldar y recompensar las iniciativas de cambio aprobadas.",null,null,null,{"$f":"IF(D76=0,\"\",VLOOKUP(D76,'Data Validation'!$C$2:$D$7,2,FALSE))","v":""},4,"0",""]
[null,"3.5. Gestión de riesgos","3.5.1. La gerencia superior se asegura de que el proceso de planificación estratégica incorpore la evaluación de los riesgos que ponen en peligro los valores, la credibilidad o la viabilidad de la organización.",null,null,null,{"$f":"IF(D77=0,\"\",VLOOKUP(D77,'Data Validation'!$C$2:$D$7,2,FALSE))","v":""},4,"0","",{"$f":"SUM(I77:I87)","v":0},{"$f":"SUM(J77:J87)","v":0},{"$f":"IF(K77=0,\"\",ROUND(L77/K77,2))","v":""}]
[null,null,"3.5.2. Hay mecanismos y sistemas de control interno en vigor para las revisiones periódicas que aseguran el cumplimiento normativo y reducen el riesgo.",null,null,null,{"$f":"IF(D78=0,\"\",VLOOKUP(D78,'Data Validation'!$C$2:$D$7,2,FALSE))","v":""},4,"0",""]
[null,null,"3.5.3. Se asignan controles internos y responsabilidades de gestión de riesgos al personal relevante que es encargado de rendir cuentas.",null,null,null,{"$f":"IF(D79=0,\"\",VLOOKUP(D79,'Data Validation'!$C$2:$D$7,2,FALSE))","v":""},4,"0",""]
[null,null,"3.5.4. El Director Ejecutivo revisa todos los informes de auditoría y se asegura de que se aborden los hallazgos de las auditorías.",null,null,null,{"$f":"IF(D80=0,\"\",VLOOKUP(D80,'Data Validation'!$C$2:$D$7,2,FALSE))","v":""},4,"0",""]
[null,null,"3.5.5. El personal tiene conocimiento de los requisitos de cumplimiento normativo y existen mecanismos para informar de manera confidencial los casos de incumplimiento ante la gerencia, sin temor a represalias.",null,null,null,{"$f":"IF(D81=0,\"\",VLOOKUP(D81,'Data Validation'!$C$2:$D$7,2,FALSE))","v":""},4,"0",""]
[null,null,"3.5.6. La gerencia se asegura de que existan planes operativos o de contingencia diseñados e implementados para abordar los riesgos presentes o potenciales.",null,null,null,{"$f":"IF(D82=0,\"\",VLOOKUP(D82,'Data Validation'!$C$2:$D$7,2,FALSE))","v":""},4,"0",""]
[null,null,"3.5.7. Una junta de asesoría externa o una estructura similar mantienen a la organización informada de las tendencias importantes que podrían representar riesgos graves para la organización o para aquellos a quienes esta sirve.",null,null,null,{"$f":"IF(D83=0,\"\",VLOOKUP(D83,'Data Validation'!$C$2:$D$7,2,FALSE))","v":""},4,"0",""]
[null,null,"3.5.8. La organización tiene controles en vigor para limitar o reducir los gastos en caso de que se produzca un déficit de ingresos.",null,null,null,{"$f":"IF(D84=0,\"\",VLOOKUP(D84,'Data Validation'!$C$2:$D$7,2,FALSE))","v":""},4,"0",""]
[null,null,"3.5.9. La organización ha establecido medidas de contingencia financiera para minimizar las interrupciones operativas que resultan de emergencias u otros acontecimientos no planificados.",null,null,null,{"$f":"IF(D85=0,\"\",VLOOKUP(D85,'Data Validation'!$C$2:$D$7,2,FALSE))","v":""},4,"0",""]
[null,null,"3.5.10. La organización evalúa todos los riesgos asegurables y toma las medidas adecuadas.",null,null,null,{"$f":"IF(D86=0,\"\",VLOOKUP(D86,'Data Validation'!$C$2:$D$7,2,FALSE))","v":""},4,"0",""]
[null,null,"3.5.11. Los activos no están sujetos a ningún conflicto ni litigio.",null,null,null,{"$f":"IF(D87=0,\"\",VLOOKUP(D87,'Data Validation'!$C$2:$D$7,2,FALSE))","v":""},4,"0",""]
["4. Relaciones Externas Y Asociaciones","4.1. Relaciones con los encargados de elaborar políticas","4.1.1. La organización tiene estrategias en vigor para buscar la celebración de alianzas con otros grupos y redes que aboguen por las mismas cuestiones y propósitos.",null,null,null,{"$f":"IF(D88=0,\"\",VLOOKUP(D88,'Data Validation'!$C$2:$D$7,2,FALSE))","v":""},4,"0","",{"$f":"SUM(I88:I93)","v":0},{"$f":"SUM(J88:J93)","v":0},{"$f":"IF(K88=0,\"\",ROUND(L88/K88,2))","v":""},{"$f":"SUM(I88:I103)","v":0},{"$f":"SUM(J88:J103)","v":0},{"$f":"IF(N88=0,\"\",ROUND(O88/N88,2))","v":""}]
[null,null,"4.1.2. La organización establece relaciones con los encargados de elaborar políticas para abogar por la aplicación o la creación de leyes, reglamentaciones y políticas que abordan las causas raíz de cuestiones y problemas sistémicos.",null,null,null,{"$f":"IF(D89=0,\"\",VLOOKUP(D89,'Data Validation'!$C$2:$D$7,2,FALSE))","v":""},4,"0",""]
[null,null,"4.1.3. La organización entiende su rol en la defensa o el desarrollo de la política pública y participa en las actividades de defensoría.",null,null,null,{"$f":"IF(D90=0,\"\",VLOOKUP(D90,'Data Validation'!$C$2:$D$7,2,FALSE))","v":""},4,"0",""]
[null,null,"4.1.4. La organización fortalece su relación con el gobierno sin comprometer su integridad e independencia.",null,null,null,{"$f":"IF(D91=0,\"\",VLOOKUP(D91,'Data Validation'!$C$2:$D$7,2,FALSE))","v":""},4,"0",""]
[null,null,"4.1.5. La organización está involucrada en fuerzas de trabajo o en grupos de trabajo con el gobierno.",null,null,null,{"$f":"IF(D92=0,\"\",VLOOKUP(D92,'Data Validation'!$C$2:$D$7,2,FALSE))","v":""},4,"0",""]
[null,null,"4.1.6. La organización posee estrategias de comunicación, intercambio de información y difusión para informar e influir en las políticas.",null,null,null,{"$f":"IF(D93=0,\"\",VLOOKUP(D93,'Data Validation'!$C$2:$D$7,2,FALSE))","v":""},4,"0",""]
[null,"4.2. Asociaciones","4.2.1. La organización establece vínculos programáticos y técnicos con organizaciones nacionales e internacionales y el sector privado con el fin de obtener ventajas y recursos que mejoran su habilidad para lograr su misión.",null,null,null,{"$f":"IF(D94=0,\"\",VLOOKUP(D94,'Data Validation'!$C$2:$D$7,2,FALSE))","v":""},4,"0","",{"$f":"SUM(I94:I99)","v":0},{"$f":"SUM(J94:J99)","v":0},{"$f":"IF(K94=0,\"\",ROUND(L94/K94,2))","v":""}]
[null,null,"4.2.2. La organización tiene como prioridad ser miembro de coaliciones, redes y alianzas, y juega un papel de liderazgo según corresponda.",null,null,null,{"$f":"IF(D95=0,\"\",VLOOKUP(D95,'Data Validation'!$C$2:$D$7,2,FALSE))","v":""},4,"0",""]
[null,null,"4.2.3. La organización tiene acuerdos escritos con sus asociaciones, que ayudan a definir y fomentar la confianza y la cooperación.",null,null,null,{"$f":"IF(D96=0,\"\",VLOOKUP(D96,'Data Validation'!$C$2:$D$7,2,FALSE))","v":""},4,"0",""]
[null,null,"4.2.4. La organización consulta regularmente a las partes interesadas principales para promover el debate sobre cuestiones de política, defensoría, evaluación de necesidades, financiamiento, diseño de proyectos, implementación y evaluación de la supervisión y el impacto.",null,null,null,{"$f":"IF(D97=0,\"\",VLOOKUP(D97,'Data Validation'!$C$2:$D$7,2,FALSE))","v":""},4,"0",""]
[null,null,"4.2.5. La información sobre los servicios actuales o planificados, otras actividades y resultados se comparten rutinariamente con las comunidades beneficiarias objetivo y con otras partes interesadas.",null,null,null,{"$f":"IF(D98=0,\"\",VLOOKUP(D98,'Data Validation'!$C$2:$D$7,2,FALSE))","v":""},4,"0",""]
[null,null,"4.2.6. La organización supervisa la eficacia de sus asociaciones con otras organizaciones a través de reflexiones e informes documentados.",null,null,null,{"$f":"IF(D99=0,\"\",VLOOKUP(D99,'Data Validation'!$C$2:$D$7,2,FALSE))","v":""},4,"0",""]
[null,"4.3. Relaciones con los donadores","4.3.1. La organización aprovecha adecuadamente los recursos del gobierno y los donadores para sí misma, sus socios y las comunidades.",null,null,null,{"$f":"IF(D100=0,\"\",VLOOKUP(D100,'Data Validation'!$C$2:$D$7,2,FALSE))","v":""},4,"0","",{"$f":"SUM(I100:I101)","v":0},{"$f":"SUM(J100:J101)","v":0},{"$f":"IF(K100=0,\"\",ROUND(L100/K100,2))","v":""}]
[null,null,"4.3.2. La organización es conocida, reconocida y respetada por donadores internacionales y locales, otros actores de la sociedad civil y funcionarios del gobierno según corresponda a las capacidades de la organización y al entorno socioeconómico y político.",null,null,null,{"$f":"IF(D101=0,\"\",VLOOKUP(D101,'Data Validation'!$C$2:$D$7,2,FALSE))","v":""},4,{"$f":"IF(OR(D101=\"N/A (Not applicable)\",D101=\"\"),\"0\",IF(E101=\"\",\"0\",H101))","v":"0"},{"$f":"IF(D101=\"\",\"\",IF(G101=0,\"0\",G101*I101))","v":""}]
[null,"4.4. Relaciones públicas","4.4.1. La organización tiene una estrategia de relaciones públicas, que se usa y regularmente se supervisa y evalúa.",null,null,null,{"$f":"IF(D102=0,\"\",VLOOKUP(D102,'Data Validation'!$C$2:$D$7,2,FALSE))","v":""},4,"0","",{"$f":"SUM(I102:I103)","v":0},{"$f":"SUM(J102:J103)","v":0},{"$f":"IF(K102=0,\"\",ROUND(L102/K102,2))","v":""}]
[null,null,"4.4.2. La persona responsable de las relaciones públicas cuenta con las calificaciones necesarias para ese fin.",null,null,null,{"$f":"IF(D103=0,\"\",VLOOKUP(D103,'Data Validation'!$C$2:$D$7,2,FALSE))","v":""},4,"0",""]
["5. Sostenibilidad","5.1. Sostenibilidad del programa","5.1.1. El programa es orientado y se fijaron las prioridades para reflejar los valores y la dirección estratégica de la organización, y contribuye a alcanzar la misión.",null,null,null,{"$f":"IF(D104=0,\"\",VLOOKUP(D104,'Data Validation'!$C$2:$D$7,2,FALSE))","v":""},4,"0","",{"$f":"SUM(I104:I113)","v":0},{"$f":"SUM(J104:J113)","v":0},{"$f":"IF(K104=0,\"\",ROUND(L104/K104,2))","v":""},{"$f":"SUM(I104:I144)","v":0},{"$f":"SUM(J104:J144)","v":0},{"$f":"IF(N104=0,\"\",ROUND(O104/N104,2))","v":""}]
[null,null,"5.1.2. La comunidad es dueña de los beneficios que resultan de la implementación del programa.",null,null,null,{"$f":"IF(D105=0,\"\",VLOOKUP(D105,'Data Validation'!$C$2:$D$7,2,FALSE))","v":""},4,"0",""]
[null,null,"5.1.3. La organización es un líder reconocido en las áreas de sus programas principales.",null,null,null,{"$f":"IF(D106=0,\"\",VLOOKUP(D106,'Data Validation'!$C$2:$D$7,2,FALSE))","v":""},4,"0",""]
[null,null,"5.1.4. El programa está diseñado e implementado equitativamente, e integra a aquellos que son más vulnerables y necesitan acceso a los servicios del programa.",null,null,null,{"$f":"IF(D107=0,\"\",VLOOKUP(D107,'Data Validation'!$C$2:$D$7,2,FALSE))","v":""},4,"0",""]
[null,null,"5.1.5. La estrategia de sostenibilidad está incorporada en todos  los programas.",null,null,null,{"$f":"IF(D108=0,\"\",VLOOKUP(D108,'Data Validation'!$C$2:$D$7,2,FALSE))","v":""},4,"0",""]
[null,null,"5.1.6. El programa aborda las cuestiones de género y otras cuestiones de equidad.",null,null,null,{"$f":"IF(D109=0,\"\",VLOOKUP(D109,'Data Validation'!$C$2:$D$7,2,FALSE))","v":""},4,"0",""]
[null,null,"5.1.7. Las estructuras y los sistemas de ejecución del programa son adecuados a la escala del programa, flexibles y se adaptan a los cambios de la dirección estratégica.",null,null,null,{"$f":"IF(D110=0,\"\",VLOOKUP(D110,'Data Validation'!$C$2:$D$7,2,FALSE))","v":""},4,"0",""]
[null,null,"5.1.8. La cantidad de personas que se benefician del programa va en aumento.",null,null,null,{"$f":"IF(D111=0,\"\",VLOOKUP(D111,'Data Validation'!$C$2:$D$7,2,FALSE))","v":""},4,"0",""]
[null,null,"5.1.9. El programa tiene potencial de repetibilidad y aumento en escala.",null,null,null,{"$f":"IF(D112=0,\"\",VLOOKUP(D112,'Data Validation'!$C$2:$D$7,2,FALSE))","v":""},4,"0",""]
[null,null,"5.1.10. El programa tiene una estrategia de salida clara y todas las personas correspondientes la entienden.",null,null,null,{"$f":"IF(D113=0,\"\",VLOOKUP(D113,'Data Validation'!$C$2:$D$7,2,FALSE))","v":""},4,"0",""]
[null,"5.2. Sostenibilidad organizativa","5.2.1. La gerencia cuenta con pleno apoyo de la junta directiva o de otras estructuras de gobierno para alcanzar su misión y visión, y mantener la autonomía respecto de los donadores.",null,null,null,{"$f":"IF(D114=0,\"\",VLOOKUP(D114,'Data Validation'!$C$2:$D$7,2,FALSE))","v":""},4,"0","",{"$f":"SUM(I114:I119)","v":0},{"$f":"SUM(J114:J119)","v":0},{"$f":"IF(K114=0,\"\",ROUND(L114/K114,2))","v":""}]
[null,null,"5.2.2. La organización tiene capacidad interna, redes y reputación para atraer y retener personal calificado que adhiere a su misión y valores.",null,null,null,{"$f":"IF(D115=0,\"\",VLOOKUP(D115,'Data Validation'!$C$2:$D$7,2,FALSE))","v":""},4,"0",""]
[null,null,"5.2.3. Las estructuras y los sistemas de gestión de la organización son flexibles y se adaptan a la escala del programa y a los cambios en la dirección estratégica.",null,null,null,{"$f":"IF(D116=0,\"\",VLOOKUP(D116,'Data Validation'!$C$2:$D$7,2,FALSE))","v":""},4,"0",""]
[null,null,"5.2.4. La gerencia superior promueve activamente el desarrollo del liderazgo y la promoción de nuevos líderes dentro de la organización.",null,null,null,{"$f":"IF(D117=0,\"\",VLOOKUP(D117,'Data Validation'!$C$2:$D$7,2,FALSE))","v":""},4,"0",""]
[null,null,"5.2.5. Hay una cultura de rendición de cuentas y transparencia que cuenta con pautas escritas que consideran repercusiones si se las infringe.",null,null,null,{"$f":"IF(D118=0,\"\",VLOOKUP(D118,'Data Validation'!$C$2:$D$7,2,FALSE))","v":""},4,"0",""]
[null,null,"5.2.6. La organización supervisa la eficacia de sus asociaciones con otras organizaciones según se documenta a través de informes.",null,null,null,{"$f":"IF(D119=0,\"\",VLOOKUP(D119,'Data Validation'!$C$2:$D$7,2,FALSE))","v":""},4,"0",""]
[null,"5.3. Sostenibilidad financiera y de recursos","5.3.1. La organización se asegura de que sus operaciones sean rentables y competitivas con respecto a otras organizaciones similares.",null,null,null,{"$f":"IF(D120=0,\"\",VLOOKUP(D120,'Data Validation'!$C$2:$D$7,2,FALSE))","v":""},4,"0","",{"$f":"SUM(I120:I136)","v":0},{"$f":"SUM(J120:J136)","v":0},{"$f":"IF(K120=0,\"\",ROUND(L120/K120,2))","v":""}]
[null,null,"5.3.2. El flujo de caja de la organización es sistemáticamente adecuado para cumplir con los requisitos operativos.",null,null,null,{"$f":"IF(D121=0,\"\",VLOOKUP(D121,'Data Validation'!$C$2:$D$7,2,FALSE))","v":""},4,"0",""]
[null,null,"5.3.3. La organización administra sus activos para controlar costos y, según corresponda, para maximizar los ingresos a fin de obtener viabilidad financiera.",null,null,null,{"$f":"IF(D122=0,\"\",VLOOKUP(D122,'Data Validation'!$C$2:$D$7,2,FALSE))","v":""},4,"0",""]
[null,null,"5.3.4. La organización usa los recursos naturales de un modo sustentable.",null,null,null,{"$f":"IF(D123=0,\"\",VLOOKUP(D123,'Data Validation'!$C$2:$D$7,2,FALSE))","v":""},4,"0",""]
[null,null,"5.3.5. La organización genera propuestas y conceptos creíbles y demuestra la rentabilidad de sus proyectos.",null,null,null,{"$f":"IF(D124=0,\"\",VLOOKUP(D124,'Data Validation'!$C$2:$D$7,2,FALSE))","v":""},4,"0",""]
[null,null,"5.3.6. La organización tiene el respaldo de una base diversificada de recursos sin depender excesivamente de una única fuente de financiamiento.",null,null,null,{"$f":"IF(D125=0,\"\",VLOOKUP(D125,'Data Validation'!$C$2:$D$7,2,FALSE))","v":""},4,"0",""]
[null,null,"5.3.7. La organización tiene recursos locales identificados para complementar el financiamiento de donadores extranjeros.",null,null,null,{"$f":"IF(D126=0,\"\",VLOOKUP(D126,'Data Validation'!$C$2:$D$7,2,FALSE))","v":""},4,"0",""]
[null,null,"5.3.8. La organización tiene estrategias y mecanismos coherentes con las áreas de sus programas centrales que son eficientes para generar ingresos sostenibles para cubrir una parte de sus costos operativos.",null,null,null,{"$f":"IF(D127=0,\"\",VLOOKUP(D127,'Data Validation'!$C$2:$D$7,2,FALSE))","v":""},4,"0",""]
[null,null,"5.3.9. La estrategia de recaudación de fondos de la organización se vincula con el plan estratégico para asegurar la continuidad de los programas centrales.",null,null,null,{"$f":"IF(D128=0,\"\",VLOOKUP(D128,'Data Validation'!$C$2:$D$7,2,FALSE))","v":""},4,"0",""]
[null,null,"5.3.10. El proceso de recaudación de fondos de la organización está integrado con el sistema de administración financiera y es supervisado y ajustado de manera continua.",null,null,null,{"$f":"IF(D129=0,\"\",VLOOKUP(D129,'Data Validation'!$C$2:$D$7,2,FALSE))","v":""},4,"0",""]
[null,null,"5.3.11. La organización cuenta con personal calificado y con sistemas en vigor para acceder, administrar y rendir cuentas de los recursos provenientes de fuentes diversificadas de donadores.",null,null,null,{"$f":"IF(D130=0,\"\",VLOOKUP(D130,'Data Validation'!$C$2:$D$7,2,FALSE))","v":""},4,"0",""]
[null,null,"5.3.12. Los costos de las actividades de recaudación de fondos de la organización, como porcentaje de los costos del programa, son competitivos con respecto a los costos de organizaciones similares.",null,null,null,{"$f":"IF(D131=0,\"\",VLOOKUP(D131,'Data Validation'!$C$2:$D$7,2,FALSE))","v":""},4,"0",""]
[null,null,"5.3.13. La organización se asegura de que los costos operativos y de prestación de servicios sean rentables y competitivos con respecto a los costos de organizaciones similares.",null,null,null,{"$f":"IF(D132=0,\"\",VLOOKUP(D132,'Data Validation'!$C$2:$D$7,2,FALSE))","v":""},4,"0",""]
[null,null,"5.3.14. El flujo de caja de la organización es sistemáticamente adecuado para cumplir con los requisitos operativos.",null,null,null,{"$f":"IF(D133=0,\"\",VLOOKUP(D133,'Data Validation'!$C$2:$D$7,2,FALSE))","v":""},4,{"$f":"IF(OR(D133=\"N/A (Not applicable)\",D133=\"\"),\"0\",IF(E133=\"\",\"0\",H133))","v":"0"},{"$f":"IF(D133=\"\",\"\",IF(G133=0,\"0\",G133*I133))","v":""}]
[null,null,"5.3.15. La organización administra sus activos para controlar costos y, según corresponda, para generar ingresos a fin de obtener viabilidad financiera.",null,null,null,{"$f":"IF(D134=0,\"\",VLOOKUP(D134,'Data Validation'!$C$2:$D$7,2,FALSE))","v":""},4,"0",""]
[null,null,"5.3.16. La organización tiene una política clara para el uso de su terreno y de sus activos que constituye una ganancia económica para la organización en la población objetivo.",null,null,null,{"$f":"IF(D135=0,\"\",VLOOKUP(D135,'Data Validation'!$C$2:$D$7,2,FALSE))","v":""},4,"0",""]
[null,null,"5.3.17. Los activos están libres de conflictos y litigios.",null,null,null,{"$f":"IF(D136=0,\"\",VLOOKUP(D136,'Data Validation'!$C$2:$D$7,2,FALSE))","v":""},4,"0",""]
[null,"5.4. Sostenibilidad política","5.4.1. La organización es convincente desde el punto de vista profesional en las áreas de sus programas centrales y tiene legitimidad establecida ante las comunidades y las partes interesadas.",null,null,null,{"$f":"IF(D137=0,\"\",VLOOKUP(D137,'Data Validation'!$C$2:$D$7,2,FALSE))","v":""},4,"0","",{"$f":"SUM(I137:I144)","v":0},{"$f":"SUM(J137:J144)","v":0},{"$f":"IF(K137=0,\"\",ROUND(L137/K137,2))","v":""}]
[null,null,"5.4.2. La organización es capaz de conseguir apoyo interno y externo para sus programas.",null,null,null,{"$f":"IF(D138=0,\"\",VLOOKUP(D138,'Data Validation'!$C$2:$D$7,2,FALSE))","v":""},4,"0",""]
[null,null,"5.4.3. La organización contribuye al desarrollo, el entorno, el crecimiento y la eficacia del sector de la sociedad civil.",null,null,null,{"$f":"IF(D139=0,\"\",VLOOKUP(D139,'Data Validation'!$C$2:$D$7,2,FALSE))","v":""},4,"0",""]
[null,null,"5.4.4. La asociación de la organización con el gobierno y los encargados de elaborar políticas, a través de la participación en grupos de trabajo y otras estructuras, da forma a las políticas y las pautas en que operan sus programas.",null,null,null,{"$f":"IF(D140=0,\"\",VLOOKUP(D140,'Data Validation'!$C$2:$D$7,2,FALSE))","v":""},4,"0",""]
[null,null,"5.4.5. La organización usa sus valores y perspectiva respecto del desarrollo humano para influir en las prioridades y pautas de las organizaciones y donadores internacionales.",null,null,null,{"$f":"IF(D141=0,\"\",VLOOKUP(D141,'Data Validation'!$C$2:$D$7,2,FALSE))","v":""},4,"0",""]
[null,null,"5.4.6. La organización ha fomentado la existencia de un grupo leal dentro de la comunidad y tiene una imagen pública respetada.",null,null,null,{"$f":"IF(D142=0,\"\",VLOOKUP(D142,'Data Validation'!$C$2:$D$7,2,FALSE))","v":""},4,"0",""]
[null,null,"5.4.7. La organización asiste a las comunidades en el desarrollo de habilidades representativas y de defensoría que aumentan los vínculos con instituciones públicas y privadas.",null,null,null,{"$f":"IF(D143=0,\"\",VLOOKUP(D143,'Data Validation'!$C$2:$D$7,2,FALSE))","v":""},4,"0",""]
[null,null,"5.4.8. La organización tiene la capacidad de producir pruebas locales de las necesidades y la eficacia de sus programas y puede comunicárselas al gobierno, los donadores, otras partes interesadas y el público.",null,null,null,{"$f":"IF(D144=0,\"\",VLOOKUP(D144,'Data Validation'!$C$2:$D$7,2,FALSE))","v":""},4,"0",""]
["6. Aprendizaj E Organizativo","6.1. Estrategia de aprendizaje organizativo","6.1.1. La organización tiene una estrategia de aprendizaje que esquematiza la forma en que se creará, mantendrá y aplicará el conocimiento que es esencial para tomar decisiones y cumplir con las prioridades.",null,null,null,{"$f":"IF(D145=0,\"\",VLOOKUP(D145,'Data Validation'!$C$2:$D$7,2,FALSE))","v":""},4,"0","",{"$f":"SUM(I145:I150)","v":0},{"$f":"SUM(J145:J150)","v":0},{"$f":"IF(K145=0,\"\",ROUND(L145/K145,2))","v":""},{"$f":"SUM(I145:I162)","v":0},{"$f":"SUM(J145:J162)","v":0},{"$f":"IF(N145=0,\"\",ROUND(O145/N145,2))","v":""}]
[null,null,"6.1.2. Los gerentes comunican, a través de mensajes escritos o verbales, que el intercambio de conocimientos y el aprendizaje son prioritarios.",null,null,null,{"$f":"IF(D146=0,\"\",VLOOKUP(D146,'Data Validation'!$C$2:$D$7,2,FALSE))","v":""},4,"0",""]
[null,null,"6.1.3. Los gerentes asignan recursos humanos, materiales y financieros para apoyar la estrategia de aprendizaje organizativo.",null,null,null,{"$f":"IF(D147=0,\"\",VLOOKUP(D147,'Data Validation'!$C$2:$D$7,2,FALSE))","v":""},4,"0",""]
[null,null,"6.1.4. Los gerentes recompensan y reconocen a los integrantes del personal que ayudan a los demás, documentan y comparten el aprendizaje, e innovan.",null,null,null,{"$f":"IF(D148=0,\"\",VLOOKUP(D148,'Data Validation'!$C$2:$D$7,2,FALSE))","v":""},4,"0",""]
[null,null,"6.1.5. Los gerentes muestran la manera en que se usan para tomar decisiones los datos provenientes de las tareas de supervisión y evaluación y otros procesos de aprendizaje.",null,null,null,{"$f":"IF(D149=0,\"\",VLOOKUP(D149,'Data Validation'!$C$2:$D$7,2,FALSE))","v":""},4,"0",""]
[null,null,"6.1.6. Los gerentes usan activamente los procesos y las herramientas de intercambio de conocimientos.",null,null,null,{"$f":"IF(D150=0,\"\",VLOOKUP(D150,'Data Validation'!$C$2:$D$7,2,FALSE))","v":""},4,"0",""]
[null,"6.2. Procesos de reflexión crítica","6.2.1. El personal y la dirección reflexionan y analizan las experiencias y los datos para la toma de decisiones sobre prácticas de gestión y programas.",null,null,null,{"$f":"IF(D151=0,\"\",VLOOKUP(D151,'Data Validation'!$C$2:$D$7,2,FALSE))","v":""},4,"0","",{"$f":"SUM(I151:I153)","v":0},{"$f":"SUM(J151:J153)","v":0},{"$f":"IF(K151=0,\"\",ROUND(L151/K151,2))","v":""}]
[null,null,"6.2.2. El personal y la dirección reflexionan regularmente sobre los proyectos, los programas y las estrategias antes, durante y después de su implementación, y documentan las lecciones aprendidas y las mejores prácticas.",null,null,null,{"$f":"IF(D152=0,\"\",VLOOKUP(D152,'Data Validation'!$C$2:$D$7,2,FALSE))","v":""},4,"0",""]
[null,null,"6.2.3. La organización incorpora las lecciones aprendidas y las mejores prácticas en las prácticas organizativas y las actividades de los programas.",null,null,null,{"$f":"IF(D153=0,\"\",VLOOKUP(D153,'Data Validation'!$C$2:$D$7,2,FALSE))","v":""},4,"0",""]
[null,"6.3. Documentación, almacenamiento e intercambio de conocimientos","6.3.1. El personal administra activamente la base de conocimientos mediante la creación de productos basados en los conocimientos, la recopilación de productos basados en conocimientos creados externamente y la mantención de productos actualizados.",null,null,null,{"$f":"IF(D154=0,\"\",VLOOKUP(D154,'Data Validation'!$C$2:$D$7,2,FALSE))","v":""},4,"0","",{"$f":"SUM(I154:I158)","v":0},{"$f":"SUM(J154:J158)","v":0},{"$f":"IF(K154=0,\"\",ROUND(L154/K154,2))","v":""}]
[null,null,"6.3.2. Los conocimientos documentados están en formatos que presentan la información más relevante para las audiencias objetivo.",null,null,null,{"$f":"IF(D155=0,\"\",VLOOKUP(D155,'Data Validation'!$C$2:$D$7,2,FALSE))","v":""},4,"0",""]
[null,null,"6.3.3. Todo el personal accede fácilmente y contribuye a la base de conocimientos, sin importar su cargo o responsabilidad.",null,null,null,{"$f":"IF(D156=0,\"\",VLOOKUP(D156,'Data Validation'!$C$2:$D$7,2,FALSE))","v":""},4,"0",""]
[null,null,"6.3.4. Hay tecnologías de almacenamiento e intercambio en vigor que son adecuadas para la ubicación, los recursos y las capacidades de los usuarios.",null,null,null,{"$f":"IF(D157=0,\"\",VLOOKUP(D157,'Data Validation'!$C$2:$D$7,2,FALSE))","v":""},4,"0",""]
[null,null,"6.3.5. Los conocimientos se comparten externamente con organizaciones similares, donadores y participantes, de modo que estos puedan utilizar el conocimiento de la organización para mejorar sus prácticas.",null,null,null,{"$f":"IF(D158=0,\"\",VLOOKUP(D158,'Data Validation'!$C$2:$D$7,2,FALSE))","v":""},4,"0",""]
[null,"6.4. Comunidades de práctica","6.4.1. La organización ha implementado procesos y herramientas que ayudan a los integrantes del personal a comunicarse entre ellos para pedir y proporcionar asistencia.",null,null,null,{"$f":"IF(D159=0,\"\",VLOOKUP(D159,'Data Validation'!$C$2:$D$7,2,FALSE))","v":""},4,"0","",{"$f":"SUM(I159:I162)","v":0},{"$f":"SUM(J159:J162)","v":0},{"$f":"IF(K159=0,\"\",ROUND(L159/K159,2))","v":""}]
[null,null,"6.4.2. El personal comparte y colabora dentro de las comunidades de práctica para intercambiar información, conversar sobre los desafíos, desarrollar mejores prácticas e innovar.",null,null,null,{"$f":"IF(D160=0,\"\",VLOOKUP(D160,'Data Validation'!$C$2:$D$7,2,FALSE))","v":""},4,"0",""]
[null,null,"6.4.3. El personal aplica el conocimiento adquirido a partir de las comunidades de práctica.",null,null,null,{"$f":"IF(D161=0,\"\",VLOOKUP(D161,'Data Validation'!$C$2:$D$7,2,FALSE))","v":""},4,"0",""]
[null,null,"6.4.4. La organización participa activamente en redes de organizaciones similares a fin de desarrollar en forma conjunta mejores prácticas para todo el sector.",null,null,null,{"$f":"IF(D162=0,\"\",VLOOKUP(D162,'Data Validation'!$C$2:$D$7,2,FALSE))","v":""},4,"0",""]
["7. Gestión De Recursos Humanos","7.1. Capacidad de recursos humanos","7.1.1. La organización cuenta con personal suficiente en cantidad y calidad para ejecutar tareas y programas con éxito y alcanzar la misión de la organización.",null,null,null,{"$f":"IF(D163=0,\"\",VLOOKUP(D163,'Data Validation'!$C$2:$D$7,2,FALSE))","v":""},4,"0","",{"$f":"SUM(I163:I169)","v":0},{"$f":"SUM(J163:J169)","v":0},{"$f":"IF(K163=0,\"\",ROUND(L163/K163,2))","v":""},{"$f":"SUM(I163:I201)","v":0},{"$f":"SUM(J163:J201)","v":0},{"$f":"IF(N163=0,\"\",ROUND(O163/N163,2))","v":""}]
[null,null,"7.1.2. La organización puede atraer y retener personal calificado para alcanzar sus metas.",null,null,null,{"$f":"IF(D164=0,\"\",VLOOKUP(D164,'Data Validation'!$C$2:$D$7,2,FALSE))","v":""},4,"0",""]
[null,null,"7.1.3. El modelo de dotación de personal de la organización incluye una representación equitativa de los grupos de identidad de las personas a las que sirve y las comunidades en que la organización trabaja.",null,null,null,{"$f":"IF(D165=0,\"\",VLOOKUP(D165,'Data Validation'!$C$2:$D$7,2,FALSE))","v":""},4,{"$f":"IF(OR(D165=\"N/A (Not applicable)\",D165=\"\"),\"0\",IF(E165=\"\",\"0\",H165))","v":"0"},{"$f":"IF(D165=\"\",\"\",IF(G165=0,\"0\",G165*I165))","v":""}]
[null,null,"7.1.4. La organización considera las preocupaciones particulares de las mujeres y de otros grupos marginados en sus políticas y prácticas.",null,null,null,{"$f":"IF(D166=0,\"\",VLOOKUP(D166,'Data Validation'!$C$2:$D$7,2,FALSE))","v":""},4,"0",""]
[null,null,"7.1.5. El personal está plenamente comprometido con la misión de la organización.",null,null,null,{"$f":"IF(D167=0,\"\",VLOOKUP(D167,'Data Validation'!$C$2:$D$7,2,FALSE))","v":""},4,"0",""]
[null,null,"7.1.6. El personal piensa que la organización proporciona un entorno laboral seguro y saludable.",null,null,null,{"$f":"IF(D168=0,\"\",VLOOKUP(D168,'Data Validation'!$C$2:$D$7,2,FALSE))","v":""},4,"0",""]
[null,null,"7.1.7. La organización tiene la capacidad de recursos humanos  para crear programas innovadores y eficaces que satisfagan las necesidades de los destinatarios.",null,null,null,{"$f":"IF(D169=0,\"\",VLOOKUP(D169,'Data Validation'!$C$2:$D$7,2,FALSE))","v":""},4,"0",""]
[null,"7.2. Sistemas de gestión de recursos humanos","7.2.1. El equipo de gestión de recursos humanos está dirigido por una persona calificada y experimentada.",null,null,null,{"$f":"IF(D170=0,\"\",VLOOKUP(D170,'Data Validation'!$C$2:$D$7,2,FALSE))","v":""},4,"0","",{"$f":"SUM(I170:I176)","v":0},{"$f":"SUM(J170:J176)","v":0},{"$f":"IF(K170=0,\"\",ROUND(L170/K170,2))","v":""}]
[null,null,"7.2.2. La organización asigna personal calificado a la gestión de cada una de sus unidades operativas principales.",null,null,null,{"$f":"IF(D171=0,\"\",VLOOKUP(D171,'Data Validation'!$C$2:$D$7,2,FALSE))","v":""},4,"0",""]
[null,null,"7.2.3. Las políticas y los procedimientos de recursos humanos reflejan los valores y principios de la organización.",null,null,null,{"$f":"IF(D172=0,\"\",VLOOKUP(D172,'Data Validation'!$C$2:$D$7,2,FALSE))","v":""},4,"0",""]
[null,null,"7.2.4. Las políticas y los procedimientos de recursos humanos están documentados y el personal tiene acceso a ellos.",null,null,null,{"$f":"IF(D173=0,\"\",VLOOKUP(D173,'Data Validation'!$C$2:$D$7,2,FALSE))","v":""},4,"0",""]
[null,null,"7.2.5. Las políticas y los procedimientos de recursos humanos se basan en las leyes laborales locales y contienen secciones específicas para proteger los derechos de todas las personas, inclusive del acoso sexual, el nepotismo y el conflicto de intereses.",null,null,null,{"$f":"IF(D174=0,\"\",VLOOKUP(D174,'Data Validation'!$C$2:$D$7,2,FALSE))","v":""},4,"0",""]
[null,null,"7.2.6. Las políticas y los procedimientos de recursos humanos se aplican de manera justa y uniforme.",null,null,null,{"$f":"IF(D175=0,\"\",VLOOKUP(D175,'Data Validation'!$C$2:$D$7,2,FALSE))","v":""},4,"0",""]
[null,null,"7.2.7. Las políticas y los procedimientos de la organización se supervisan y modifican regularmente, según sea necesario, con las contribuciones del personal.",null,null,null,{"$f":"IF(D176=0,\"\",VLOOKUP(D176,'Data Validation'!$C$2:$D$7,2,FALSE))","v":""},4,"0",""]
[null,"7.3. Reclutamiento y dotación de personal","7.3.1. Existen descripciones precisas y actualizadas de los puestos de trabajo voluntarios y de personal basados en la misión de la organización y los requisitos del puesto.",null,null,null,{"$f":"IF(D177=0,\"\",VLOOKUP(D177,'Data Validation'!$C$2:$D$7,2,FALSE))","v":""},4,"0","",{"$f":"SUM(I177:I184)","v":0},{"$f":"SUM(J177:J184)","v":0},{"$f":"IF(K177=0,\"\",ROUND(L177/K177,2))","v":""}]
[null,null,"7.3.2. El proceso de reclutamiento está documentado y es transparente y competitivo.",null,null,null,{"$f":"IF(D178=0,\"\",VLOOKUP(D178,'Data Validation'!$C$2:$D$7,2,FALSE))","v":""},4,"0",""]
[null,null,"7.3.3. Los criterios de selección del personal y de los voluntarios son compatibles con los requisitos de los puestos y las necesidades de la organización.",null,null,null,{"$f":"IF(D179=0,\"\",VLOOKUP(D179,'Data Validation'!$C$2:$D$7,2,FALSE))","v":""},4,"0",""]
[null,null,"7.3.4. La organización brinda a cada nuevo miembro del personal una orientación sobre sus principios rectores, valores y programas.",null,null,null,{"$f":"IF(D180=0,\"\",VLOOKUP(D180,'Data Validation'!$C$2:$D$7,2,FALSE))","v":""},4,"0",""]
[null,null,"7.3.5. Personal mantiene archivos confidenciales de cada miembro del personal, con documentación de cartas de oferta, aumentos de salario, ascensos, etc.",null,null,null,{"$f":"IF(D181=0,\"\",VLOOKUP(D181,'Data Validation'!$C$2:$D$7,2,FALSE))","v":""},4,"0",""]
[null,null,"7.3.6. Todos los empleados tienen acceso a su propio archivo de personal conforme a las leyes laborales locales o a la práctica aceptada.",null,null,null,{"$f":"IF(D182=0,\"\",VLOOKUP(D182,'Data Validation'!$C$2:$D$7,2,FALSE))","v":""},4,"0",""]
[null,null,"7.3.7. La organización proporciona recursos adecuados al personal para que haga su trabajo.",null,null,null,{"$f":"IF(D183=0,\"\",VLOOKUP(D183,'Data Validation'!$C$2:$D$7,2,FALSE))","v":""},4,"0",""]
[null,null,"7.3.8. Las descripciones de los puestos de trabajo se analizan entre el empleado y el supervisor y se modifican según sea necesario de acuerdo con un procedimiento definido.",null,null,null,{"$f":"IF(D184=0,\"\",VLOOKUP(D184,'Data Validation'!$C$2:$D$7,2,FALSE))","v":""},4,"0",""]
[null,"7.4. Compensación y beneficios","7.4.1. La organización tiene un procedimiento en vigor para determinar la escala de salarios y para hacer revisiones periódicas de la escala.",null,null,null,{"$f":"IF(D185=0,\"\",VLOOKUP(D185,'Data Validation'!$C$2:$D$7,2,FALSE))","v":""},4,"0","",{"$f":"SUM(I185:I187)","v":0},{"$f":"SUM(J185:J187)","v":0},{"$f":"IF(K185=0,\"\",ROUND(L185/K185,2))","v":""}]
[null,null,"7.4.2. Los salarios y los beneficios se basan en la misión y los principios de la organización, y buscan ser competitivos con los de organizaciones similares del país o la región.",null,null,null,{"$f":"IF(D186=0,\"\",VLOOKUP(D186,'Data Validation'!$C$2:$D$7,2,FALSE))","v":""},4,{"$f":"IF(OR(D186=\"N/A (Not applicable)\",D186=\"\"),\"0\",IF(E186=\"\",\"0\",H186))","v":"0"},{"$f":"IF(D186=\"\",\"\",IF(G186=0,\"0\",G186*I186))","v":""}]
[null,null,"7.4.3. El paquete de compensación y beneficios es acorde con las disposiciones de las leyes laborales nacionales.",null,null,null,{"$f":"IF(D187=0,\"\",VLOOKUP(D187,'Data Validation'!$C$2:$D$7,2,FALSE))","v":""},4,"0",""]
[null,"7.5. Sistemas de gestión del desempeño","7.5.1. El personal trabaja con los supervisores para establecer sus propios planes de trabajo y cree que los planes representan adecuadamente sus responsabilidades.",null,null,null,{"$f":"IF(D188=0,\"\",VLOOKUP(D188,'Data Validation'!$C$2:$D$7,2,FALSE))","v":""},4,"0","",{"$f":"SUM(I188:I191)","v":0},{"$f":"SUM(J188:J191)","v":0},{"$f":"IF(K188=0,\"\",ROUND(L188/K188,2))","v":""}]
[null,null,"7.5.2. Las metas de desempeño laboral son desafiantes y dan la oportunidad de que el personal demuestre iniciativa y creatividad.",null,null,null,{"$f":"IF(D189=0,\"\",VLOOKUP(D189,'Data Validation'!$C$2:$D$7,2,FALSE))","v":""},4,"0",""]
[null,null,"7.5.3. Un sistema documentado y funcional guía la retroalimentación regular y sistemática del desempeño, las sesiones de tutoría y las evaluaciones anuales del personal y los voluntarios.",null,null,null,{"$f":"IF(D190=0,\"\",VLOOKUP(D190,'Data Validation'!$C$2:$D$7,2,FALSE))","v":""},4,"0",""]
[null,null,"7.5.4. Un sistema documentado, funcional y actualizado regularmente guía los reconocimientos y las recompensas del personal y los voluntarios, incluidos los ascensos y otras recompensas.",null,null,null,{"$f":"IF(D191=0,\"\",VLOOKUP(D191,'Data Validation'!$C$2:$D$7,2,FALSE))","v":""},4,"0",""]
[null,"7.6. Desarrollo del personal","7.6.1. Todos los empleados sienten que tienen una oportunidad justa de obtener un ascenso.",null,null,null,{"$f":"IF(D192=0,\"\",VLOOKUP(D192,'Data Validation'!$C$2:$D$7,2,FALSE))","v":""},4,"0","",{"$f":"SUM(I192:I198)","v":0},{"$f":"SUM(J192:J198)","v":0},{"$f":"IF(K192=0,\"\",ROUND(L192/K192,2))","v":""}]
[null,null,"7.6.2. Las oportunidades de obtener un ascenso son publicitadas e identifican claramente el trabajo y las habilidades requeridas.",null,null,null,{"$f":"IF(D193=0,\"\",VLOOKUP(D193,'Data Validation'!$C$2:$D$7,2,FALSE))","v":""},4,"0",""]
[null,null,"7.6.3. La organización tiene un sistema documentado para promover el desarrollo de cada miembro del personal y mecanismos para hacer un seguimiento del uso de las nuevas capacidades.",null,null,null,{"$f":"IF(D194=0,\"\",VLOOKUP(D194,'Data Validation'!$C$2:$D$7,2,FALSE))","v":""},4,"0",""]
[null,null,"7.6.4. El personal tiene un plan de desarrollo que está ligado al logro del desempeño individual y a los objetivos de la organización.",null,null,null,{"$f":"IF(D195=0,\"\",VLOOKUP(D195,'Data Validation'!$C$2:$D$7,2,FALSE))","v":""},4,"0",""]
[null,null,"7.6.5. Los objetivos de desarrollo del personal incluyen oportunidades de ascenso, aprendizaje en el trabajo, tutorías y orientación de compañeros de trabajo y capacitaciones.",null,null,null,{"$f":"IF(D196=0,\"\",VLOOKUP(D196,'Data Validation'!$C$2:$D$7,2,FALSE))","v":""},4,"0",""]
[null,null,"7.6.6. Todo el personal tiene a su disposición opciones de trayectoria profesional y oportunidades externas e internas para mejorar sus habilidades.",null,null,null,{"$f":"IF(D197=0,\"\",VLOOKUP(D197,'Data Validation'!$C$2:$D$7,2,FALSE))","v":""},4,"0",""]
[null,null,"7.6.7. La organización tiene un presupuesto para el desarrollo y la capacitación del personal.",null,null,null,{"$f":"IF(D198=0,\"\",VLOOKUP(D198,'Data Validation'!$C$2:$D$7,2,FALSE))","v":""},4,"0",""]
[null,"7.7. Resolución de quejas y manejo de conflictos","7.7.1. La gerencia recibe de buen grado los aportes de una amplia gama de miembros del personal en los debates y las decisiones.",null,null,null,{"$f":"IF(D199=0,\"\",VLOOKUP(D199,'Data Validation'!$C$2:$D$7,2,FALSE))","v":""},4,"0","",{"$f":"SUM(I199:I201)","v":0},{"$f":"SUM(J199:J201)","v":0},{"$f":"IF(K199=0,\"\",ROUND(L199/K199,2))","v":""}]
[null,null,"7.7.2. La organización usa un procedimiento documentado de presentación de quejas y resolución de conflictos que es de fácil acceso para el personal y los voluntarios.",null,null,null,{"$f":"IF(D200=0,\"\",VLOOKUP(D200,'Data Validation'!$C$2:$D$7,2,FALSE))","v":""},4,"0",""]
[null,null,"7.7.3. El procedimiento de presentación de quejas y resolución de conflictos garantiza una confidencialidad razonable a las personas involucradas, y el personal y los voluntarios se sienten seguros de usarlo.",null,null,null,{"$f":"IF(D201=0,\"\",VLOOKUP(D201,'Data Validation'!$C$2:$D$7,2,FALSE))","v":""},4,"0",""]
["8. Gestión De Recursos Financieros Y Físicos","8.1. Personal financiero","8.1.1. La organización asigna una cantidad suficiente de miembros del personal para desempeñar la función financiera, la cual está a cargo de un director designado que tiene la experiencia relevante y las calificaciones educativas necesarias para desempeñar ese rol.",null,null,null,{"$f":"IF(D202=0,\"\",VLOOKUP(D202,'Data Validation'!$C$2:$D$7,2,FALSE))","v":""},4,"0","",{"$f":"SUM(I202:I203)","v":0},{"$f":"SUM(J202:J203)","v":0},{"$f":"IF(K202=0,\"\",ROUND(L202/K202,2))","v":""},{"$f":"SUM(I202:I252)","v":0},{"$f":"SUM(J202:J252)","v":0},{"$f":"IF(N202=0,\"\",ROUND(O202/N202,2))","v":""}]
[null,null,"8.1.2. El director de la función financiera participa en todas las decisiones que afectan los cambios de personal financiero.",null,null,null,{"$f":"IF(D203=0,\"\",VLOOKUP(D203,'Data Validation'!$C$2:$D$7,2,FALSE))","v":""},4,"0",""]
[null,"8.2. Sistemas financieros","8.2.1. La organización mantiene un libro mayor formal con contabilidad por partida doble.",null,null,null,{"$f":"IF(D204=0,\"\",VLOOKUP(D204,'Data Validation'!$C$2:$D$7,2,FALSE))","v":""},4,"0","",{"$f":"SUM(I204:I209)","v":0},{"$f":"SUM(J204:J209)","v":0},{"$f":"IF(K204=0,\"\",ROUND(L204/K204,2))","v":""}]
[null,null,"8.2.2. Todas las transacciones financieras se registran en el libro mayor de contabilidad y hay un empleado que tiene la responsabilidad principal de hacerlo.",null,null,null,{"$f":"IF(D205=0,\"\",VLOOKUP(D205,'Data Validation'!$C$2:$D$7,2,FALSE))","v":""},4,"0",""]
[null,null,"8.2.3. Los ciclos y los períodos contables están definidos y se siguen los procedimientos de cierre.",null,null,null,{"$f":"IF(D206=0,\"\",VLOOKUP(D206,'Data Validation'!$C$2:$D$7,2,FALSE))","v":""},4,"0",""]
[null,null,"8.2.4. La organización tiene un plan de cuentas que identifica todos los activos, pasivos, ingresos y gastos por separado.",null,null,null,{"$f":"IF(D207=0,\"\",VLOOKUP(D207,'Data Validation'!$C$2:$D$7,2,FALSE))","v":""},4,"0",""]
[null,null,"8.2.5. El libro mayor de contabilidad o un libro contable secundario divide en categorías todos los gastos por proyecto, actividad o departamento.",null,null,null,{"$f":"IF(D208=0,\"\",VLOOKUP(D208,'Data Validation'!$C$2:$D$7,2,FALSE))","v":""},4,"0",""]
[null,null,"8.2.6. El libro mayor de contabilidad, ya sea manual o computarizado, tiene salvaguardias para mantener la integridad de los datos.",null,null,null,{"$f":"IF(D209=0,\"\",VLOOKUP(D209,'Data Validation'!$C$2:$D$7,2,FALSE))","v":""},4,"0",""]
[null,"8.3. Documentación y mantenimiento de registros","8.3.1. Se usan formularios de asiento estándar para registrar las recepciones y los desembolsos de efectivo y asientos de diario en el libro mayor de contabilidad.",null,null,null,{"$f":"IF(D210=0,\"\",VLOOKUP(D210,'Data Validation'!$C$2:$D$7,2,FALSE))","v":""},4,"0","",{"$f":"SUM(I210:I212)","v":0},{"$f":"SUM(J210:J212)","v":0},{"$f":"IF(K210=0,\"\",ROUND(L210/K210,2))","v":""}]
[null,null,"8.3.2. Todos los documentos, incluidas las facturas originales y las aprobaciones, que respaldan los asientos contables se conservan en el archivo según lo exijan las leyes locales o los requisitos del subsidio, lo que sea de mayor duración.",null,null,null,{"$f":"IF(D211=0,\"\",VLOOKUP(D211,'Data Validation'!$C$2:$D$7,2,FALSE))","v":""},4,"0",""]
[null,null,"8.3.3. Se usan registros de tiempo estandarizados para capturar todos los cargos de tiempo.",null,null,null,{"$f":"IF(D212=0,\"\",VLOOKUP(D212,'Data Validation'!$C$2:$D$7,2,FALSE))","v":""},4,"0",""]
[null,"8.4. Control interno","8.4.1. La organización tiene procesos formales para hacer pedidos, autorizar, comprar y recibir bienes y servicios, y requiere documentación estandarizada como respaldo para dichas actividades.",null,null,null,{"$f":"IF(D213=0,\"\",VLOOKUP(D213,'Data Validation'!$C$2:$D$7,2,FALSE))","v":""},4,"0","",{"$f":"SUM(I213:I222)","v":0},{"$f":"SUM(J213:J222)","v":0},{"$f":"IF(K213=0,\"\",ROUND(L213/K213,2))","v":""}]
[null,null,"8.4.2. Se obtienen y documentan varias licitaciones para las compras que superan un determinado nivel.",null,null,null,{"$f":"IF(D214=0,\"\",VLOOKUP(D214,'Data Validation'!$C$2:$D$7,2,FALSE))","v":""},4,"0",""]
[null,null,"8.4.3. La organización tiene procesos formales para registrar las recepciones y desembolsos de efectivo y exige documentación estandarizada para dichas transacciones.",null,null,null,{"$f":"IF(D215=0,\"\",VLOOKUP(D215,'Data Validation'!$C$2:$D$7,2,FALSE))","v":""},4,"0",""]
[null,null,"8.4.4. Todos los instrumentos financieros y de efectivo están salvaguardados físicamente en todo momento.",null,null,null,{"$f":"IF(D216=0,\"\",VLOOKUP(D216,'Data Validation'!$C$2:$D$7,2,FALSE))","v":""},4,"0",""]
[null,null,"8.4.5. La organización usa una tabla de autorización de gastos que muestra los niveles de aprobación para todos los compromisos y desembolsos.",null,null,null,{"$f":"IF(D217=0,\"\",VLOOKUP(D217,'Data Validation'!$C$2:$D$7,2,FALSE))","v":""},4,"0",""]
[null,null,"8.4.6. Hay signatarios designados para cada cuenta bancaria, las tarjetas de firma se conservan en archivo y todas las cuentas bancarias están a nombre de la organización.",null,null,null,{"$f":"IF(D218=0,\"\",VLOOKUP(D218,'Data Validation'!$C$2:$D$7,2,FALSE))","v":""},4,"0",""]
[null,null,"8.4.7. La organización se esfuerza por separar las tareas o tiene controles adicionales en vigor cuando esa meta no es alcanzable.",null,null,null,{"$f":"IF(D219=0,\"\",VLOOKUP(D219,'Data Validation'!$C$2:$D$7,2,FALSE))","v":""},4,"0",""]
[null,null,"8.4.8. La organización cumple con todos los requisitos de auditorías externas y los resultados de las auditorías se ponen a disposición de todas las partes que correspondan.",null,null,null,{"$f":"IF(D220=0,\"\",VLOOKUP(D220,'Data Validation'!$C$2:$D$7,2,FALSE))","v":""},4,"0",""]
[null,null,"8.4.9. La gerencia de la organización toma medidas correctivas rápidas y adecuadas cuando se detecta un fraude.",null,null,null,{"$f":"IF(D221=0,\"\",VLOOKUP(D221,'Data Validation'!$C$2:$D$7,2,FALSE))","v":""},4,"0",""]
[null,null,"8.4.10. Un empleado que no recibe ni desembolsa efectivo prepara una conciliación bancaria mensual, y este recibe la aprobación de un gerente superior.",null,null,null,{"$f":"IF(D222=0,\"\",VLOOKUP(D222,'Data Validation'!$C$2:$D$7,2,FALSE))","v":""},4,"0",""]
[null,"8.5. Generación de informes financieros","8.5.1 El libro mayor de contabilidad se usa como base para la generación de todos los informes financieros. Los informes financieros regulares, internos y externos, se ponen a disposición de la gerencia, los donadores y otras partes interesadas usando los formatos requeridos y conforme a plazos límite establecidos.",null,null,null,{"$f":"IF(D223=0,\"\",VLOOKUP(D223,'Data Validation'!$C$2:$D$7,2,FALSE))","v":""},4,"0","",{"$f":"SUM(I223:I227)","v":0},{"$f":"SUM(J223:J227)","v":0},{"$f":"IF(K223=0,\"\",ROUND(L223/K223,2))","v":""}]
[null,null,"8.5.2. Finanzas y los respectivos gerentes de presupuesto deben investigar e informar a la gerencia de las variaciones significativas o los saldos inusuales que se observen durante las revisiones de los resultados reales en relación con el presupuesto.",null,null,null,{"$f":"IF(D224=0,\"\",VLOOKUP(D224,'Data Validation'!$C$2:$D$7,2,FALSE))","v":""},4,"0",""]
[null,null,"8.5.3. La gerencia responde a las variaciones informadas y toma las medidas adecuadas.",null,null,null,{"$f":"IF(D225=0,\"\",VLOOKUP(D225,'Data Validation'!$C$2:$D$7,2,FALSE))","v":""},4,"0",""]
[null,null,"8.5.4. El efectivo, las inversiones y las cuentas por cobrar totales de la organización han igualado o han superado a los pasivos durante los últimos tres años.",null,null,null,{"$f":"IF(D226=0,\"\",VLOOKUP(D226,'Data Validation'!$C$2:$D$7,2,FALSE))","v":""},4,"0",""]
[null,null,"8.5.5. Los saldos de todas las cuentas de activos y cuentas por pagar se analizan al menos una vez por trimestre y los informes se presentan para la revisión de la gerencia.",null,null,null,{"$f":"IF(D227=0,\"\",VLOOKUP(D227,'Data Validation'!$C$2:$D$7,2,FALSE))","v":""},4,"0",""]
[null,"8.6. Gestión del inventario","8.6.1. La organización usa un proceso manual o documentado que especifica los requisitos de almacenamiento y mantenimiento de registros para todos los artículos inventariables.",null,null,null,{"$f":"IF(D228=0,\"\",VLOOKUP(D228,'Data Validation'!$C$2:$D$7,2,FALSE))","v":""},4,"0","",{"$f":"SUM(I228:I236)","v":0},{"$f":"SUM(J228:J236)","v":0},{"$f":"IF(K228=0,\"\",ROUND(L228/K228,2))","v":""}]
[null,null,"8.6.2. Todos los bienes, incluidos los bienes básicos o el ganado, que la organización reciba o compre, se mantienen adecuadamente y se conservan en instalaciones de almacenamiento adecuadas y seguras.",null,null,null,{"$f":"IF(D229=0,\"\",VLOOKUP(D229,'Data Validation'!$C$2:$D$7,2,FALSE))","v":""},4,"0",""]
[null,null,"8.6.3. Hay un gerente de almacén que supervisa la contabilidad, el mantenimiento y la seguridad de los bienes almacenados en el almacén.",null,null,null,{"$f":"IF(D230=0,\"\",VLOOKUP(D230,'Data Validation'!$C$2:$D$7,2,FALSE))","v":""},4,"0",""]
[null,null,"8.6.4. Las instalaciones de almacenamiento están resguardadas en todo momento.",null,null,null,{"$f":"IF(D231=0,\"\",VLOOKUP(D231,'Data Validation'!$C$2:$D$7,2,FALSE))","v":""},4,"0",""]
[null,null,"8.6.5. Todos los bienes almacenados se cuentan independientemente a intervalos determinados, y las diferencias significativas entre los recuentos y los registros del inventario se investigan e informan a la gerencia.",null,null,null,{"$f":"IF(D232=0,\"\",VLOOKUP(D232,'Data Validation'!$C$2:$D$7,2,FALSE))","v":""},4,"0",""]
[null,null,"8.6.6. Toda la actividad del inventario, incluidos los envíos entrantes/salientes y las diferencias en los recuentos de inventario, se documentan en formularios estándar y se registran en un libro mayor del almacén.",null,null,null,{"$f":"IF(D233=0,\"\",VLOOKUP(D233,'Data Validation'!$C$2:$D$7,2,FALSE))","v":""},4,"0",""]
[null,null,"8.6.7. Los informes de inventario se presentan a la gerencia de la organización y a los donadores usando formatos determinados y dentro de plazos límite establecidos.",null,null,null,{"$f":"IF(D234=0,\"\",VLOOKUP(D234,'Data Validation'!$C$2:$D$7,2,FALSE))","v":""},4,"0",""]
[null,null,"8.6.8. Los informes de inventario dejan un rastro de auditoría que posibilita que los revisores rastreen toda la actividad del inventario documentada de regreso al libro contable del almacén y a otros documentos de respaldo.",null,null,null,{"$f":"IF(D235=0,\"\",VLOOKUP(D235,'Data Validation'!$C$2:$D$7,2,FALSE))","v":""},4,"0",""]
[null,null,"8.6.9. El almacenamiento, el envío, la distribución y la generación de informes de los bienes donados o financiados por donadores se realizan de conformidad con los requisitos de los donadores, donde corresponda.",null,null,null,{"$f":"IF(D236=0,\"\",VLOOKUP(D236,'Data Validation'!$C$2:$D$7,2,FALSE))","v":""},4,"0",""]
[null,"8.7. Propiedad, planta y equipo","8.7.1. La organización tiene una política que indica las adquisiciones de propiedad que deben capitalizarse, las diversas categorías de activos, las aprobaciones necesarias para las adquisiciones y las eliminaciones, y la vida útil estimada para cada categoría de activo.",null,null,null,{"$f":"IF(D237=0,\"\",VLOOKUP(D237,'Data Validation'!$C$2:$D$7,2,FALSE))","v":""},4,"0","",{"$f":"SUM(I237:I242)","v":0},{"$f":"SUM(J237:J242)","v":0},{"$f":"IF(K237=0,\"\",ROUND(L237/K237,2))","v":""}]
[null,null,"8.7.2. La planta y el equipo, comprados o recibidos como propiedad donada, son cargados a los gastos usando la depreciación a lo largo de su vida útil estimada.",null,null,null,{"$f":"IF(D238=0,\"\",VLOOKUP(D238,'Data Validation'!$C$2:$D$7,2,FALSE))","v":""},4,"0",""]
[null,null,"8.7.3. La planta y el equipo de la organización están seguros en todo momento.",null,null,null,{"$f":"IF(D239=0,\"\",VLOOKUP(D239,'Data Validation'!$C$2:$D$7,2,FALSE))","v":""},4,"0",""]
[null,null,"8.7.4. La organización mantiene registros para respaldar las adquisiciones y eliminaciones de propiedad, planta y equipo.",null,null,null,{"$f":"IF(D240=0,\"\",VLOOKUP(D240,'Data Validation'!$C$2:$D$7,2,FALSE))","v":""},4,"0",""]
[null,null,"8.7.5. Los activos de planta y equipo se cuentan independientemente a intervalos determinados. Los resultados de los recuentos se registran, resumen y concilian con los registros de los activos fijos. Las diferencias de recuentos se investigan y ponen a disposición de la gerencia.",null,null,null,{"$f":"IF(D241=0,\"\",VLOOKUP(D241,'Data Validation'!$C$2:$D$7,2,FALSE))","v":""},4,"0",""]
[null,null,"8.7.6. La compra, el uso, el almacenamiento y la eliminación de equipo donado o financiado por donadores se realizan de conformidad con los requisitos de los donadores, donde corresponda.",null,null,null,{"$f":"IF(D242=0,\"\",VLOOKUP(D242,'Data Validation'!$C$2:$D$7,2,FALSE))","v":""},4,"0",""]
[null,"8.8. Gestión de cuentas por cobrar","8.8.1. Todos los importes adelantados a otras organizaciones, proveedores o empleados se contabilizan como cuentas por cobrar pendientes en el libro mayor de contabilidad de la organización.",null,null,null,{"$f":"IF(D243=0,\"\",VLOOKUP(D243,'Data Validation'!$C$2:$D$7,2,FALSE))","v":""},4,"0","",{"$f":"SUM(I243:I246)","v":0},{"$f":"SUM(J243:J246)","v":0},{"$f":"IF(K243=0,\"\",ROUND(L243/K243,2))","v":""}]
[null,null,"8.8.2. La organización sigue una política documentada que establece cuándo vence cada tipo de cuenta por cobrar o adelanto.",null,null,null,{"$f":"IF(D244=0,\"\",VLOOKUP(D244,'Data Validation'!$C$2:$D$7,2,FALSE))","v":""},4,"0",""]
[null,null,"8.8.3. La gerencia toma medidas rápidas para cobrar o resolver los saldos de las cuentas por cobrar pendientes.",null,null,null,{"$f":"IF(D245=0,\"\",VLOOKUP(D245,'Data Validation'!$C$2:$D$7,2,FALSE))","v":""},4,"0",""]
[null,null,"8.8.4. Al menos una vez al trimestre, se preparan cronogramas que muestran los importes que debe cada parte y las fechas en que se adelantaron los importes, se los reconcilia con el libro mayor de contabilidad y se presentan para revisión de la gerencia.",null,null,null,{"$f":"IF(D246=0,\"\",VLOOKUP(D246,'Data Validation'!$C$2:$D$7,2,FALSE))","v":""},4,"0",""]
[null,"8.9. Elaboración de presupuestos","8.9.1. Todos los gerentes participan en un proceso de elaboración de presupuestos que es una parte integral del plan operativo.",null,null,null,{"$f":"IF(D247=0,\"\",VLOOKUP(D247,'Data Validation'!$C$2:$D$7,2,FALSE))","v":""},4,"0","",{"$f":"SUM(I247:I252)","v":0},{"$f":"SUM(J247:J252)","v":0},{"$f":"IF(K247=0,\"\",ROUND(L247/K247,2))","v":""}]
[null,null,"8.9.2. El presupuesto anual muestra tanto los ingresos como los gastos proyectados y cuenta con la aprobación del Director Ejecutivo o de la junta directiva.",null,null,null,{"$f":"IF(D248=0,\"\",VLOOKUP(D248,'Data Validation'!$C$2:$D$7,2,FALSE))","v":""},4,"0",""]
[null,null,"8.9.3. Los presupuestos de los proyectos existentes y las estimaciones para los proyectos propuestos se incorporan al presupuesto anual y se corrigen cuando es necesario.",null,null,null,{"$f":"IF(D249=0,\"\",VLOOKUP(D249,'Data Validation'!$C$2:$D$7,2,FALSE))","v":""},4,"0",""]
[null,null,"8.9.4. Las asignaciones en el proceso de elaboración de presupuestos reflejan estrechamente las prioridades de la organización.",null,null,null,{"$f":"IF(D250=0,\"\",VLOOKUP(D250,'Data Validation'!$C$2:$D$7,2,FALSE))","v":""},4,{"$f":"IF(OR(D250=\"N/A (Not applicable)\",D250=\"\"),\"0\",IF(E250=\"\",\"0\",H250))","v":"0"},{"$f":"IF(D250=\"\",\"\",IF(G250=0,\"0\",G250*I250))","v":""}]
[null,null,"8.9.5. Si varios donadores financian un solo proyecto, los fondos y los gastos relacionados se identifican en forma separada por donador en los registros contables.",null,null,null,{"$f":"IF(D251=0,\"\",VLOOKUP(D251,'Data Validation'!$C$2:$D$7,2,FALSE))","v":""},4,"0",""]
[null,null,"8.9.6. Hay sistemas para controlar el gasto presupuestario.",null,null,null,{"$f":"IF(D252=0,\"\",VLOOKUP(D252,'Data Validation'!$C$2:$D$7,2,FALSE))","v":""},4,"0",""]
["9. Programas, Servicios Y Resultados","9.1. Pericia sectorial","9.1.1. Las áreas de pericia sectorial de la organización la respaldan en el logro de su misión.",null,null,null,{"$f":"IF(D253=0,\"\",VLOOKUP(D253,'Data Validation'!$C$2:$D$7,2,FALSE))","v":""},4,"0","",{"$f":"SUM(I253:I258)","v":0},{"$f":"SUM(J253:J258)","v":0},{"$f":"IF(K253=0,\"\",ROUND(L253/K253,2))","v":""},{"$f":"SUM(I253:I302)","v":0},{"$f":"SUM(J253:J302)","v":0},{"$f":"IF(N253=0,\"\",ROUND(O253/N253,2))","v":""}]
[null,null,"9.1.2. La organización mantiene una base de personal adecuada de expertos sectoriales.",null,null,null,{"$f":"IF(D254=0,\"\",VLOOKUP(D254,'Data Validation'!$C$2:$D$7,2,FALSE))","v":""},4,"0",""]
[null,null,"9.1.3. La organización puede acceder rápidamente a asesores externos temporales para que proporcionen servicios técnicos.",null,null,null,{"$f":"IF(D255=0,\"\",VLOOKUP(D255,'Data Validation'!$C$2:$D$7,2,FALSE))","v":""},4,"0",""]
[null,null,"9.1.4. La organización es reconocida públicamente por proporcionar productos o servicios de calidad a sus partes constituyentes.",null,null,null,{"$f":"IF(D256=0,\"\",VLOOKUP(D256,'Data Validation'!$C$2:$D$7,2,FALSE))","v":""},4,"0",""]
[null,null,"9.1.5. La organización colabora con otros actores de la sociedad civil para diseñar e implementar proyectos que tengan servicios complementarios.",null,null,null,{"$f":"IF(D257=0,\"\",VLOOKUP(D257,'Data Validation'!$C$2:$D$7,2,FALSE))","v":""},4,"0",""]
[null,null,"9.1.6. La organización es capaz de adaptar la entrega de proyectos y servicios a las necesidades cambiantes de las partes constituyentes.",null,null,null,{"$f":"IF(D258=0,\"\",VLOOKUP(D258,'Data Validation'!$C$2:$D$7,2,FALSE))","v":""},4,"0",""]
[null,"9.2. Involucramiento de las partes interesadas en los proyectos","9.2.1. La organización tiene un proceso participativo y estandarizado para efectuar un análisis de las partes interesadas y el personal de los proyectos lo aplica en todos los proyectos.",null,null,null,{"$f":"IF(D259=0,\"\",VLOOKUP(D259,'Data Validation'!$C$2:$D$7,2,FALSE))","v":""},4,"0","",{"$f":"SUM(I259:I263)","v":0},{"$f":"SUM(J259:J263)","v":0},{"$f":"IF(K259=0,\"\",ROUND(L259/K259,2))","v":""}]
[null,null,"9.2.2. Las principales partes interesadas están satisfechas con los servicios, los proyectos y los programas de la organización.",null,null,null,{"$f":"IF(D260=0,\"\",VLOOKUP(D260,'Data Validation'!$C$2:$D$7,2,FALSE))","v":""},4,"0",""]
[null,null,"9.2.3. El personal de los proyectos involucra activamente a las partes interesadas en el diseño, mejoramiento y modificación del proceso de planificación e implementación.",null,null,null,{"$f":"IF(D261=0,\"\",VLOOKUP(D261,'Data Validation'!$C$2:$D$7,2,FALSE))","v":""},4,"0",""]
[null,null,"9.2.4. La organización analiza y diseña proyectos basados en el impacto que causarán en las poblaciones no beneficiarias o de partes interesadas para mitigar los conflictos.",null,null,null,{"$f":"IF(D262=0,\"\",VLOOKUP(D262,'Data Validation'!$C$2:$D$7,2,FALSE))","v":""},4,"0",""]
[null,null,"9.2.5. La organización colabora con las partes interesadas para optimizar el uso de los recursos naturales.",null,null,null,{"$f":"IF(D263=0,\"\",VLOOKUP(D263,'Data Validation'!$C$2:$D$7,2,FALSE))","v":""},4,"0",""]
[null,"9.3. Participación de la comunidad","9.3.1. La organización usa proactivamente las opiniones y comentarios que recibe de la comunidad en todas las fases del desarrollo y la gestión de los proyectos al utilizar grupos representativos de la comunidad elegidos de un modo transparente.",null,null,null,{"$f":"IF(D264=0,\"\",VLOOKUP(D264,'Data Validation'!$C$2:$D$7,2,FALSE))","v":""},4,"0","",{"$f":"SUM(I264:I266)","v":0},{"$f":"SUM(J264:J266)","v":0},{"$f":"IF(K264=0,\"\",ROUND(L264/K264,2))","v":""}]
[null,null,"9.3.2. Los grupos comunitarios tradicionalmente subrepresentados obtienen un beneficio de las actividades de los proyectos.",null,null,null,{"$f":"IF(D265=0,\"\",VLOOKUP(D265,'Data Validation'!$C$2:$D$7,2,FALSE))","v":""},4,"0",""]
[null,null,"9.3.3. Los proyectos se basan normalmente en los conocimientos y las mejores prácticas locales.",null,null,null,{"$f":"IF(D266=0,\"\",VLOOKUP(D266,'Data Validation'!$C$2:$D$7,2,FALSE))","v":""},4,"0",""]
[null,"9.4. Desarrollo de programas","9.4.1. El personal usa un método organizativo específico para diseñar e implementar proyectos.",null,null,null,{"$f":"IF(D267=0,\"\",VLOOKUP(D267,'Data Validation'!$C$2:$D$7,2,FALSE))","v":""},4,"0","",{"$f":"SUM(I267:I274)","v":0},{"$f":"SUM(J267:J274)","v":0},{"$f":"IF(K267=0,\"\",ROUND(L267/K267,2))","v":""}]
[null,null,"9.4.2. Los proyectos diseñados e implementados por el personal respaldan la misión, la estrategia y los principios de la organización.",null,null,null,{"$f":"IF(D268=0,\"\",VLOOKUP(D268,'Data Validation'!$C$2:$D$7,2,FALSE))","v":""},4,"0",""]
[null,null,"9.4.3. La organización usa modalidades participativas y una estrategia de sostenibilidad en los proyectos para elevar el sentido de propiedad de la comunidad.",null,null,null,{"$f":"IF(D269=0,\"\",VLOOKUP(D269,'Data Validation'!$C$2:$D$7,2,FALSE))","v":""},4,"0",""]
[null,null,"9.4.4. La organización documenta y hace cumplir un estándar que garantiza que los proyectos no hagan daño. Las comunidades o poblaciones a las que se sirve se encuentran mejor que sin la intervención.",null,null,null,{"$f":"IF(D270=0,\"\",VLOOKUP(D270,'Data Validation'!$C$2:$D$7,2,FALSE))","v":""},4,"0",""]
[null,null,"9.4.5. Los proyectos desafían las estructuras sociales que limitan la participación plena, los derechos o la dignidad de las personas marginadas.",null,null,null,{"$f":"IF(D271=0,\"\",VLOOKUP(D271,'Data Validation'!$C$2:$D$7,2,FALSE))","v":""},4,"0",""]
[null,null,"9.4.6. Según corresponda, la organización aplica una sólida gestión de los recursos naturales en sus intervenciones.",null,null,null,{"$f":"IF(D272=0,\"\",VLOOKUP(D272,'Data Validation'!$C$2:$D$7,2,FALSE))","v":""},4,"0",""]
[null,null,"9.4.7. Según corresponda, la organización respalda las habilidades de los actores de la sociedad civil para abogar por el cambio social en sus intervenciones.",null,null,null,{"$f":"IF(D273=0,\"\",VLOOKUP(D273,'Data Validation'!$C$2:$D$7,2,FALSE))","v":""},4,"0",""]
[null,null,"9.4.8. La organización transversaliza la equidad de género en el diseño de programas.",null,null,null,{"$f":"IF(D274=0,\"\",VLOOKUP(D274,'Data Validation'!$C$2:$D$7,2,FALSE))","v":""},4,"0",""]
[null,"9.5. Diseño e implementación de proyectos","9.5.1. El personal elabora propuestas lógicas y bien escritas usando el lenguaje del donador.",null,null,null,{"$f":"IF(D275=0,\"\",VLOOKUP(D275,'Data Validation'!$C$2:$D$7,2,FALSE))","v":""},4,"0","",{"$f":"SUM(I275:I281)","v":0},{"$f":"SUM(J275:J281)","v":0},{"$f":"IF(K275=0,\"\",ROUND(L275/K275,2))","v":""}]
[null,null,"9.5.2. El personal elabora documentos de síntesis que proporcionan la información requerida por los donadores.",null,null,null,{"$f":"IF(D276=0,\"\",VLOOKUP(D276,'Data Validation'!$C$2:$D$7,2,FALSE))","v":""},4,"0",""]
[null,null,"9.5.3. El personal presenta propuestas oportunas y que se ajustan a los requisitos (y documentos de síntesis según se soliciten) a los donadores.",null,null,null,{"$f":"IF(D277=0,\"\",VLOOKUP(D277,'Data Validation'!$C$2:$D$7,2,FALSE))","v":""},4,"0",""]
[null,null,"9.5.4. El personal desarrolla objetivos para los proyectos que están orientados a los resultados (resultados/impacto) en lugar de impulsados por aportes o actividades.",null,null,null,{"$f":"IF(D278=0,\"\",VLOOKUP(D278,'Data Validation'!$C$2:$D$7,2,FALSE))","v":""},4,"0",""]
[null,null,"9.5.5. El personal elabora propuestas, presupuestos y notas de presupuesto simultáneamente y el borrador es revisado por pares, quienes dan sus comentarios para mejorarlo.",null,null,null,{"$f":"IF(D279=0,\"\",VLOOKUP(D279,'Data Validation'!$C$2:$D$7,2,FALSE))","v":""},4,"0",""]
[null,null,"9.5.6. La organización desarrolla indicadores de resultados e impacto para sus proyectos.",null,null,null,{"$f":"IF(D280=0,\"\",VLOOKUP(D280,'Data Validation'!$C$2:$D$7,2,FALSE))","v":""},4,"0",""]
[null,null,"9.5.7. La organización controla el progreso en función de los indicadores de impacto.",null,null,null,{"$f":"IF(D281=0,\"\",VLOOKUP(D281,'Data Validation'!$C$2:$D$7,2,FALSE))","v":""},4,"0",""]
[null,"9.6. Supervisión, evaluación y generación de informes","9.6.1. La organización tiene sistemas de supervisión y evaluación bien diseñados que entregan información cuantitativa y cualitativa clara y un análisis de los procesos y resultados de los programas en relación con las metas y los objetivos de los programas.",null,null,null,{"$f":"IF(D282=0,\"\",VLOOKUP(D282,'Data Validation'!$C$2:$D$7,2,FALSE))","v":""},4,"0","",{"$f":"SUM(I282:I288)","v":0},{"$f":"SUM(J282:J288)","v":0},{"$f":"IF(K282=0,\"\",ROUND(L282/K282,2))","v":""}]
[null,null,"9.6.2. La gerencia supervisa, evalúa y genera informes de los proyectos de modo sistemático.",null,null,null,{"$f":"IF(D283=0,\"\",VLOOKUP(D283,'Data Validation'!$C$2:$D$7,2,FALSE))","v":""},4,"0",""]
[null,null,"9.6.3. La organización usa la información reunida a partir de las evaluaciones para desarrollar proyectos más sostenibles.",null,null,null,{"$f":"IF(D284=0,\"\",VLOOKUP(D284,'Data Validation'!$C$2:$D$7,2,FALSE))","v":""},4,"0",""]
[null,null,"9.6.4. La organización usa lo que aprende a partir de las evaluaciones intermedias para modificar su estrategia de proyectos con el fin de alcanzar de mejor modo las metas y los objetivos.",null,null,null,{"$f":"IF(D285=0,\"\",VLOOKUP(D285,'Data Validation'!$C$2:$D$7,2,FALSE))","v":""},4,"0",""]
[null,null,"9.6.5. La organización mide el impacto de sus servicios en los participantes hombres y mujeres.",null,null,null,{"$f":"IF(D286=0,\"\",VLOOKUP(D286,'Data Validation'!$C$2:$D$7,2,FALSE))","v":""},4,"0",""]
[null,null,"9.6.6. El personal del proyecto efectúa evaluaciones continuas de discrepancias en la habilidad de los programas existentes para satisfacer las necesidades de los destinatarios y hace ajustes según sea necesario.",null,null,null,{"$f":"IF(D287=0,\"\",VLOOKUP(D287,'Data Validation'!$C$2:$D$7,2,FALSE))","v":""},4,"0",""]
[null,null,"9.6.7 La organización realiza revisiones de fin de proyecto para medir el cambio o el impacto que se ha producido con las lecciones aprendidas.",null,null,null,{"$f":"IF(D288=0,\"\",VLOOKUP(D288,'Data Validation'!$C$2:$D$7,2,FALSE))","v":""},4,"0",""]
[null,"9.7. Calidad de los servicios","9.7.1. La organización mide la calidad de los servicios que proporciona. Los servicios prestados llegan a los participantes objetivo de los proyectos.",null,null,null,{"$f":"IF(D289=0,\"\",VLOOKUP(D289,'Data Validation'!$C$2:$D$7,2,FALSE))","v":""},4,{"$f":"IF(OR(D289=\"N/A (Not applicable)\",D289=\"\"),\"0\",IF(E289=\"\",\"0\",H289))","v":"0"},{"$f":"IF(D289=\"\",\"\",IF(G289=0,\"0\",G289*I289))","v":""},{"$f":"SUM(I289:I291)","v":0},{"$f":"SUM(J289:J291)","v":0},{"$f":"IF(K289=0,\"\",ROUND(L289/K289,2))","v":""}]
[null,null,"9.7.2. La organización recopila y usa las opiniones y comentarios de los participantes de los proyectos sobre la calidad de los servicios para mejorarlos.",null,null,null,{"$f":"IF(D290=0,\"\",VLOOKUP(D290,'Data Validation'!$C$2:$D$7,2,FALSE))","v":""},4,"0",""]
[null,null,"9.7.3. La calidad de la entrega de los servicios ayuda a la organización a lograr sus estrategias y su misión.",null,null,null,{"$f":"IF(D291=0,\"\",VLOOKUP(D291,'Data Validation'!$C$2:$D$7,2,FALSE))","v":""},4,"0",""]
[null,"9.8. Terminación de proyecto/ Cierre de proyecto","9.8.1 La organización cuenta con planes de transición al comenzar los proyectos de desarrollo comunitario.",null,null,null,{"$f":"IF(D292=0,\"\",VLOOKUP(D292,'Data Validation'!$C$2:$D$7,2,FALSE))","v":""},4,"0","",{"$f":"SUM(I292:I302)","v":0},{"$f":"SUM(J292:J302)","v":0},{"$f":"IF(K292=0,\"\",ROUND(L292/K292,2))","v":""}]
[null,null,"9.8.2 Se refuerza la capacidad de los socios locales para contribuir a una transición eficaz.",null,null,null,{"$f":"IF(D293=0,\"\",VLOOKUP(D293,'Data Validation'!$C$2:$D$7,2,FALSE))","v":""},4,"0",""]
[null,null,"9.8.3 Se movilizan recursos locales para garantizar una transición fluida.",null,null,null,{"$f":"IF(D294=0,\"\",VLOOKUP(D294,'Data Validation'!$C$2:$D$7,2,FALSE))","v":""},4,"0",""]
[null,null,"9.8.4 La organización efectúa un cierre por etapas (terminación gradual escalonada)",null,null,null,{"$f":"IF(D295=0,\"\",VLOOKUP(D295,'Data Validation'!$C$2:$D$7,2,FALSE))","v":""},4,"0",""]
[null,null,"9.8.5 ¿Se ha liberado o reasignado al personal?",null,null,null,{"$f":"IF(D296=0,\"\",VLOOKUP(D296,'Data Validation'!$C$2:$D$7,2,FALSE))","v":""},4,"0",""]
[null,null,"9.8.6 ¿Se han vendido o reasignado el equipo y otros bienes?",null,null,null,{"$f":"IF(D297=0,\"\",VLOOKUP(D297,'Data Validation'!$C$2:$D$7,2,FALSE))","v":""},4,"0",""]
[null,null,"9.8.7 ¿Recibió la organización la totalidad del financiamiento para el proyecto?",null,null,null,{"$f":"IF(D298=0,\"\",VLOOKUP(D298,'Data Validation'!$C$2:$D$7,2,FALSE))","v":""},4,"0",""]
[null,null,"9.8.9 ¿Se liquidaron las cuentas y efectos por cobrar y se pagaron las cuentas por pagar?",null,null,null,{"$f":"IF(D299=0,\"\",VLOOKUP(D299,'Data Validation'!$C$2:$D$7,2,FALSE))","v":""},4,"0",""]
[null,null,"9.8.9 Todos los contratos que suscribió la organización están cerrados.",null,null,null,{"$f":"IF(D300=0,\"\",VLOOKUP(D300,'Data Validation'!$C$2:$D$7,2,FALSE))","v":""},4,"0",""]
[null,null,"9.8.10 El donante tendría que haber recibido, analizado y aceptado los informes y otros productos a entregar.",null,null,null,{"$f":"IF(D301=0,\"\",VLOOKUP(D301,'Data Validation'!$C$2:$D$7,2,FALSE))","v":""},4,"0",""]
[null,null,"9.8.11 La organización documenta y comparte las lecciones aprendidas durante el proyecto de desarrollo comunitario.",null,null,null,{"$f":"IF(D302=0,\"\",VLOOKUP(D302,'Data Validation'!$C$2:$D$7,2,FALSE))","v":""},4,"0",""]
["10. Integración de la Igualdad Entre Los Géneros","10.1. Dimensiones organizacionales: las políticas y su aplicación","10.1.1 La organización cuenta con una política o una estrategia documentada en materia de igualdad entre los géneros.",null,null,null,{"$f":"IF(D303=0,\"\",VLOOKUP(D303,'Data Validation'!$C$2:$D$7,2,FALSE))","v":""},4,"0","",{"$f":"SUM(I303:I310)","v":0},{"$f":"SUM(J303:J310)","v":0},{"$f":"IF(K303=0,\"\",ROUND(L303/K303,2))","v":""},{"$f":"SUM(I303:I331)","v":0},{"$f":"SUM(J303:J331)","v":0},{"$f":"IF(N303=0,\"\",ROUND(O303/N303,2))","v":""}]
[null,null,"10.1.2. La organización cuenta con una política documentada en materia de igualdad de oportunidades.",null,null,null,{"$f":"IF(D304=0,\"\",VLOOKUP(D304,'Data Validation'!$C$2:$D$7,2,FALSE))","v":""},4,"0",""]
[null,null,"10.1.3. La organización dispone de modalidades de trabajo flexibles (por ejemplo, trabajo a domicilio/trabajo a distancia, horario de trabajo alternativo, etc.).",null,null,null,{"$f":"IF(D305=0,\"\",VLOOKUP(D305,'Data Validation'!$C$2:$D$7,2,FALSE))","v":""},4,"0",""]
[null,null,"10.1.4. La organización cuenta con una política documentada en materia de permiso por maternidad.",null,null,null,{"$f":"IF(D306=0,\"\",VLOOKUP(D306,'Data Validation'!$C$2:$D$7,2,FALSE))","v":""},4,"0",""]
[null,null,"10.1.5. La organización cuenta con una política documentada en materia de permiso parental.",null,null,null,{"$f":"IF(D307=0,\"\",VLOOKUP(D307,'Data Validation'!$C$2:$D$7,2,FALSE))","v":""},4,"0",""]
[null,null,"10.1.6. La organización cuenta con una política documentada para permitir al personal ocuparse de sus hijos u otros dependientes. ",null,null,null,{"$f":"IF(D308=0,\"\",VLOOKUP(D308,'Data Validation'!$C$2:$D$7,2,FALSE))","v":""},4,"0",""]
[null,null,"10.1.7. La organización cuenta con una política documentada en materia de prevención y sanción del acoso, incluido el acoso sexual.",null,null,null,{"$f":"IF(D309=0,\"\",VLOOKUP(D309,'Data Validation'!$C$2:$D$7,2,FALSE))","v":""},4,"0",""]
[null,null,"10.1.8. Todo el personal recibe información sobre las políticas mencionadas (10.1.1 a 10.1.7) en el marco del procedimiento de incorporación o de nueva contratación.",null,null,null,{"$f":"IF(D310=0,\"\",VLOOKUP(D310,'Data Validation'!$C$2:$D$7,2,FALSE))","v":""},4,"0",""]
[null,"10.2. Dimensiones organizacionales: dotación de personal, contratación, promoción y retención","10.2.1. El personal de la organización se compone de una proporción equitativa de hombres y mujeres.  ",null,null,null,{"$f":"IF(D311=0,\"\",VLOOKUP(D311,'Data Validation'!$C$2:$D$7,2,FALSE))","v":""},4,"0","",{"$f":"SUM(I311:I317)","v":0},{"$f":"SUM(J311:J317)","v":0},{"$f":"IF(K311=0,\"\",ROUND(L311/K311,2))","v":""}]
[null,null,"10.2.2. Las mujeres y los hombres están representados por igual en el equipo de administración superior de la organización. ",null,null,null,{"$f":"IF(D312=0,\"\",VLOOKUP(D312,'Data Validation'!$C$2:$D$7,2,FALSE))","v":""},4,"0",""]
[null,null,"10.2.3. La organización cuenta con estrategias proactivas para mejorar la proporción de hombres y mujeres en su dotación de personal, en particular a nivel de la administración superior.",null,null,null,{"$f":"IF(D313=0,\"\",VLOOKUP(D313,'Data Validation'!$C$2:$D$7,2,FALSE))","v":""},4,"0",""]
[null,null,"10.2.4. En los procesos de contratación se evalúa la sensibilidad de los candidatos con respecto al género (se incluyen las cuestiones de género en las entrevistas laborales para comprender las actitudes y la experiencia de los candidatos con relación al género) y se toman las decisiones de contratación en consecuencia.",null,null,null,{"$f":"IF(D314=0,\"\",VLOOKUP(D314,'Data Validation'!$C$2:$D$7,2,FALSE))","v":""},4,"0",""]
[null,null,"10.2.5. El personal masculino y femenino —tanto de operaciones como de programas— ha sido capacitados en materia de igualdad entre los géneros.",null,null,null,{"$f":"IF(D315=0,\"\",VLOOKUP(D315,'Data Validation'!$C$2:$D$7,2,FALSE))","v":""},4,"0",""]
[null,null,"10.2.6. En los últimos cinco años la organización ha llevado a cabo un análisis de la igualdad de salarios, para evaluar las posibles disparidades entre los salarios de los funcionarios hombres y mujeres, tras el cual realizó los ajustes necesarios.",null,null,null,{"$f":"IF(D316=0,\"\",VLOOKUP(D316,'Data Validation'!$C$2:$D$7,2,FALSE))","v":""},4,"0",""]
[null,null,"10.2.7. Hay miembros del personal (por ejemplo, asesores en materia de género con responsabilidad de género en el título de su puesto o puntos focales de género con responsabilidad de género en sus planes de desarrollo del desempeño) a quienes se les asigna la responsabilidad formal de incorporar o defender la integración y la igualdad entre los géneros.",null,null,null,{"$f":"IF(D317=0,\"\",VLOOKUP(D317,'Data Validation'!$C$2:$D$7,2,FALSE))","v":""},4,"0",""]
[null,"10.3. Dimensiones organizacionales: entorno laboral y liderazgo","10.3.1. Las instalaciones de la organización son aptas para el personal tanto masculino como femenino (por ejemplo, baños y espacios de oración separados, sala designada para la lactancia, etc.).",null,null,null,{"$f":"IF(D318=0,\"\",VLOOKUP(D318,'Data Validation'!$C$2:$D$7,2,FALSE))","v":""},4,"0","",{"$f":"SUM(I318:I323)","v":0},{"$f":"SUM(J318:J323)","v":0},{"$f":"IF(K318=0,\"\",ROUND(L318/K318,2))","v":""}]
[null,null,"10.3.2. El personal masculino y femenino participa por igual en las reuniones y los procesos de toma de decisiones de la organización.",null,null,null,{"$f":"IF(D319=0,\"\",VLOOKUP(D319,'Data Validation'!$C$2:$D$7,2,FALSE))","v":""},4,"0",""]
[null,null,"10.3.3. El personal de ambos sexos recibe y aprovecha oportunidades de formación y desarrollo profesional de manera equitativa.",null,null,null,{"$f":"IF(D320=0,\"\",VLOOKUP(D320,'Data Validation'!$C$2:$D$7,2,FALSE))","v":""},4,"0",""]
[null,null,"10.3.4. Los dirigentes o los principales gerentes de la organización respetan los diferentes estilos de trabajo, incluida la manera en que los hombres tienden a trabajar y la manera en que las mujeres tienden a trabajar.",null,null,null,{"$f":"IF(D321=0,\"\",VLOOKUP(D321,'Data Validation'!$C$2:$D$7,2,FALSE))","v":""},4,"0",""]
[null,null,"10.3.5. Los dirigentes o los principales gerentes de la organización toman en serio las cuestiones y los desafíos relacionados con la igualdad entre los géneros y discuten abiertamente sobre estos temas.",null,null,null,{"$f":"IF(D322=0,\"\",VLOOKUP(D322,'Data Validation'!$C$2:$D$7,2,FALSE))","v":""},4,"0",""]
[null,null,"10.3.6. Los dirigentes o los principales gerentes de la organización promueven y adoptan comportamientos que tienen en cuenta la perspectiva de género, sobre todo en lo que respecta al lenguaje utilizado y la adecuación de los chistes y los comentarios entre los miembros del personal.",null,null,null,{"$f":"IF(D323=0,\"\",VLOOKUP(D323,'Data Validation'!$C$2:$D$7,2,FALSE))","v":""},4,"0",""]
[null,"10.4. Dimensiones de la programación: planificación, diseño y ejecución de programas","10.4.1. Los análisis de género se realizan sistemáticamente durante la fase de diseño de un proyecto e incluyen un examen de las funciones y las responsabilidades de género; las disparidades en el acceso a los recursos y el control de los mismos; y las funciones asociadas al género en los procesos de toma de decisiones.",null,null,null,{"$f":"IF(D324=0,\"\",VLOOKUP(D324,'Data Validation'!$C$2:$D$7,2,FALSE))","v":""},4,"0","",{"$f":"SUM(I324:I327)","v":0},{"$f":"SUM(J324:J327)","v":0},{"$f":"IF(K324=0,\"\",ROUND(L324/K324,2))","v":""}]
[null,null,"10.4.2. Los proyectos abordan las disparidades de género en las funciones y las responsabilidades, el tiempo, el control de los recursos, el poder en la toma de decisiones y las normas socioculturales no equitativas y benefician a las mujeres, los hombres, las niñas y los niños de manera equitativa.",null,null,null,{"$f":"IF(D325=0,\"\",VLOOKUP(D325,'Data Validation'!$C$2:$D$7,2,FALSE))","v":""},4,"0",""]
[null,null,"10.4.3. El diseño y la ejecución de los proyectos incluyen medidas de mitigación de las consecuencias negativas imprevistas, como la violencia de género y el aumento de la carga de trabajo de mujeres y niñas.",null,null,null,{"$f":"IF(D326=0,\"\",VLOOKUP(D326,'Data Validation'!$C$2:$D$7,2,FALSE))","v":""},4,"0",""]
[null,null,"10.4.4. En todos los proyectos se presupuestan actividades específicamente para temas de género (por ejemplo, análisis de género, actividades de cambio de comportamiento social relacionado con el género, capacitación en materia de género, habilidades de liderazgo y negociación para mujeres, tecnologías de ahorro de tiempo y trabajo, etc.).",null,null,null,{"$f":"IF(D327=0,\"\",VLOOKUP(D327,'Data Validation'!$C$2:$D$7,2,FALSE))","v":""},4,"0",""]
[null,"10.5. Dimensiones de la programación: seguimiento, evaluación y aprendizaje","10.5.1. Todos los datos recopilados para los proyectos se desglosan por sexo y edad durante los procesos de recopilación, análisis y presentación de informes.",null,null,null,{"$f":"IF(D328=0,\"\",VLOOKUP(D328,'Data Validation'!$C$2:$D$7,2,FALSE))","v":""},4,"0","",{"$f":"SUM(I328:I331)","v":0},{"$f":"SUM(J328:J331)","v":0},{"$f":"IF(K328=0,\"\",ROUND(L328/K328,2))","v":""}]
[null,null,"10.5.2. El sistema de seguimiento y evaluación del proyecto incluye indicadores que tienen en cuenta la perspectiva de género para observar los cambios en las disparidades de género, en particular en las funciones y las responsabilidades, el tiempo, el acceso a los recursos y el control de los mismos, el poder en la toma de decisiones y para hacer un seguimiento de las consecuencias imprevistas.  ",null,null,null,{"$f":"IF(D329=0,\"\",VLOOKUP(D329,'Data Validation'!$C$2:$D$7,2,FALSE))","v":""},4,"0",""]
[null,null,"10.5.3. Se evalúan los efectos de los proyectos en las relaciones y la igualdad entre los géneros (por ejemplo, en qué medida las intervenciones de los proyectos han repercutido de manera positiva en los resultados de la igualdad entre los géneros, los cambios en el poder de toma de decisiones, la identificación de consecuencias imprevistas, etc.).",null,null,null,{"$f":"IF(D330=0,\"\",VLOOKUP(D330,'Data Validation'!$C$2:$D$7,2,FALSE))","v":""},4,"0",""]
[null,null,"10.5.4. Las lecciones aprendidas y las buenas prácticas con relación al género se compilan, se documentan y se comparten sistemáticamente durante la ejecución del programa y con posterioridad a ella.",null,null,null,{"$f":"IF(D331=0,\"\",VLOOKUP(D331,'Data Validation'!$C$2:$D$7,2,FALSE))","v":""},4,"0",""]

{"sheet":"Step 3. Resultados del IHECO","index":5,"n_rows":59,"n_cols":15,"rows_kept":59,"cut":false,"hidden":false,"merged":[[46,0,53,1],[53,2,53,4],[47,2,47,4],[37,0,45,1],[37,2,37,4],[38,2,38,4],[39,2,39,4],[40,2,40,4],[41,2,41,4],[42,2,42,4],[43,2,43,4],[44,2,44,4],[45,2,45,4],[37,7,45,7],[37,8,45,8],[46,7,53,7],[46,8,53,8],[56,2,56,4],[54,8,58,8],[46,2,46,4],[50,2,50,4],[51,2,51,4],[52,2,52,4],[48,2,48,4],[49,2,49,4],[57,2,57,4],[58,2,58,4],[54,0,58,1],[54,2,54,4],[54,7,58,7],[55,2,55,4],[1,0,1,8],[2,0,2,1],[3,0,8,1],[9,0,12,1],[2,7,2,8],[2,5,2,6],[2,2,2,4],[3,2,3,4],[4,2,4,4],[5,2,5,4],[6,2,6,4],[7,2,7,4],[8,2,8,4],[9,2,9,4],[11,2,11,4],[12,2,12,4],[33,2,33,4],[19,2,19,4],[30,2,30,4],[34,2,34,4],[10,2,10,4],[3,7,8,7],[3,8,8,8],[9,7,12,7],[29,2,29,4],[22,8,25,8],[26,7,29,7],[26,8,29,8],[30,7,36,7],[30,8,36,8],[22,7,25,7],[9,8,12,8],[13,7,17,7],[13,8,17,8],[18,7,21,7],[18,8,21,8],[14,2,14,4],[15,2,15,4],[16,2,16,4],[26,0,29,1],[22,2,22,4],[23,2,23,4],[18,0,21,1],[22,0,25,1],[24,2,24,4],[0,0,0,8],[31,2,31,4],[32,2,32,4],[25,2,25,4],[26,2,26,4],[28,2,28,4],[30,0,36,1],[27,2,27,4],[35,2,35,4],[36,2,36,4],[13,0,17,1],[13,2,13,4],[17,2,17,4],[18,2,18,4],[20,2,20,4],[21,2,21,4]]}
[]
["Resultados del IHECO, Compliados"]
["Área de Ccapacidad General",null,"Componente",null,null,"Porcentaje de comp.",null,"Porcentaje de áreas"]
[{"$f":"'Step 2. IHECO'!$A$5","v":"1. Identidad Y Gobernanza"},null,{"$f":"'Step 2. IHECO'!$B$5","v":"1.1. Gobernanza"},null,null,{"$f":"IF(G4=\"\",\"\",IF(G4<0.75,IF(G4<0.5,IF(G4<0.25,\"Pobre\",\"Débiles\"),\"Bueno\"),\"Fuetre\"))","v":""},{"$f":"IF('Step 2. IHECO'!$M$5=\"\",\"\",'Step 2. IHECO'!$M$5)","v":""},{"$f":"IF(I4=\"\",\"\",IF(I4<0.75,IF(I4<0.5,IF(I4<0.25,\"Pobre\",\"Débiles\"),\"Bueno\"),\"Fuetre\"))","v":""},{"$f":"IF('Step 2. IHECO'!$P$5=\"\",\"\",'Step 2. IHECO'!$P$5)","v":""}]
[null,null,{"$f":"'Step 2. IHECO'!$B$9","v":"1.2. Misión, visión y valores"},null,null,{"$f":"IF(G5=\"\",\"\",IF(G5<0.75,IF(G5<0.5,IF(G5<0.25,\"Pobre\",\"Débiles\"),\"Bueno\"),\"Fuetre\"))","v":""},{"$f":"IF('Step 2. IHECO'!$M$9=\"\",\"\",'Step 2. IHECO'!$M$9)","v":""}]
[null,null,{"$f":"'Step 2. IHECO'!$B$18","v":"1.3. Participación de las partes interesadas"},null,null,"",{"$f":"IF('Step 2. IHECO'!$M$18=\"\",\"\",'Step 2. IHECO'!$M$18)","v":""}]
[null,null,{"$f":"'Step 2. IHECO'!$B$21","v":"1.4. Constitución de la organización"},null,null,"",{"$f":"IF('Step 2. IHECO'!$M$21=\"\",\"\",'Step 2. IHECO'!$M$21)","v":""}]
[null,null,{"$f":"'Step 2. IHECO'!$B$23","v":"1.5. Cultura de la organización"},null,null,"",{"$f":"IF('Step 2. IHECO'!$M$23=\"\",\"\",'Step 2. IHECO'!$M$23)","v":""}]
[null,null,{"$f":"'Step 2. IHECO'!$B$27","v":"1.6. Estructura organizativa"},null,null,"",{"$f":"IF('Step 2. IHECO'!$M$27=\"\",\"\",'Step 2. IHECO'!$M$27)","v":""}]
[{"$f":"'Step 2. IHECO'!$A$34","v":"2. Estrategia Y Planificación"},null,{"$f":"'Step 2. IHECO'!$B$34","v":"2.1. Proceso de planificación general"},null,null,"",{"$f":"IF('Step 2. IHECO'!$M$34=\"\",\"\",'Step 2. IHECO'!$M$34)","v":""},{"$f":"IF(I10=\"\",\"\",IF(I10<0.75,IF(I10<0.5,IF(I10<0.25,\"Pobre\",\"Débiles\"),\"Bueno\"),\"Fuetre\"))","v":""},{"$f":"IF('Step 2. IHECO'!$P$34=\"\",\"\",'Step 2. IHECO'!$P$34)","v":""}]
[null,null,{"$f":"'Step 2. IHECO'!$B$40","v":"2.2. Planificación estratégica"},null,null,"",{"$f":"IF('Step 2. IHECO'!$M$40=\"\",\"\",'Step 2. IHECO'!$M$40)","v":""}]
[null,null,{"$f":"'Step 2. IHECO'!$B$53","v":"2.3. Planes operativos"},null,null,"",{"$f":"IF('Step 2. IHECO'!$M$53=\"\",\"\",'Step 2. IHECO'!$M$53)","v":""}]
[null,null,{"$f":"'Step 2. IHECO'!$B$60","v":"2.4. Supervisión de los planes estratégicos y operativos"},null,null,"",{"$f":"IF('Step 2. IHECO'!$M$60=\"\",\"\",'Step 2. IHECO'!$M$60)","v":""}]
[{"$f":"'Step 2. IHECO'!$A$62","v":"3. Gestión General"},null,{"$f":"'Step 2. IHECO'!$B$62","v":"3.1. Gerencia"},null,null,"",{"$f":"IF('Step 2. IHECO'!$M$62=\"\",\"\",'Step 2. IHECO'!$M$62)","v":""},{"$f":"IF(I14=\"\",\"\",IF(I14<0.75,IF(I14<0.5,IF(I14<0.25,\"Pobre\",\"Débiles\"),\"Bueno\"),\"Fuetre\"))","v":""},{"$f":"IF('Step 2. IHECO'!$P$62=\"\",\"\",'Step 2. IHECO'!$P$62)","v":""}]
[null,null,{"$f":"'Step 2. IHECO'!$B$68","v":"3.2. Gestión de la generación de informes y de la información"},null,null,"",{"$f":"IF('Step 2. IHECO'!$M$68=\"\",\"\",'Step 2. IHECO'!$M$68)","v":""}]
[null,null,{"$f":"'Step 2. IHECO'!$B$72","v":"3.3. Relaciones de equipo"},null,null,"",{"$f":"IF('Step 2. IHECO'!$M$72=\"\",\"\",'Step 2. IHECO'!$M$72)","v":""}]
[null,null,{"$f":"'Step 2. IHECO'!$B$75","v":"3.4. Gestión de cambios"},null,null,"",{"$f":"IF('Step 2. IHECO'!$M$75=\"\",\"\",'Step 2. IHECO'!$M$75)","v":""},null,null,null,null,null,null,null,","]
[null,null,{"$f":"'Step 2. IHECO'!$B$77","v":"3.5. Gestión de riesgos"},null,null,"",{"$f":"IF('Step 2. IHECO'!$M$77=\"\",\"\",'Step 2. IHECO'!$M$77)","v":""}]
[{"$f":"'Step 2. IHECO'!$A$88","v":"4. Relaciones Externas Y Asociaciones"},null,{"$f":"'Step 2. IHECO'!$B$88","v":"4.1. Relaciones con los encargados de elaborar políticas"},null,null,"",{"$f":"IF('Step 2. IHECO'!$M$88=\"\",\"\",'Step 2. IHECO'!$M$88)","v":""},{"$f":"IF(I19=\"\",\"\",IF(I19<0.75,IF(I19<0.5,IF(I19<0.25,\"Pobre\",\"Débiles\"),\"Bueno\"),\"Fuetre\"))","v":""},{"$f":"IF('Step 2. IHECO'!$P$88=\"\",\"\",'Step 2. IHECO'!$P$88)","v":""}]
[null,null,{"$f":"'Step 2. IHECO'!$B$94","v":"4.2. Asociaciones"},null,null,"",{"$f":"IF('Step 2. IHECO'!$M$94=\"\",\"\",'Step 2. IHECO'!$M$94)","v":""}]
[null,null,{"$f":"'Step 2. IHECO'!$B$100","v":"4.3. Relaciones con los donadores"},null,null,"",{"$f":"IF('Step 2. IHECO'!$M$100=\"\",\"\",'Step 2. IHECO'!$M$100)","v":""}]
[null,null,{"$f":"'Step 2. IHECO'!$B$102","v":"4.4. Relaciones públicas"},null,null,"",{"$f":"IF('Step 2. IHECO'!$M$102=\"\",\"\",'Step 2. IHECO'!$M$102)","v":""}]
[{"$f":"'Step 2. IHECO'!$A$104","v":"5. Sostenibilidad"},null,{"$f":"'Step 2. IHECO'!$B$104","v":"5.1. Sostenibilidad del programa"},null,null,"",{"$f":"IF('Step 2. IHECO'!$M$104=\"\",\"\",'Step 2. IHECO'!$M$104)","v":""},{"$f":"IF(I23=\"\",\"\",IF(I23<0.75,IF(I23<0.5,IF(I23<0.25,\"Pobre\",\"Débiles\"),\"Bueno\"),\"Fuetre\"))","v":""},{"$f":"IF('Step 2. IHECO'!$P$104=\"\",\"\",'Step 2. IHECO'!$P$104)","v":""}]
[null,null,{"$f":"'Step 2. IHECO'!$B$114","v":"5.2. Sostenibilidad organizativa"},null,null,"",{"$f":"IF('Step 2. IHECO'!$M$114=\"\",\"\",'Step 2. IHECO'!$M$114)","v":""}]
[null,null,{"$f":"'Step 2. IHECO'!$B$120","v":"5.3. Sostenibilidad financiera y de recursos"},null,null,"",{"$f":"IF('Step 2. IHECO'!$M$120=\"\",\"\",'Step 2. IHECO'!$M$120)","v":""}]
[null,null,{"$f":"'Step 2. IHECO'!$B$137","v":"5.4. Sostenibilidad política"},null,null,"",{"$f":"IF('Step 2. IHECO'!$M$137=\"\",\"\",'Step 2. IHECO'!$M$137)","v":""}]
[{"$f":"'Step 2. IHECO'!$A$145","v":"6. Aprendizaj E Organizativo"},null,{"$f":"'Step 2. IHECO'!$B$145","v":"6.1. Estrategia de aprendizaje organizativo"},null,null,"",{"$f":"IF('Step 2. IHECO'!$M$145=\"\",\"\",'Step 2. IHECO'!$M$145)","v":""},{"$f":"IF(I27=\"\",\"\",IF(I27<0.75,IF(I27<0.5,IF(I27<0.25,\"Pobre\",\"Débiles\"),\"Bueno\"),\"Fuetre\"))","v":""},{"$f":"IF('Step 2. IHECO'!$P$145=\"\",\"\",'Step 2. IHECO'!$P$145)","v":""}]
[null,null,{"$f":"'Step 2. IHECO'!$B$151","v":"6.2. Procesos de reflexión crítica"},null,null,"",{"$f":"IF('Step 2. IHECO'!$M$151=\"\",\"\",'Step 2. IHECO'!$M$151)","v":""}]
[null,null,{"$f":"'Step 2. IHECO'!$B$154","v":"6.3. Documentación, almacenamiento e intercambio de conocimientos"},null,null,"",{"$f":"IF('Step 2. IHECO'!$M$154=\"\",\"\",'Step 2. IHECO'!$M$154)","v":""}]
[null,null,{"$f":"'Step 2. IHECO'!$B$159","v":"6.4. Comunidades de práctica"},null,null,"",{"$f":"IF('Step 2. IHECO'!$M$159=\"\",\"\",'Step 2. IHECO'!$M$159)","v":""}]
[{"$f":"'Step 2. IHECO'!$A$163","v":"7. Gestión De Recursos Humanos"},null,{"$f":"'Step 2. IHECO'!$B$163","v":"7.1. Capacidad de recursos humanos"},null,null,"",{"$f":"IF('Step 2. IHECO'!$M$163=\"\",\"\",'Step 2. IHECO'!$M$163)","v":""},{"$f":"IF(I31=\"\",\"\",IF(I31<0.75,IF(I31<0.5,IF(I31<0.25,\"Pobre\",\"Débiles\"),\"Bueno\"),\"Fuetre\"))","v":""},{"$f":"IF('Step 2. IHECO'!$P$163=\"\",\"\",'Step 2. IHECO'!$P$163)","v":""}]
[null,null,{"$f":"'Step 2. IHECO'!$B$170","v":"7.2. Sistemas de gestión de recursos humanos"},null,null,"",{"$f":"IF('Step 2. IHECO'!$M$170=\"\",\"\",'Step 2. IHECO'!$M$170)","v":""}]
[null,null,{"$f":"'Step 2. IHECO'!$B$177","v":"7.3. Reclutamiento y dotación de personal"},null,null,"",{"$f":"IF('Step 2. IHECO'!$M$177=\"\",\"\",'Step 2. IHECO'!$M$177)","v":""}]
[null,null,{"$f":"'Step 2. IHECO'!$B$185","v":"7.4. Compensación y beneficios"},null,null,"",{"$f":"IF('Step 2. IHECO'!$M$185=\"\",\"\",'Step 2. IHECO'!$M$185)","v":""}]
[null,null,{"$f":"'Step 2. IHECO'!$B$188","v":"7.5. Sistemas de gestión del desempeño"},null,null,"",{"$f":"IF('Step 2. IHECO'!$M$188=\"\",\"\",'Step 2. IHECO'!$M$188)","v":""}]
[null,null,{"$f":"'Step 2. IHECO'!$B$192","v":"7.6. Desarrollo del personal"},null,null,"",{"$f":"IF('Step 2. IHECO'!$M$192=\"\",\"\",'Step 2. IHECO'!$M$192)","v":""}]
[null,null,{"$f":"'Step 2. IHECO'!$B$199","v":"7.7. Resolución de quejas y manejo de conflictos"},null,null,"",{"$f":"IF('Step 2. IHECO'!$M$199=\"\",\"\",'Step 2. IHECO'!$M$199)","v":""}]
[{"$f":"'Step 2. IHECO'!$A$202","v":"8. Gestión De Recursos Financieros Y Físicos"},null,{"$f":"'Step 2. IHECO'!$B$202","v":"8.1. Personal financiero"},null,null,"",{"$f":"IF('Step 2. IHECO'!$M$202=\"\",\"\",'Step 2. IHECO'!$M$202)","v":""},{"$f":"IF(I38=\"\",\"\",IF(I38<0.75,IF(I38<0.5,IF(I38<0.25,\"Pobre\",\"Débiles\"),\"Bueno\"),\"Fuetre\"))","v":""},{"$f":"IF('Step 2. IHECO'!$P$202=\"\",\"\",'Step 2. IHECO'!$P$202)","v":""}]
[null,null,{"$f":"'Step 2. IHECO'!$B$204","v":"8.2. Sistemas financieros"},null,null,"",{"$f":"IF('Step 2. IHECO'!$M$204=\"\",\"\",'Step 2. IHECO'!$M$204)","v":""}]
[null,null,{"$f":"'Step 2. IHECO'!$B$210","v":"8.3. Documentación y mantenimiento de registros"},null,null,"",{"$f":"IF('Step 2. IHECO'!$M$210=\"\",\"\",'Step 2. IHECO'!$M$210)","v":""}]
[null,null,{"$f":"'Step 2. IHECO'!$B$213","v":"8.4. Control interno"},null,null,"",{"$f":"IF('Step 2. IHECO'!$M$213=\"\",\"\",'Step 2. IHECO'!$M$213)","v":""}]
[null,null,{"$f":"'Step 2. IHECO'!$B$223","v":"8.5. Generación de informes financieros"},null,null,"",{"$f":"IF('Step 2. IHECO'!$M$223=\"\",\"\",'Step 2. IHECO'!$M$223)","v":""}]
[null,null,{"$f":"'Step 2. IHECO'!$B$228","v":"8.6. Gestión del inventario"},null,null,"",{"$f":"IF('Step 2. IHECO'!$M$228=\"\",\"\",'Step 2. IHECO'!$M$228)","v":""}]
[null,null,{"$f":"'Step 2. IHECO'!$B$237","v":"8.7. Propiedad, planta y equipo"},null,null,"",{"$f":"IF('Step 2. IHECO'!$M$237=\"\",\"\",'Step 2. IHECO'!$M$237)","v":""}]
[null,null,{"$f":"'Step 2. IHECO'!$B$243","v":"8.8. Gestión de cuentas por cobrar"},null,null,"",{"$f":"IF('Step 2. IHECO'!$M$243=\"\",\"\",'Step 2. IHECO'!$M$243)","v":""}]
[null,null,{"$f":"'Step 2. IHECO'!$B$247","v":"8.9. Elaboración de presupuestos"},null,null,"",{"$f":"IF('Step 2. IHECO'!$M$247=\"\",\"\",'Step 2. IHECO'!$M$247)","v":""}]
[{"$f":"'Step 2. IHECO'!$A$253","v":"9. Programas, Servicios Y Resultados"},null,{"$f":"'Step 2. IHECO'!$B$253","v":"9.1. Pericia sectorial"},null,null,"",{"$f":"IF('Step 2. IHECO'!$M$253=\"\",\"\",'Step 2. IHECO'!$M$253)","v":""},{"$f":"IF(I47=\"\",\"\",IF(I47<0.75,IF(I47<0.5,IF(I47<0.25,\"Pobre\",\"Débiles\"),\"Bueno\"),\"Fuetre\"))","v":""},{"$f":"IF('Step 2. IHECO'!$P$253=\"\",\"\",'Step 2. IHECO'!$P$253)","v":""}]
[null,null,{"$f":"'Step 2. IHECO'!$B$259","v":"9.2. Involucramiento de las partes interesadas en los proyectos"},null,null,"",{"$f":"IF('Step 2. IHECO'!$M$259=\"\",\"\",'Step 2. IHECO'!$M$259)","v":""}]
[null,null,{"$f":"'Step 2. IHECO'!$B$264","v":"9.3. Participación de la comunidad"},null,null,"",{"$f":"IF('Step 2. IHECO'!$M$264=\"\",\"\",'Step 2. IHECO'!$M$264)","v":""}]
[null,null,{"$f":"'Step 2. IHECO'!$B$267","v":"9.4. Desarrollo de programas"},null,null,"",{"$f":"IF('Step 2. IHECO'!$M$267=\"\",\"\",'Step 2. IHECO'!$M$267)","v":""}]
[null,null,{"$f":"'Step 2. IHECO'!$B$275","v":"9.5. Diseño e implementación de proyectos"},null,null,"",{"$f":"IF('Step 2. IHECO'!$M$275=\"\",\"\",'Step 2. IHECO'!$M$275)","v":""}]
[null,null,{"$f":"'Step 2. IHECO'!$B$282","v":"9.6. Supervisión, evaluación y generación de informes"},null,null,"",{"$f":"IF('Step 2. IHECO'!$M$282=\"\",\"\",'Step 2. IHECO'!$M$282)","v":""}]
[null,null,{"$f":"'Step 2. IHECO'!$B$289","v":"9.7. Calidad de los servicios"},null,null,"",{"$f":"IF('Step 2. IHECO'!$M$289=\"\",\"\",'Step 2. IHECO'!$M$289)","v":""}]
[null,null,{"$f":"'Step 2. IHECO'!$B$292","v":"9.8. Terminación de proyecto/ Cierre de proyecto"},null,null,"",{"$f":"IF('Step 2. IHECO'!$M$292=\"\",\"\",'Step 2. IHECO'!$M$292)","v":""}]
[{"$f":"'Step 2. IHECO'!$A$303","v":"10. Integración de la Igualdad Entre Los Géneros"},null,{"$f":"'Step 2. IHECO'!$B$303","v":"10.1. Dimensiones organizacionales: las políticas y su aplicación"},null,null,{"$f":"IF(G55=\"\",\"\",IF(G55<0.75,IF(G55<0.5,IF(G55<0.25,\"Pobre\",\"Débiles\"),\"Bueno\"),\"Fuetre\"))","v":""},{"$f":"IF('Step 2. IHECO'!$M$303=\"\",\"\",'Step 2. IHECO'!$M$303)","v":""},{"$f":"IF(I55=\"\",\"\",IF(I55<0.75,IF(I55<0.5,IF(I55<0.25,\"Pobre\",\"Débiles\"),\"Bueno\"),\"Fuetre\"))","v":""},{"$f":"IF('Step 2. IHECO'!$P$303=\"\",\"\",'Step 2. IHECO'!$P$303)","v":""}]
[null,null,{"$f":"'Step 2. IHECO'!$B$311","v":"10.2. Dimensiones organizacionales: dotación de personal, contratación, promoción y retención"},null,null,"",{"$f":"IF('Step 2. IHECO'!$M$311=\"\",\"\",'Step 2. IHECO'!$M$311)","v":""}]
[null,null,{"$f":"'Step 2. IHECO'!$B$318","v":"10.3. Dimensiones organizacionales: entorno laboral y liderazgo"},null,null,"",{"$f":"IF('Step 2. IHECO'!$M$318=\"\",\"\",'Step 2. IHECO'!$M$318)","v":""}]
[null,null,{"$f":"'Step 2. IHECO'!$B$324","v":"10.4. Dimensiones de la programación: planificación, diseño y ejecución de programas"},null,null,"",{"$f":"IF('Step 2. IHECO'!$M$324=\"\",\"\",'Step 2. IHECO'!$M$324)","v":""}]
[null,null,{"$f":"'Step 2. IHECO'!$B$328","v":"10.5. Dimensiones de la programación: seguimiento, evaluación y aprendizaje"},null,null,"",{"$f":"IF('Step 2. IHECO'!$M$328=\"\",\"\",'Step 2. IHECO'!$M$328)","v":""}]

{"sheet":"Step 4. Plan de Acción","index":6,"n_rows":155,"n_cols":15,"rows_kept":155,"cut":false,"hidden":false,"merged":[[3,0,3,14],[2,0,2,11],[2,12,2,14],[1,0,1,14],[0,0,0,14]]}
[]
["Plan de Acción"]
["Para completar durante la planificación",null,null,null,null,null,null,null,null,null,null,null,"Para completar después de la puesta en marcha"]
["POR FAVOR RECUERDE LEER LAS INSTRUCCIONES ANTES DE COMENZAR!!!"]
["Número de línea","Área de capacidad","Sub área de capacidad","Enunciado observable","Enunciado del problema","Enfoque en materia de fortalecimiento de capacidades","Intervención/método","Descripción de la intervención","Plazo","Persona(s) responsable(s)","Costo estimado, en dólares estadounidenses\n(Del presupuesto)","Beneficiarios directos previstos","Costo real (en Moneda Local)","Costo real (en dólares estadounidenses, cambie la tasa de conversión en la pestaña de presupuesto)","Beneficiarios directos reales"]
[{"$f":"IF(B6=\"\",\"\",1)","v":""},null,null,null,null,null,null,null,null,null,{"$f":"IF('Step 5. Presupuesto'!H6=0,\"\",'Step 5. Presupuesto'!H6)","v":""},null,null,{"$f":"IF(M6=\"\",\"\",(M6*('Step 5. Presupuesto'!$G$4/'Step 5. Presupuesto'!$H$4)))","v":""}]
[{"$f":"IF(B7=\"\",\"\",A6+1)","v":""},null,null,null,null,null,null,null,null,null,{"$f":"IF('Step 5. Presupuesto'!H20=0,\"\",'Step 5. Presupuesto'!H20)","v":""},null,null,{"$f":"IF(M7=\"\",\"\",(M7*('Step 5. Presupuesto'!$G$4/'Step 5. Presupuesto'!$H$4)))","v":""}]
[{"$f":"IF(B8=\"\",\"\",A7+1)","v":""},null,null,null,null,null,null,null,null,null,{"$f":"IF('Step 5. Presupuesto'!H21=0,\"\",'Step 5. Presupuesto'!H21)","v":""},null,null,{"$f":"IF(M8=\"\",\"\",(M8*('Step 5. Presupuesto'!$G$4/'Step 5. Presupuesto'!$H$4)))","v":""}]
["",null,null,null,null,null,null,null,null,null,{"$f":"IF('Step 5. Presupuesto'!H22=0,\"\",'Step 5. Presupuesto'!H22)","v":""},null,null,{"$f":"IF(M9=\"\",\"\",(M9*('Step 5. Presupuesto'!$G$4/'Step 5. Presupuesto'!$H$4)))","v":""}]
["",null,null,null,null,null,null,null,null,null,{"$f":"IF('Step 5. Presupuesto'!H23=0,\"\",'Step 5. Presupuesto'!H23)","v":""},null,null,{"$f":"IF(M10=\"\",\"\",(M10*('Step 5. Presupuesto'!$G$4/'Step 5. Presupuesto'!$H$4)))","v":""}]
["",null,null,null,null,null,null,null,null,null,{"$f":"IF('Step 5. Presupuesto'!H24=0,\"\",'Step 5. Presupuesto'!H24)","v":""},null,null,{"$f":"IF(M11=\"\",\"\",(M11*('Step 5. Presupuesto'!$G$4/'Step 5. Presupuesto'!$H$4)))","v":""}]
["",null,null,null,null,null,null,null,null,null,{"$f":"IF('Step 5. Presupuesto'!H25=0,\"\",'Step 5. Presupuesto'!H25)","v":""},null,null,{"$f":"IF(M12=\"\",\"\",(M12*('Step 5. Presupuesto'!$G$4/'Step 5. Presupuesto'!$H$4)))","v":""}]
["",null,null,null,null,null,null,null,null,null,{"$f":"IF('Step 5. Presupuesto'!H26=0,\"\",'Step 5. Presupuesto'!H26)","v":""},null,null,{"$f":"IF(M13=\"\",\"\",(M13*('Step 5. Presupuesto'!$G$4/'Step 5. Presupuesto'!$H$4)))","v":""}]
["",null,null,null,null,null,null,null,null,null,{"$f":"IF('Step 5. Presupuesto'!H27=0,\"\",'Step 5. Presupuesto'!H27)","v":""},null,null,{"$f":"IF(M14=\"\",\"\",(M14*('Step 5. Presupuesto'!$G$4/'Step 5. Presupuesto'!$H$4)))","v":""}]
["",null,null,null,null,null,null,null,null,null,{"$f":"IF('Step 5. Presupuesto'!H28=0,\"\",'Step 5. Presupuesto'!H28)","v":""},null,null,{"$f":"IF(M15=\"\",\"\",(M15*('Step 5. Presupuesto'!$G$4/'Step 5. Presupuesto'!$H$4)))","v":""}]
["",null,null,null,null,null,null,null,null,null,{"$f":"IF('Step 5. Presupuesto'!H29=0,\"\",'Step 5. Presupuesto'!H29)","v":""},null,null,{"$f":"IF(M16=\"\",\"\",(M16*('Step 5. Presupuesto'!$G$4/'Step 5. Presupuesto'!$H$4)))","v":""}]
["",null,null,null,null,null,null,null,null,null,{"$f":"IF('Step 5. Presupuesto'!H30=0,\"\",'Step 5. Presupuesto'!H30)","v":""},null,null,{"$f":"IF(M17=\"\",\"\",(M17*('Step 5. Presupuesto'!$G$4/'Step 5. Presupuesto'!$H$4)))","v":""}]
["",null,null,null,null,null,null,null,null,null,{"$f":"IF('Step 5. Presupuesto'!H31=0,\"\",'Step 5. Presupuesto'!H31)","v":""},null,null,{"$f":"IF(M18=\"\",\"\",(M18*('Step 5. Presupuesto'!$G$4/'Step 5. Presupuesto'!$H$4)))","v":""}]
["",null,null,null,null,null,null,null,null,null,{"$f":"IF('Step 5. Presupuesto'!H32=0,\"\",'Step 5. Presupuesto'!H32)","v":""},null,null,{"$f":"IF(M19=\"\",\"\",(M19*('Step 5. Presupuesto'!$G$4/'Step 5. Presupuesto'!$H$4)))","v":""}]
["",null,null,null,null,null,null,null,null,null,{"$f":"IF('Step 5. Presupuesto'!H33=0,\"\",'Step 5. Presupuesto'!H33)","v":""},null,null,{"$f":"IF(M20=\"\",\"\",(M20*('Step 5. Presupuesto'!$G$4/'Step 5. Presupuesto'!$H$4)))","v":""}]
["",null,null,null,null,null,null,null,null,null,{"$f":"IF('Step 5. Presupuesto'!H34=0,\"\",'Step 5. Presupuesto'!H34)","v":""},null,null,{"$f":"IF(M21=\"\",\"\",(M21*('Step 5. Presupuesto'!$G$4/'Step 5. Presupuesto'!$H$4)))","v":""}]
["",null,null,null,null,null,null,null,null,null,{"$f":"IF('Step 5. Presupuesto'!H35=0,\"\",'Step 5. Presupuesto'!H35)","v":""},null,null,{"$f":"IF(M22=\"\",\"\",(M22*('Step 5. Presupuesto'!$G$4/'Step 5. Presupuesto'!$H$4)))","v":""}]
["",null,null,null,null,null,null,null,null,null,{"$f":"IF('Step 5. Presupuesto'!H36=0,\"\",'Step 5. Presupuesto'!H36)","v":""},null,null,{"$f":"IF(M23=\"\",\"\",(M23*('Step 5. Presupuesto'!$G$4/'Step 5. Presupuesto'!$H$4)))","v":""}]
["",null,null,null,null,null,null,null,null,null,{"$f":"IF('Step 5. Presupuesto'!H37=0,\"\",'Step 5. Presupuesto'!H37)","v":""},null,null,{"$f":"IF(M24=\"\",\"\",(M24*('Step 5. Presupuesto'!$G$4/'Step 5. Presupuesto'!$H$4)))","v":""}]
["",null,null,null,null,null,null,null,null,null,{"$f":"IF('Step 5. Presupuesto'!H38=0,\"\",'Step 5. Presupuesto'!H38)","v":""},null,null,{"$f":"IF(M25=\"\",\"\",(M25*('Step 5. Presupuesto'!$G$4/'Step 5. Presupuesto'!$H$4)))","v":""}]
["",null,null,null,null,null,null,null,null,null,{"$f":"IF('Step 5. Presupuesto'!H39=0,\"\",'Step 5. Presupuesto'!H39)","v":""},null,null,{"$f":"IF(M26=\"\",\"\",(M26*('Step 5. Presupuesto'!$G$4/'Step 5. Presupuesto'!$H$4)))","v":""}]
["",null,null,null,null,null,null,null,null,null,{"$f":"IF('Step 5. Presupuesto'!H40=0,\"\",'Step 5. Presupuesto'!H40)","v":""},null,null,{"$f":"IF(M27=\"\",\"\",(M27*('Step 5. Presupuesto'!$G$4/'Step 5. Presupuesto'!$H$4)))","v":""}]
["",null,null,null,null,null,null,null,null,null,{"$f":"IF('Step 5. Presupuesto'!H41=0,\"\",'Step 5. Presupuesto'!H41)","v":""},null,null,{"$f":"IF(M28=\"\",\"\",(M28*('Step 5. Presupuesto'!$G$4/'Step 5. Presupuesto'!$H$4)))","v":""}]
["",null,null,null,null,null,null,null,null,null,{"$f":"IF('Step 5. Presupuesto'!H42=0,\"\",'Step 5. Presupuesto'!H42)","v":""},null,null,{"$f":"IF(M29=\"\",\"\",(M29*('Step 5. Presupuesto'!$G$4/'Step 5. Presupuesto'!$H$4)))","v":""}]
["",null,null,null,null,null,null,null,null,null,{"$f":"IF('Step 5. Presupuesto'!H43=0,\"\",'Step 5. Presupuesto'!H43)","v":""},null,null,{"$f":"IF(M30=\"\",\"\",(M30*('Step 5. Presupuesto'!$G$4/'Step 5. Presupuesto'!$H$4)))","v":""}]
["",null,null,null,null,null,null,null,null,null,{"$f":"IF('Step 5. Presupuesto'!H44=0,\"\",'Step 5. Presupuesto'!H44)","v":""},null,null,{"$f":"IF(M31=\"\",\"\",(M31*('Step 5. Presupuesto'!$G$4/'Step 5. Presupuesto'!$H$4)))","v":""}]
["",null,null,null,null,null,null,null,null,null,{"$f":"IF('Step 5. Presupuesto'!H45=0,\"\",'Step 5. Presupuesto'!H45)","v":""},null,null,{"$f":"IF(M32=\"\",\"\",(M32*('Step 5. Presupuesto'!$G$4/'Step 5. Presupuesto'!$H$4)))","v":""}]
["",null,null,null,null,null,null,null,null,null,{"$f":"IF('Step 5. Presupuesto'!H46=0,\"\",'Step 5. Presupuesto'!H46)","v":""},null,null,{"$f":"IF(M33=\"\",\"\",(M33*('Step 5. Presupuesto'!$G$4/'Step 5. Presupuesto'!$H$4)))","v":""}]
["",null,null,null,null,null,null,null,null,null,{"$f":"IF('Step 5. Presupuesto'!H47=0,\"\",'Step 5. Presupuesto'!H47)","v":""},null,null,{"$f":"IF(M34=\"\",\"\",(M34*('Step 5. Presupuesto'!$G$4/'Step 5. Presupuesto'!$H$4)))","v":""}]
["",null,null,null,null,null,null,null,null,null,{"$f":"IF('Step 5. Presupuesto'!H48=0,\"\",'Step 5. Presupuesto'!H48)","v":""},null,null,{"$f":"IF(M35=\"\",\"\",(M35*('Step 5. Presupuesto'!$G$4/'Step 5. Presupuesto'!$H$4)))","v":""}]
["",null,null,null,null,null,null,null,null,null,{"$f":"IF('Step 5. Presupuesto'!H49=0,\"\",'Step 5. Presupuesto'!H49)","v":""},null,null,{"$f":"IF(M36=\"\",\"\",(M36*('Step 5. Presupuesto'!$G$4/'Step 5. Presupuesto'!$H$4)))","v":""}]
["",null,null,null,null,null,null,null,null,null,{"$f":"IF('Step 5. Presupuesto'!H50=0,\"\",'Step 5. Presupuesto'!H50)","v":""},null,null,{"$f":"IF(M37=\"\",\"\",(M37*('Step 5. Presupuesto'!$G$4/'Step 5. Presupuesto'!$H$4)))","v":""}]
["",null,null,null,null,null,null,null,null,null,{"$f":"IF('Step 5. Presupuesto'!H51=0,\"\",'Step 5. Presupuesto'!H51)","v":""},null,null,{"$f":"IF(M38=\"\",\"\",(M38*('Step 5. Presupuesto'!$G$4/'Step 5. Presupuesto'!$H$4)))","v":""}]
["",null,null,null,null,null,null,null,null,null,{"$f":"IF('Step 5. Presupuesto'!H52=0,\"\",'Step 5. Presupuesto'!H52)","v":""},null,null,{"$f":"IF(M39=\"\",\"\",(M39*('Step 5. Presupuesto'!$G$4/'Step 5. Presupuesto'!$H$4)))","v":""}]
["",null,null,null,null,null,null,null,null,null,{"$f":"IF('Step 5. Presupuesto'!H53=0,\"\",'Step 5. Presupuesto'!H53)","v":""},null,null,{"$f":"IF(M40=\"\",\"\",(M40*('Step 5. Presupuesto'!$G$4/'Step 5. Presupuesto'!$H$4)))","v":""}]
["",null,null,null,null,null,null,null,null,null,{"$f":"IF('Step 5. Presupuesto'!H54=0,\"\",'Step 5. Presupuesto'!H54)","v":""},null,null,{"$f":"IF(M41=\"\",\"\",(M41*('Step 5. Presupuesto'!$G$4/'Step 5. Presupuesto'!$H$4)))","v":""}]
["",null,null,null,null,null,null,null,null,null,{"$f":"IF('Step 5. Presupuesto'!H55=0,\"\",'Step 5. Presupuesto'!H55)","v":""},null,null,{"$f":"IF(M42=\"\",\"\",(M42*('Step 5. Presupuesto'!$G$4/'Step 5. Presupuesto'!$H$4)))","v":""}]
["",null,null,null,null,null,null,null,null,null,{"$f":"IF('Step 5. Presupuesto'!H56=0,\"\",'Step 5. Presupuesto'!H56)","v":""},null,null,{"$f":"IF(M43=\"\",\"\",(M43*('Step 5. Presupuesto'!$G$4/'Step 5. Presupuesto'!$H$4)))","v":""}]
["",null,null,null,null,null,null,null,null,null,{"$f":"IF('Step 5. Presupuesto'!H57=0,\"\",'Step 5. Presupuesto'!H57)","v":""},null,null,{"$f":"IF(M44=\"\",\"\",(M44*('Step 5. Presupuesto'!$G$4/'Step 5. Presupuesto'!$H$4)))","v":""}]
["",null,null,null,null,null,null,null,null,null,{"$f":"IF('Step 5. Presupuesto'!H58=0,\"\",'Step 5. Presupuesto'!H58)","v":""},null,null,{"$f":"IF(M45=\"\",\"\",(M45*('Step 5. Presupuesto'!$G$4/'Step 5. Presupuesto'!$H$4)))","v":""}]
["",null,null,null,null,null,null,null,null,null,{"$f":"IF('Step 5. Presupuesto'!H59=0,\"\",'Step 5. Presupuesto'!H59)","v":""},null,null,{"$f":"IF(M46=\"\",\"\",(M46*('Step 5. Presupuesto'!$G$4/'Step 5. Presupuesto'!$H$4)))","v":""}]
["",null,null,null,null,null,null,null,null,null,{"$f":"IF('Step 5. Presupuesto'!H60=0,\"\",'Step 5. Presupuesto'!H60)","v":""},null,null,{"$f":"IF(M47=\"\",\"\",(M47*('Step 5. Presupuesto'!$G$4/'Step 5. Presupuesto'!$H$4)))","v":""}]
["",null,null,null,null,null,null,null,null,null,{"$f":"IF('Step 5. Presupuesto'!H61=0,\"\",'Step 5. Presupuesto'!H61)","v":""},null,null,{"$f":"IF(M48=\"\",\"\",(M48*('Step 5. Presupuesto'!$G$4/'Step 5. Presupuesto'!$H$4)))","v":""}]
["",null,null,null,null,null,null,null,null,null,{"$f":"IF('Step 5. Presupuesto'!H62=0,\"\",'Step 5. Presupuesto'!H62)","v":""},null,null,{"$f":"IF(M49=\"\",\"\",(M49*('Step 5. Presupuesto'!$G$4/'Step 5. Presupuesto'!$H$4)))","v":""}]
["",null,null,null,null,null,null,null,null,null,{"$f":"IF('Step 5. Presupuesto'!H63=0,\"\",'Step 5. Presupuesto'!H63)","v":""},null,null,{"$f":"IF(M50=\"\",\"\",(M50*('Step 5. Presupuesto'!$G$4/'Step 5. Presupuesto'!$H$4)))","v":""}]
["",null,null,null,null,null,null,null,null,null,{"$f":"IF('Step 5. Presupuesto'!H64=0,\"\",'Step 5. Presupuesto'!H64)","v":""},null,null,{"$f":"IF(M51=\"\",\"\",(M51*('Step 5. Presupuesto'!$G$4/'Step 5. Presupuesto'!$H$4)))","v":""}]
["",null,null,null,null,null,null,null,null,null,{"$f":"IF('Step 5. Presupuesto'!H65=0,\"\",'Step 5. Presupuesto'!H65)","v":""},null,null,{"$f":"IF(M52=\"\",\"\",(M52*('Step 5. Presupuesto'!$G$4/'Step 5. Presupuesto'!$H$4)))","v":""}]
["",null,null,null,null,null,null,null,null,null,{"$f":"IF('Step 5. Presupuesto'!H66=0,\"\",'Step 5. Presupuesto'!H66)","v":""},null,null,{"$f":"IF(M53=\"\",\"\",(M53*('Step 5. Presupuesto'!$G$4/'Step 5. Presupuesto'!$H$4)))","v":""}]
["",null,null,null,null,null,null,null,null,null,{"$f":"IF('Step 5. Presupuesto'!H67=0,\"\",'Step 5. Presupuesto'!H67)","v":""},null,null,{"$f":"IF(M54=\"\",\"\",(M54*('Step 5. Presupuesto'!$G$4/'Step 5. Presupuesto'!$H$4)))","v":""}]
["",null,null,null,null,null,null,null,null,null,{"$f":"IF('Step 5. Presupuesto'!H68=0,\"\",'Step 5. Presupuesto'!H68)","v":""},null,null,{"$f":"IF(M55=\"\",\"\",(M55*('Step 5. Presupuesto'!$G$4/'Step 5. Presupuesto'!$H$4)))","v":""}]
["",null,null,null,null,null,null,null,null,null,{"$f":"IF('Step 5. Presupuesto'!H69=0,\"\",'Step 5. Presupuesto'!H69)","v":""},null,null,{"$f":"IF(M56=\"\",\"\",(M56*('Step 5. Presupuesto'!$G$4/'Step 5. Presupuesto'!$H$4)))","v":""}]
["",null,null,null,null,null,null,null,null,null,{"$f":"IF('Step 5. Presupuesto'!H70=0,\"\",'Step 5. Presupuesto'!H70)","v":""},null,null,{"$f":"IF(M57=\"\",\"\",(M57*('Step 5. Presupuesto'!$G$4/'Step 5. Presupuesto'!$H$4)))","v":""}]
["",null,null,null,null,null,null,null,null,null,{"$f":"IF('Step 5. Presupuesto'!H71=0,\"\",'Step 5. Presupuesto'!H71)","v":""},null,null,{"$f":"IF(M58=\"\",\"\",(M58*('Step 5. Presupuesto'!$G$4/'Step 5. Presupuesto'!$H$4)))","v":""}]
["",null,null,null,null,null,null,null,null,null,{"$f":"IF('Step 5. Presupuesto'!H72=0,\"\",'Step 5. Presupuesto'!H72)","v":""},null,null,{"$f":"IF(M59=\"\",\"\",(M59*('Step 5. Presupuesto'!$G$4/'Step 5. Presupuesto'!$H$4)))","v":""}]
["",null,null,null,null,null,null,null,null,null,{"$f":"IF('Step 5. Presupuesto'!H73=0,\"\",'Step 5. Presupuesto'!H73)","v":""},null,null,{"$f":"IF(M60=\"\",\"\",(M60*('Step 5. Presupuesto'!$G$4/'Step 5. Presupuesto'!$H$4)))","v":""}]
["",null,null,null,null,null,null,null,null,null,{"$f":"IF('Step 5. Presupuesto'!H74=0,\"\",'Step 5. Presupuesto'!H74)","v":""},null,null,{"$f":"IF(M61=\"\",\"\",(M61*('Step 5. Presupuesto'!$G$4/'Step 5. Presupuesto'!$H$4)))","v":""}]
["",null,null,null,null,null,null,null,null,null,{"$f":"IF('Step 5. Presupuesto'!H75=0,\"\",'Step 5. Presupuesto'!H75)","v":""},null,null,{"$f":"IF(M62=\"\",\"\",(M62*('Step 5. Presupuesto'!$G$4/'Step 5. Presupuesto'!$H$4)))","v":""}]
["",null,null,null,null,null,null,null,null,null,{"$f":"IF('Step 5. Presupuesto'!H76=0,\"\",'Step 5. Presupuesto'!H76)","v":""},null,null,{"$f":"IF(M63=\"\",\"\",(M63*('Step 5. Presupuesto'!$G$4/'Step 5. Presupuesto'!$H$4)))","v":""}]
["",null,null,null,null,null,null,null,null,null,{"$f":"IF('Step 5. Presupuesto'!H77=0,\"\",'Step 5. Presupuesto'!H77)","v":""},null,null,{"$f":"IF(M64=\"\",\"\",(M64*('Step 5. Presupuesto'!$G$4/'Step 5. Presupuesto'!$H$4)))","v":""}]
["",null,null,null,null,null,null,null,null,null,{"$f":"IF('Step 5. Presupuesto'!H78=0,\"\",'Step 5. Presupuesto'!H78)","v":""},null,null,{"$f":"IF(M65=\"\",\"\",(M65*('Step 5. Presupuesto'!$G$4/'Step 5. Presupuesto'!$H$4)))","v":""}]
["",null,null,null,null,null,null,null,null,null,{"$f":"IF('Step 5. Presupuesto'!H79=0,\"\",'Step 5. Presupuesto'!H79)","v":""},null,null,{"$f":"IF(M66=\"\",\"\",(M66*('Step 5. Presupuesto'!$G$4/'Step 5. Presupuesto'!$H$4)))","v":""}]
["",null,null,null,null,null,null,null,null,null,{"$f":"IF('Step 5. Presupuesto'!H80=0,\"\",'Step 5. Presupuesto'!H80)","v":""},null,null,{"$f":"IF(M67=\"\",\"\",(M67*('Step 5. Presupuesto'!$G$4/'Step 5. Presupuesto'!$H$4)))","v":""}]
["",null,null,null,null,null,null,null,null,null,{"$f":"IF('Step 5. Presupuesto'!H81=0,\"\",'Step 5. Presupuesto'!H81)","v":""},null,null,{"$f":"IF(M68=\"\",\"\",(M68*('Step 5. Presupuesto'!$G$4/'Step 5. Presupuesto'!$H$4)))","v":""}]
["",null,null,null,null,null,null,null,null,null,{"$f":"IF('Step 5. Presupuesto'!H82=0,\"\",'Step 5. Presupuesto'!H82)","v":""},null,null,{"$f":"IF(M69=\"\",\"\",(M69*('Step 5. Presupuesto'!$G$4/'Step 5. Presupuesto'!$H$4)))","v":""}]
["",null,null,null,null,null,null,null,null,null,{"$f":"IF('Step 5. Presupuesto'!H83=0,\"\",'Step 5. Presupuesto'!H83)","v":""},null,null,{"$f":"IF(M70=\"\",\"\",(M70*('Step 5. Presupuesto'!$G$4/'Step 5. Presupuesto'!$H$4)))","v":""}]
["",null,null,null,null,null,null,null,null,null,{"$f":"IF('Step 5. Presupuesto'!H84=0,\"\",'Step 5. Presupuesto'!H84)","v":""},null,null,{"$f":"IF(M71=\"\",\"\",(M71*('Step 5. Presupuesto'!$G$4/'Step 5. Presupuesto'!$H$4)))","v":""}]
[{"$f":"IF(B72=\"\",\"\",A71+1)","v":""},null,null,null,null,null,null,null,null,null,{"$f":"IF('Step 5. Presupuesto'!H85=0,\"\",'Step 5. Presupuesto'!H85)","v":""},null,null,{"$f":"IF(M72=\"\",\"\",(M72*('Step 5. Presupuesto'!$G$4/'Step 5. Presupuesto'!$H$4)))","v":""}]
["",null,null,null,null,null,null,null,null,null,{"$f":"IF('Step 5. Presupuesto'!H86=0,\"\",'Step 5. Presupuesto'!H86)","v":""},null,null,{"$f":"IF(M73=\"\",\"\",(M73*('Step 5. Presupuesto'!$G$4/'Step 5. Presupuesto'!$H$4)))","v":""}]
["",null,null,null,null,null,null,null,null,null,{"$f":"IF('Step 5. Presupuesto'!H87=0,\"\",'Step 5. Presupuesto'!H87)","v":""},null,null,{"$f":"IF(M74=\"\",\"\",(M74*('Step 5. Presupuesto'!$G$4/'Step 5. Presupuesto'!$H$4)))","v":""}]
["",null,null,null,null,null,null,null,null,null,{"$f":"IF('Step 5. Presupuesto'!H88=0,\"\",'Step 5. Presupuesto'!H88)","v":""},null,null,{"$f":"IF(M75=\"\",\"\",(M75*('Step 5. Presupuesto'!$G$4/'Step 5. Presupuesto'!$H$4)))","v":""}]
["",null,null,null,null,null,null,null,null,null,{"$f":"IF('Step 5. Presupuesto'!H89=0,\"\",'Step 5. Presupuesto'!H89)","v":""},null,null,{"$f":"IF(M76=\"\",\"\",(M76*('Step 5. Presupuesto'!$G$4/'Step 5. Presupuesto'!$H$4)))","v":""}]
["",null,null,null,null,null,null,null,null,null,{"$f":"IF('Step 5. Presupuesto'!H90=0,\"\",'Step 5. Presupuesto'!H90)","v":""},null,null,{"$f":"IF(M77=\"\",\"\",(M77*('Step 5. Presupuesto'!$G$4/'Step 5. Presupuesto'!$H$4)))","v":""}]
["",null,null,null,null,null,null,null,null,null,{"$f":"IF('Step 5. Presupuesto'!H91=0,\"\",'Step 5. Presupuesto'!H91)","v":""},null,null,{"$f":"IF(M78=\"\",\"\",(M78*('Step 5. Presupuesto'!$G$4/'Step 5. Presupuesto'!$H$4)))","v":""}]
["",null,null,null,null,null,null,null,null,null,{"$f":"IF('Step 5. Presupuesto'!H92=0,\"\",'Step 5. Presupuesto'!H92)","v":""},null,null,{"$f":"IF(M79=\"\",\"\",(M79*('Step 5. Presupuesto'!$G$4/'Step 5. Presupuesto'!$H$4)))","v":""}]
["",null,null,null,null,null,null,null,null,null,{"$f":"IF('Step 5. Presupuesto'!H93=0,\"\",'Step 5. Presupuesto'!H93)","v":""},null,null,{"$f":"IF(M80=\"\",\"\",(M80*('Step 5. Presupuesto'!$G$4/'Step 5. Presupuesto'!$H$4)))","v":""}]
["",null,null,null,null,null,null,null,null,null,{"$f":"IF('Step 5. Presupuesto'!H94=0,\"\",'Step 5. Presupuesto'!H94)","v":""},null,null,{"$f":"IF(M81=\"\",\"\",(M81*('Step 5. Presupuesto'!$G$4/'Step 5. Presupuesto'!$H$4)))","v":""}]
["",null,null,null,null,null,null,null,null,null,{"$f":"IF('Step 5. Presupuesto'!H95=0,\"\",'Step 5. Presupuesto'!H95)","v":""},null,null,{"$f":"IF(M82=\"\",\"\",(M82*('Step 5. Presupuesto'!$G$4/'Step 5. Presupuesto'!$H$4)))","v":""}]
["",null,null,null,null,null,null,null,null,null,{"$f":"IF('Step 5. Presupuesto'!H96=0,\"\",'Step 5. Presupuesto'!H96)","v":""},null,null,{"$f":"IF(M83=\"\",\"\",(M83*('Step 5. Presupuesto'!$G$4/'Step 5. Presupuesto'!$H$4)))","v":""}]
["",null,null,null,null,null,null,null,null,null,{"$f":"IF('Step 5. Presupuesto'!H97=0,\"\",'Step 5. Presupuesto'!H97)","v":""},null,null,{"$f":"IF(M84=\"\",\"\",(M84*('Step 5. Presupuesto'!$G$4/'Step 5. Presupuesto'!$H$4)))","v":""}]
["",null,null,null,null,null,null,null,null,null,{"$f":"IF('Step 5. Presupuesto'!H98=0,\"\",'Step 5. Presupuesto'!H98)","v":""},null,null,{"$f":"IF(M85=\"\",\"\",(M85*('Step 5. Presupuesto'!$G$4/'Step 5. Presupuesto'!$H$4)))","v":""}]
["",null,null,null,null,null,null,null,null,null,{"$f":"IF('Step 5. Presupuesto'!H99=0,\"\",'Step 5. Presupuesto'!H99)","v":""},null,null,{"$f":"IF(M86=\"\",\"\",(M86*('Step 5. Presupuesto'!$G$4/'Step 5. Presupuesto'!$H$4)))","v":""}]
["",null,null,null,null,null,null,null,null,null,{"$f":"IF('Step 5. Presupuesto'!H100=0,\"\",'Step 5. Presupuesto'!H100)","v":""},null,null,{"$f":"IF(M87=\"\",\"\",(M87*('Step 5. Presupuesto'!$G$4/'Step 5. Presupuesto'!$H$4)))","v":""}]
["",null,null,null,null,null,null,null,null,null,{"$f":"IF('Step 5. Presupuesto'!H101=0,\"\",'Step 5. Presupuesto'!H101)","v":""},null,null,{"$f":"IF(M88=\"\",\"\",(M88*('Step 5. Presupuesto'!$G$4/'Step 5. Presupuesto'!$H$4)))","v":""}]
["",null,null,null,null,null,null,null,null,null,{"$f":"IF('Step 5. Presupuesto'!H102=0,\"\",'Step 5. Presupuesto'!H102)","v":""},null,null,{"$f":"IF(M89=\"\",\"\",(M89*('Step 5. Presupuesto'!$G$4/'Step 5. Presupuesto'!$H$4)))","v":""}]
["",null,null,null,null,null,null,null,null,null,{"$f":"IF('Step 5. Presupuesto'!H103=0,\"\",'Step 5. Presupuesto'!H103)","v":""},null,null,{"$f":"IF(M90=\"\",\"\",(M90*('Step 5. Presupuesto'!$G$4/'Step 5. Presupuesto'!$H$4)))","v":""}]
["",null,null,null,null,null,null,null,null,null,{"$f":"IF('Step 5. Presupuesto'!H104=0,\"\",'Step 5. Presupuesto'!H104)","v":""},null,null,{"$f":"IF(M91=\"\",\"\",(M91*('Step 5. Presupuesto'!$G$4/'Step 5. Presupuesto'!$H$4)))","v":""}]
["",null,null,null,null,null,null,null,null,null,{"$f":"IF('Step 5. Presupuesto'!H105=0,\"\",'Step 5. Presupuesto'!H105)","v":""},null,null,{"$f":"IF(M92=\"\",\"\",(M92*('Step 5. Presupuesto'!$G$4/'Step 5. Presupuesto'!$H$4)))","v":""}]
["",null,null,null,null,null,null,null,null,null,{"$f":"IF('Step 5. Presupuesto'!H106=0,\"\",'Step 5. Presupuesto'!H106)","v":""},null,null,{"$f":"IF(M93=\"\",\"\",(M93*('Step 5. Presupuesto'!$G$4/'Step 5. Presupuesto'!$H$4)))","v":""}]
["",null,null,null,null,null,null,null,null,null,{"$f":"IF('Step 5. Presupuesto'!H107=0,\"\",'Step 5. Presupuesto'!H107)","v":""},null,null,{"$f":"IF(M94=\"\",\"\",(M94*('Step 5. Presupuesto'!$G$4/'Step 5. Presupuesto'!$H$4)))","v":""}]
["",null,null,null,null,null,null,null,null,null,{"$f":"IF('Step 5. Presupuesto'!H108=0,\"\",'Step 5. Presupuesto'!H108)","v":""},null,null,{"$f":"IF(M95=\"\",\"\",(M95*('Step 5. Presupuesto'!$G$4/'Step 5. Presupuesto'!$H$4)))","v":""}]
["",null,null,null,null,null,null,null,null,null,{"$f":"IF('Step 5. Presupuesto'!H109=0,\"\",'Step 5. Presupuesto'!H109)","v":""},null,null,{"$f":"IF(M96=\"\",\"\",(M96*('Step 5. Presupuesto'!$G$4/'Step 5. Presupuesto'!$H$4)))","v":""}]
["",null,null,null,null,null,null,null,null,null,{"$f":"IF('Step 5. Presupuesto'!H110=0,\"\",'Step 5. Presupuesto'!H110)","v":""},null,null,{"$f":"IF(M97=\"\",\"\",(M97*('Step 5. Presupuesto'!$G$4/'Step 5. Presupuesto'!$H$4)))","v":""}]
["",null,null,null,null,null,null,null,null,null,{"$f":"IF('Step 5. Presupuesto'!H111=0,\"\",'Step 5. Presupuesto'!H111)","v":""},null,null,{"$f":"IF(M98=\"\",\"\",(M98*('Step 5. Presupuesto'!$G$4/'Step 5. Presupuesto'!$H$4)))","v":""}]
["",null,null,null,null,null,null,null,null,null,{"$f":"IF('Step 5. Presupuesto'!H112=0,\"\",'Step 5. Presupuesto'!H112)","v":""},null,null,{"$f":"IF(M99=\"\",\"\",(M99*('Step 5. Presupuesto'!$G$4/'Step 5. Presupuesto'!$H$4)))","v":""}]
["",null,null,null,null,null,null,null,null,null,{"$f":"IF('Step 5. Presupuesto'!H113=0,\"\",'Step 5. Presupuesto'!H113)","v":""},null,null,{"$f":"IF(M100=\"\",\"\",(M100*('Step 5. Presupuesto'!$G$4/'Step 5. Presupuesto'!$H$4)))","v":""}]
["",null,null,null,null,null,null,null,null,null,{"$f":"IF('Step 5. Presupuesto'!H114=0,\"\",'Step 5. Presupuesto'!H114)","v":""},null,null,{"$f":"IF(M101=\"\",\"\",(M101*('Step 5. Presupuesto'!$G$4/'Step 5. Presupuesto'!$H$4)))","v":""}]
["",null,null,null,null,null,null,null,null,null,{"$f":"IF('Step 5. Presupuesto'!H115=0,\"\",'Step 5. Presupuesto'!H115)","v":""},null,null,{"$f":"IF(M102=\"\",\"\",(M102*('Step 5. Presupuesto'!$G$4/'Step 5. Presupuesto'!$H$4)))","v":""}]
["",null,null,null,null,null,null,null,null,null,{"$f":"IF('Step 5. Presupuesto'!H116=0,\"\",'Step 5. Presupuesto'!H116)","v":""},null,null,{"$f":"IF(M103=\"\",\"\",(M103*('Step 5. Presupuesto'!$G$4/'Step 5. Presupuesto'!$H$4)))","v":""}]
["",null,null,null,null,null,null,null,null,null,{"$f":"IF('Step 5. Presupuesto'!H117=0,\"\",'Step 5. Presupuesto'!H117)","v":""},null,null,{"$f":"IF(M104=\"\",\"\",(M104*('Step 5. Presupuesto'!$G$4/'Step 5. Presupuesto'!$H$4)))","v":""}]
["",null,null,null,null,null,null,null,null,null,{"$f":"IF('Step 5. Presupuesto'!H118=0,\"\",'Step 5. Presupuesto'!H118)","v":""},null,null,{"$f":"IF(M105=\"\",\"\",(M105*('Step 5. Presupuesto'!$G$4/'Step 5. Presupuesto'!$H$4)))","v":""}]
["",null,null,null,null,null,null,null,null,null,{"$f":"IF('Step 5. Presupuesto'!H119=0,\"\",'Step 5. Presupuesto'!H119)","v":""},null,null,{"$f":"IF(M106=\"\",\"\",(M106*('Step 5. Presupuesto'!$G$4/'Step 5. Presupuesto'!$H$4)))","v":""}]
["",null,null,null,null,null,null,null,null,null,{"$f":"IF('Step 5. Presupuesto'!H120=0,\"\",'Step 5. Presupuesto'!H120)","v":""},null,null,{"$f":"IF(M107=\"\",\"\",(M107*('Step 5. Presupuesto'!$G$4/'Step 5. Presupuesto'!$H$4)))","v":""}]
["",null,null,null,null,null,null,null,null,null,{"$f":"IF('Step 5. Presupuesto'!H121=0,\"\",'Step 5. Presupuesto'!H121)","v":""},null,null,{"$f":"IF(M108=\"\",\"\",(M108*('Step 5. Presupuesto'!$G$4/'Step 5. Presupuesto'!$H$4)))","v":""}]
["",null,null,null,null,null,null,null,null,null,{"$f":"IF('Step 5. Presupuesto'!H122=0,\"\",'Step 5. Presupuesto'!H122)","v":""},null,null,{"$f":"IF(M109=\"\",\"\",(M109*('Step 5. Presupuesto'!$G$4/'Step 5. Presupuesto'!$H$4)))","v":""}]
["",null,null,null,null,null,null,null,null,null,{"$f":"IF('Step 5. Presupuesto'!H123=0,\"\",'Step 5. Presupuesto'!H123)","v":""},null,null,{"$f":"IF(M110=\"\",\"\",(M110*('Step 5. Presupuesto'!$G$4/'Step 5. Presupuesto'!$H$4)))","v":""}]
["",null,null,null,null,null,null,null,null,null,{"$f":"IF('Step 5. Presupuesto'!H124=0,\"\",'Step 5. Presupuesto'!H124)","v":""},null,null,{"$f":"IF(M111=\"\",\"\",(M111*('Step 5. Presupuesto'!$G$4/'Step 5. Presupuesto'!$H$4)))","v":""}]
["",null,null,null,null,null,null,null,null,null,{"$f":"IF('Step 5. Presupuesto'!H125=0,\"\",'Step 5. Presupuesto'!H125)","v":""},null,null,{"$f":"IF(M112=\"\",\"\",(M112*('Step 5. Presupuesto'!$G$4/'Step 5. Presupuesto'!$H$4)))","v":""}]
["",null,null,null,null,null,null,null,null,null,{"$f":"IF('Step 5. Presupuesto'!H126=0,\"\",'Step 5. Presupuesto'!H126)","v":""},null,null,{"$f":"IF(M113=\"\",\"\",(M113*('Step 5. Presupuesto'!$G$4/'Step 5. Presupuesto'!$H$4)))","v":""}]
["",null,null,null,null,null,null,null,null,null,{"$f":"IF('Step 5. Presupuesto'!H127=0,\"\",'Step 5. Presupuesto'!H127)","v":""},null,null,{"$f":"IF(M114=\"\",\"\",(M114*('Step 5. Presupuesto'!$G$4/'Step 5. Presupuesto'!$H$4)))","v":""}]
["",null,null,null,null,null,null,null,null,null,{"$f":"IF('Step 5. Presupuesto'!H128=0,\"\",'Step 5. Presupuesto'!H128)","v":""},null,null,{"$f":"IF(M115=\"\",\"\",(M115*('Step 5. Presupuesto'!$G$4/'Step 5. Presupuesto'!$H$4)))","v":""}]
["",null,null,null,null,null,null,null,null,null,{"$f":"IF('Step 5. Presupuesto'!H129=0,\"\",'Step 5. Presupuesto'!H129)","v":""},null,null,{"$f":"IF(M116=\"\",\"\",(M116*('Step 5. Presupuesto'!$G$4/'Step 5. Presupuesto'!$H$4)))","v":""}]
["",null,null,null,null,null,null,null,null,null,{"$f":"IF('Step 5. Presupuesto'!H130=0,\"\",'Step 5. Presupuesto'!H130)","v":""},null,null,{"$f":"IF(M117=\"\",\"\",(M117*('Step 5. Presupuesto'!$G$4/'Step 5. Presupuesto'!$H$4)))","v":""}]
["",null,null,null,null,null,null,null,null,null,{"$f":"IF('Step 5. Presupuesto'!H131=0,\"\",'Step 5. Presupuesto'!H131)","v":""},null,null,{"$f":"IF(M118=\"\",\"\",(M118*('Step 5. Presupuesto'!$G$4/'Step 5. Presupuesto'!$H$4)))","v":""}]
["",null,null,null,null,null,null,null,null,null,{"$f":"IF('Step 5. Presupuesto'!H132=0,\"\",'Step 5. Presupuesto'!H132)","v":""},null,null,{"$f":"IF(M119=\"\",\"\",(M119*('Step 5. Presupuesto'!$G$4/'Step 5. Presupuesto'!$H$4)))","v":""}]
["",null,null,null,null,null,null,null,null,null,{"$f":"IF('Step 5. Presupuesto'!H133=0,\"\",'Step 5. Presupuesto'!H133)","v":""},null,null,{"$f":"IF(M120=\"\",\"\",(M120*('Step 5. Presupuesto'!$G$4/'Step 5. Presupuesto'!$H$4)))","v":""}]
["",null,null,null,null,null,null,null,null,null,{"$f":"IF('Step 5. Presupuesto'!H134=0,\"\",'Step 5. Presupuesto'!H134)","v":""},null,null,{"$f":"IF(M121=\"\",\"\",(M121*('Step 5. Presupuesto'!$G$4/'Step 5. Presupuesto'!$H$4)))","v":""}]
["",null,null,null,null,null,null,null,null,null,{"$f":"IF('Step 5. Presupuesto'!H135=0,\"\",'Step 5. Presupuesto'!H135)","v":""},null,null,{"$f":"IF(M122=\"\",\"\",(M122*('Step 5. Presupuesto'!$G$4/'Step 5. Presupuesto'!$H$4)))","v":""}]
["",null,null,null,null,null,null,null,null,null,{"$f":"IF('Step 5. Presupuesto'!H136=0,\"\",'Step 5. Presupuesto'!H136)","v":""},null,null,{"$f":"IF(M123=\"\",\"\",(M123*('Step 5. Presupuesto'!$G$4/'Step 5. Presupuesto'!$H$4)))","v":""}]
["",null,null,null,null,null,null,null,null,null,{"$f":"IF('Step 5. Presupuesto'!H137=0,\"\",'Step 5. Presupuesto'!H137)","v":""},null,null,{"$f":"IF(M124=\"\",\"\",(M124*('Step 5. Presupuesto'!$G$4/'Step 5. Presupuesto'!$H$4)))","v":""}]
["",null,null,null,null,null,null,null,null,null,{"$f":"IF('Step 5. Presupuesto'!H138=0,\"\",'Step 5. Presupuesto'!H138)","v":""},null,null,{"$f":"IF(M125=\"\",\"\",(M125*('Step 5. Presupuesto'!$G$4/'Step 5. Presupuesto'!$H$4)))","v":""}]
["",null,null,null,null,null,null,null,null,null,{"$f":"IF('Step 5. Presupuesto'!H139=0,\"\",'Step 5. Presupuesto'!H139)","v":""},null,null,{"$f":"IF(M126=\"\",\"\",(M126*('Step 5. Presupuesto'!$G$4/'Step 5. Presupuesto'!$H$4)))","v":""}]
["",null,null,null,null,null,null,null,null,null,{"$f":"IF('Step 5. Presupuesto'!H140=0,\"\",'Step 5. Presupuesto'!H140)","v":""},null,null,{"$f":"IF(M127=\"\",\"\",(M127*('Step 5. Presupuesto'!$G$4/'Step 5. Presupuesto'!$H$4)))","v":""}]
["",null,null,null,null,null,null,null,null,null,{"$f":"IF('Step 5. Presupuesto'!H141=0,\"\",'Step 5. Presupuesto'!H141)","v":""},null,null,{"$f":"IF(M128=\"\",\"\",(M128*('Step 5. Presupuesto'!$G$4/'Step 5. Presupuesto'!$H$4)))","v":""}]
["",null,null,null,null,null,null,null,null,null,{"$f":"IF('Step 5. Presupuesto'!H142=0,\"\",'Step 5. Presupuesto'!H142)","v":""},null,null,{"$f":"IF(M129=\"\",\"\",(M129*('Step 5. Presupuesto'!$G$4/'Step 5. Presupuesto'!$H$4)))","v":""}]
["",null,null,null,null,null,null,null,null,null,{"$f":"IF('Step 5. Presupuesto'!H143=0,\"\",'Step 5. Presupuesto'!H143)","v":""},null,null,{"$f":"IF(M130=\"\",\"\",(M130*('Step 5. Presupuesto'!$G$4/'Step 5. Presupuesto'!$H$4)))","v":""}]
["",null,null,null,null,null,null,null,null,null,{"$f":"IF('Step 5. Presupuesto'!H144=0,\"\",'Step 5. Presupuesto'!H144)","v":""},null,null,{"$f":"IF(M131=\"\",\"\",(M131*('Step 5. Presupuesto'!$G$4/'Step 5. Presupuesto'!$H$4)))","v":""}]
["",null,null,null,null,null,null,null,null,null,{"$f":"IF('Step 5. Presupuesto'!H145=0,\"\",'Step 5. Presupuesto'!H145)","v":""},null,null,{"$f":"IF(M132=\"\",\"\",(M132*('Step 5. Presupuesto'!$G$4/'Step 5. Presupuesto'!$H$4)))","v":""}]
["",null,null,null,null,null,null,null,null,null,{"$f":"IF('Step 5. Presupuesto'!H146=0,\"\",'Step 5. Presupuesto'!H146)","v":""},null,null,{"$f":"IF(M133=\"\",\"\",(M133*('Step 5. Presupuesto'!$G$4/'Step 5. Presupuesto'!$H$4)))","v":""}]
["",null,null,null,null,null,null,null,null,null,{"$f":"IF('Step 5. Presupuesto'!H147=0,\"\",'Step 5. Presupuesto'!H147)","v":""},null,null,{"$f":"IF(M134=\"\",\"\",(M134*('Step 5. Presupuesto'!$G$4/'Step 5. Presupuesto'!$H$4)))","v":""}]
["",null,null,null,null,null,null,null,null,null,{"$f":"IF('Step 5. Presupuesto'!H148=0,\"\",'Step 5. Presupuesto'!H148)","v":""},null,null,{"$f":"IF(M135=\"\",\"\",(M135*('Step 5. Presupuesto'!$G$4/'Step 5. Presupuesto'!$H$4)))","v":""}]
[{"$f":"IF(B136=\"\",\"\",A135+1)","v":""},null,null,null,null,null,null,null,null,null,{"$f":"IF('Step 5. Presupuesto'!H149=0,\"\",'Step 5. Presupuesto'!H149)","v":""},null,null,{"$f":"IF(M136=\"\",\"\",(M136*('Step 5. Presupuesto'!$G$4/'Step 5. Presupuesto'!$H$4)))","v":""}]
["",null,null,null,null,null,null,null,null,null,{"$f":"IF('Step 5. Presupuesto'!H150=0,\"\",'Step 5. Presupuesto'!H150)","v":""},null,null,{"$f":"IF(M137=\"\",\"\",(M137*('Step 5. Presupuesto'!$G$4/'Step 5. Presupuesto'!$H$4)))","v":""}]
["",null,null,null,null,null,null,null,null,null,{"$f":"IF('Step 5. Presupuesto'!H151=0,\"\",'Step 5. Presupuesto'!H151)","v":""},null,null,{"$f":"IF(M138=\"\",\"\",(M138*('Step 5. Presupuesto'!$G$4/'Step 5. Presupuesto'!$H$4)))","v":""}]
["",null,null,null,null,null,null,null,null,null,{"$f":"IF('Step 5. Presupuesto'!H152=0,\"\",'Step 5. Presupuesto'!H152)","v":""},null,null,{"$f":"IF(M139=\"\",\"\",(M139*('Step 5. Presupuesto'!$G$4/'Step 5. Presupuesto'!$H$4)))","v":""}]
["",null,null,null,null,null,null,null,null,null,{"$f":"IF('Step 5. Presupuesto'!H153=0,\"\",'Step 5. Presupuesto'!H153)","v":""},null,null,{"$f":"IF(M140=\"\",\"\",(M140*('Step 5. Presupuesto'!$G$4/'Step 5. Presupuesto'!$H$4)))","v":""}]
["",null,null,null,null,null,null,null,null,null,{"$f":"IF('Step 5. Presupuesto'!H154=0,\"\",'Step 5. Presupuesto'!H154)","v":""},null,null,{"$f":"IF(M141=\"\",\"\",(M141*('Step 5. Presupuesto'!$G$4/'Step 5. Presupuesto'!$H$4)))","v":""}]
["",null,null,null,null,null,null,null,null,null,{"$f":"IF('Step 5. Presupuesto'!H155=0,\"\",'Step 5. Presupuesto'!H155)","v":""},null,null,{"$f":"IF(M142=\"\",\"\",(M142*('Step 5. Presupuesto'!$G$4/'Step 5. Presupuesto'!$H$4)))","v":""}]
["",null,null,null,null,null,null,null,null,null,{"$f":"IF('Step 5. Presupuesto'!H156=0,\"\",'Step 5. Presupuesto'!H156)","v":""},null,null,{"$f":"IF(M143=\"\",\"\",(M143*('Step 5. Presupuesto'!$G$4/'Step 5. Presupuesto'!$H$4)))","v":""}]
["",null,null,null,null,null,null,null,null,null,{"$f":"IF('Step 5. Presupuesto'!H157=0,\"\",'Step 5. Presupuesto'!H157)","v":""},null,null,{"$f":"IF(M144=\"\",\"\",(M144*('Step 5. Presupuesto'!$G$4/'Step 5. Presupuesto'!$H$4)))","v":""}]
["",null,null,null,null,null,null,null,null,null,{"$f":"IF('Step 5. Presupuesto'!H158=0,\"\",'Step 5. Presupuesto'!H158)","v":""},null,null,{"$f":"IF(M145=\"\",\"\",(M145*('Step 5. Presupuesto'!$G$4/'Step 5. Presupuesto'!$H$4)))","v":""}]
["",null,null,null,null,null,null,null,null,null,{"$f":"IF('Step 5. Presupuesto'!H159=0,\"\",'Step 5. Presupuesto'!H159)","v":""},null,null,{"$f":"IF(M146=\"\",\"\",(M146*('Step 5. Presupuesto'!$G$4/'Step 5. Presupuesto'!$H$4)))","v":""}]
["",null,null,null,null,null,null,null,null,null,{"$f":"IF('Step 5. Presupuesto'!H160=0,\"\",'Step 5. Presupuesto'!H160)","v":""},null,null,{"$f":"IF(M147=\"\",\"\",(M147*('Step 5. Presupuesto'!$G$4/'Step 5. Presupuesto'!$H$4)))","v":""}]
["",null,null,null,null,null,null,null,null,null,{"$f":"IF('Step 5. Presupuesto'!H161=0,\"\",'Step 5. Presupuesto'!H161)","v":""},null,null,{"$f":"IF(M148=\"\",\"\",(M148*('Step 5. Presupuesto'!$G$4/'Step 5. Presupuesto'!$H$4)))","v":""}]
["",null,null,null,null,null,null,null,null,null,{"$f":"IF('Step 5. Presupuesto'!H162=0,\"\",'Step 5. Presupuesto'!H162)","v":""},null,null,{"$f":"IF(M149=\"\",\"\",(M149*('Step 5. Presupuesto'!$G$4/'Step 5. Presupuesto'!$H$4)))","v":""}]
["",null,null,null,null,null,null,null,null,null,{"$f":"IF('Step 5. Presupuesto'!H163=0,\"\",'Step 5. Presupuesto'!H163)","v":""},null,null,{"$f":"IF(M150=\"\",\"\",(M150*('Step 5. Presupuesto'!$G$4/'Step 5. Presupuesto'!$H$4)))","v":""}]
["",null,null,null,null,null,null,null,null,null,{"$f":"IF('Step 5. Presupuesto'!H164=0,\"\",'Step 5. Presupuesto'!H164)","v":""},null,null,{"$f":"IF(M151=\"\",\"\",(M151*('Step 5. Presupuesto'!$G$4/'Step 5. Presupuesto'!$H$4)))","v":""}]
["",null,null,null,null,null,null,null,null,null,{"$f":"IF('Step 5. Presupuesto'!H165=0,\"\",'Step 5. Presupuesto'!H165)","v":""},null,null,{"$f":"IF(M152=\"\",\"\",(M152*('Step 5. Presupuesto'!$G$4/'Step 5. Presupuesto'!$H$4)))","v":""}]
["",null,null,null,null,null,null,null,null,null,{"$f":"IF('Step 5. Presupuesto'!H166=0,\"\",'Step 5. Presupuesto'!H166)","v":""},null,null,{"$f":"IF(M153=\"\",\"\",(M153*('Step 5. Presupuesto'!$G$4/'Step 5. Presupuesto'!$H$4)))","v":""}]
["",null,null,null,null,null,null,null,null,null,{"$f":"IF('Step 5. Presupuesto'!H167=0,\"\",'Step 5. Presupuesto'!H167)","v":""},null,null,{"$f":"IF(M154=\"\",\"\",(M154*('Step 5. Presupuesto'!$G$4/'Step 5. Presupuesto'!$H$4)))","v":""}]
["",null,null,null,null,null,null,null,null,null,{"$f":"IF('Step 5. Presupuesto'!H168=0,\"\",'Step 5. Presupuesto'!H168)","v":""},null,null,{"$f":"IF(M155=\"\",\"\",(M155*('Step 5. Presupuesto'!$G$4/'Step 5. Presupuesto'!$H$4)))","v":""}]

{"sheet":"Step 5. Presupuesto","index":7,"n_rows":565,"n_cols":8,"rows_kept":565,"cut":false,"hidden":false,"merged":[[552,7,564,7],[482,7,494,7],[496,7,508,7],[510,7,522,7],[524,7,536,7],[538,7,550,7],[412,7,424,7],[426,7,438,7],[440,7,452,7],[454,7,466,7],[468,7,480,7],[342,7,354,7],[356,7,368,7],[370,7,382,7],[384,7,396,7],[398,7,410,7],[272,7,284,7],[286,7,298,7],[300,7,312,7],[314,7,326,7],[328,7,340,7],[202,7,214,7],[216,7,228,7],[230,7,242,7],[244,7,256,7],[258,7,270,7],[132,7,144,7],[146,7,158,7],[160,7,172,7],[174,7,186,7],[188,7,200,7],[62,7,74,7],[76,7,88,7],[90,7,102,7],[104,7,116,7],[118,7,130,7],[21,0,32,2],[34,0,34,2],[35,0,46,2],[48,0,48,2],[48,7,60,7],[104,0,104,2],[91,0,102,2],[105,0,116,2],[49,0,60,2],[62,0,62,2],[63,0,74,2],[76,0,76,2],[77,0,88,2],[90,0,90,2],[118,0,118,2],[119,0,130,2],[1,0,1,7],[6,0,6,2],[7,0,18,2],[20,0,20,2],[6,7,18,7],[20,7,32,7],[34,7,46,7],[3,0,3,5],[2,0,2,5],[132,0,132,2],[133,0,144,2],[146,0,146,2],[175,0,186,2],[189,0,200,2],[202,0,202,2],[147,0,158,2],[160,0,160,2],[161,0,172,2],[174,0,174,2],[203,0,214,2],[216,0,216,2],[217,0,228,2],[230,0,230,2],[188,0,188,2],[301,0,312,2],[231,0,242,2],[244,0,244,2],[245,0,256,2],[258,0,258,2],[259,0,270,2],[272,0,272,2],[273,0,284,2],[286,0,286,2],[287,0,298,2],[300,0,300,2],[426,0,426,2],[427,0,438,2],[440,0,440,2],[441,0,452,2],[314,0,314,2],[315,0,326,2],[328,0,328,2],[329,0,340,2],[342,0,342,2],[343,0,354,2],[356,0,356,2],[357,0,368,2],[370,0,370,2],[0,0,0,7],[553,0,564,2],[524,0,524,2],[525,0,536,2],[538,0,538,2],[539,0,550,2],[552,0,552,2],[483,0,494,2],[496,0,496,2],[497,0,508,2],[510,0,510,2],[511,0,522,2],[454,0,454,2],[455,0,466,2],[468,0,468,2],[469,0,480,2],[371,0,382,2],[384,0,384,2],[385,0,396,2],[398,0,398,2],[399,0,410,2],[412,0,412,2],[482,0,482,2],[413,0,424,2]]}
[]
["Presupuesto"]
["¡¡¡POR FAVOR RECUERDE LEER LAS INSTRUCCIONES ANTES DE COMENZAR!!!",null,null,null,null,null,"              Dólares =\nEstadounidenses","Moneda\nLocal"]
["Tipo de cambio de moneda local a dólar estadounidense\n(¡¡¡EL VALOR AFECTA A TODA LA HOJA, TODO EL COSTO DEBE SER INSCRITO EN LA MONEDA LOCAL!!!)",null,null,null,null,null,1,1]
["Número de línea (extraído del plan de acción)","Enfoque en materia de fortalecimiento de capacidades (extraído del plan de acción)","Intervención/método (extraído del plan de acción)","Partida presupuestaria","Cantidad","Duración","Costo unitario (Moneda local)","Costo total estimado (Dólares estadounidenses)\n"]
[{"$f":"'Step 4. Plan de Acción'!A6","v":""},{"$f":"IF('Step 4. Plan de Acción'!F6=\"\",\"\",'Step 4. Plan de Acción'!F6)","v":""},{"$f":"IF('Step 4. Plan de Acción'!G6=\"\",\"\",'Step 4. Plan de Acción'!G6)","v":""},"Lugar (incluidas las comidas y las pausas)",null,null,null,{"$f":"IF(C6=\"A distancia\",((G6)+(IF(E10=\"\",G10,E10*F10*G10))+(IF(E11=\"\",G11,E11*F11*G11))+(IF(E12=\"\",G12,E12*F12*G12))+(IF(E13=\"\",G13,E13*F13*G13))+(IF(E14=\"\",G14,E14*G14))+(IF(E15=\"\",G15,E15*G15))+(IF(E16=\"\",G16,E16*G16))+(IF(E17=\"\",G17,E17*F17*G17))+(IF(E18=\"\",G18,E18*F18*G18))+(IF(E19=\"\",G19,E19*F19*G19)))*($G$4/$H$4),((G6)+(IF(E7=\"\",G7,E7*G7))+(IF(E8=\"\",G8,E8*F8*G8))+(IF(E9=\"\",G9,E9*F9*G9))+(IF(E10=\"\",G10,E10*F10*G10))+(IF(E11=\"\",G11,E11*F11*G11))+(IF(E12=\"\",G12,E12*F12*G12))+(IF(E13=\"\",G13,E13*F13*G13))+(IF(E14=\"\",G14,E14*G14))+(IF(E15=\"\",G15,E15*G15))+(IF(E16=\"\",G16,E16*G16))+(IF(E17=\"\",G17,E17*F17*G17))+(IF(E18=\"\",G18,E18*F18*G18))+(IF(E19=\"\",G19,E19*F19*G19)))*($G$4/$H$4))","v":0}]
["Descripción del presupuesto:",null,null,"Viajes"]
[null,null,null,"Viáticos"]
[null,null,null,"Alojamiento"]
[null,null,null,"Tiempo del personal"]
[null,null,null,"Tiempo del personal"]
[null,null,null,"Tiempo del personal"]
[null,null,null,"Tiempo del consultor"]
[null,null,null,"Materiales (por ejemplo, manuales, ordenadores portátiles, cursos de aprendizaje virtual)"]
[null,null,null,"Materiales (por ejemplo, manuales, ordenadores portátiles, cursos de aprendizaje virtual)"]
[null,null,null,"Materiales (por ejemplo, manuales, ordenadores portátiles, cursos de aprendizaje virtual)"]
[null,null,null,"Otros"]
[null,null,null,"Otros"]
[null,null,null,"Otros"]
[{"$f":"'Step 4. Plan de Acción'!A7","v":""},{"$f":"IF('Step 4. Plan de Acción'!F7=\"\",\"\",'Step 4. Plan de Acción'!F7)","v":""},{"$f":"IF('Step 4. Plan de Acción'!G7=\"\",\"\",'Step 4. Plan de Acción'!G7)","v":""},"Lugar (incluidas las comidas y las pausas)",null,null,null,{"$f":"IF(C20=\"A distancia\",((G20)+(IF(E24=\"\",G24,E24*F24*G24))+(IF(E25=\"\",G25,E25*F25*G25))+(IF(E26=\"\",G26,E26*F26*G26))+(IF(E27=\"\",G27,E27*F27*G27))+(IF(E28=\"\",G28,E28*G28))+(IF(E29=\"\",G29,E29*G29))+(IF(E30=\"\",G30,E30*G30))+(IF(E31=\"\",G31,E31*F31*G31))+(IF(E32=\"\",G32,E32*F32*G32))+(IF(E33=\"\",G33,E33*F33*G33)))*($G$4/$H$4),((G20)+(IF(E21=\"\",G21,E21*G21))+(IF(E22=\"\",G22,E22*F22*G22))+(IF(E23=\"\",G23,E23*F23*G23))+(IF(E24=\"\",G24,E24*F24*G24))+(IF(E25=\"\",G25,E25*F25*G25))+(IF(E26=\"\",G26,E26*F26*G26))+(IF(E27=\"\",G27,E27*F27*G27))+(IF(E28=\"\",G28,E28*G28))+(IF(E29=\"\",G29,E29*G29))+(IF(E30=\"\",G30,E30*G30))+(IF(E31=\"\",G31,E31*F31*G31))+(IF(E32=\"\",G32,E32*F32*G32))+(IF(E33=\"\",G33,E33*F33*G33)))*($G$4/$H$4))","v":0}]
["Descripción del presupuesto:",null,null,"Viajes"]
[null,null,null,"Viáticos"]
[null,null,null,"Alojamiento"]
[null,null,null,"Tiempo del personal"]
[null,null,null,"Tiempo del personal"]
[null,null,null,"Tiempo del personal"]
[null,null,null,"Tiempo del consultor"]
[null,null,null,"Materiales (por ejemplo, manuales, ordenadores portátiles, cursos de aprendizaje virtual)"]
[null,null,null,"Materiales (por ejemplo, manuales, ordenadores portátiles, cursos de aprendizaje virtual)"]
[null,null,null,"Materiales (por ejemplo, manuales, ordenadores portátiles, cursos de aprendizaje virtual)"]
[null,null,null,"Otros"]
[null,null,null,"Otros"]
[null,null,null,"Otros"]
[{"$f":"'Step 4. Plan de Acción'!A8","v":""},{"$f":"IF('Step 4. Plan de Acción'!F8=\"\",\"\",'Step 4. Plan de Acción'!F8)","v":""},{"$f":"IF('Step 4. Plan de Acción'!G8=\"\",\"\",'Step 4. Plan de Acción'!G8)","v":""},"Lugar (incluidas las comidas y las pausas)",null,null,null,{"$f":"IF(C34=\"A distancia\",((G34)+(IF(E38=\"\",G38,E38*F38*G38))+(IF(E39=\"\",G39,E39*F39*G39))+(IF(E40=\"\",G40,E40*F40*G40))+(IF(E41=\"\",G41,E41*F41*G41))+(IF(E42=\"\",G42,E42*G42))+(IF(E43=\"\",G43,E43*G43))+(IF(E44=\"\",G44,E44*G44))+(IF(E45=\"\",G45,E45*F45*G45))+(IF(E46=\"\",G46,E46*F46*G46))+(IF(E47=\"\",G47,E47*F47*G47)))*($G$4/$H$4),((G34)+(IF(E35=\"\",G35,E35*G35))+(IF(E36=\"\",G36,E36*F36*G36))+(IF(E37=\"\",G37,E37*F37*G37))+(IF(E38=\"\",G38,E38*F38*G38))+(IF(E39=\"\",G39,E39*F39*G39))+(IF(E40=\"\",G40,E40*F40*G40))+(IF(E41=\"\",G41,E41*F41*G41))+(IF(E42=\"\",G42,E42*G42))+(IF(E43=\"\",G43,E43*G43))+(IF(E44=\"\",G44,E44*G44))+(IF(E45=\"\",G45,E45*F45*G45))+(IF(E46=\"\",G46,E46*F46*G46))+(IF(E47=\"\",G47,E47*F47*G47)))*($G$4/$H$4))","v":0}]
["Descripción del presupuesto:",null,null,"Viajes"]
[null,null,null,"Viáticos"]
[null,null,null,"Alojamiento"]
[null,null,null,"Tiempo del personal"]
[null,null,null,"Tiempo del personal"]
[null,null,null,"Tiempo del personal"]
[null,null,null,"Tiempo del consultor"]
[null,null,null,"Materiales (por ejemplo, manuales, ordenadores portátiles, cursos de aprendizaje virtual)"]
[null,null,null,"Materiales (por ejemplo, manuales, ordenadores portátiles, cursos de aprendizaje virtual)"]
[null,null,null,"Materiales (por ejemplo, manuales, ordenadores portátiles, cursos de aprendizaje virtual)"]
[null,null,null,"Otros"]
[null,null,null,"Otros"]
[null,null,null,"Otros"]
[{"$f":"'Step 4. Plan de Acción'!A9","v":""},{"$f":"IF('Step 4. Plan de Acción'!F9=\"\",\"\",'Step 4. Plan de Acción'!F9)","v":""},{"$f":"IF('Step 4. Plan de Acción'!G9=\"\",\"\",'Step 4. Plan de Acción'!G9)","v":""},"Lugar (incluidas las comidas y las pausas)",null,null,null,{"$f":"IF(C48=\"A distancia\",((G48)+(IF(E52=\"\",G52,E52*F52*G52))+(IF(E53=\"\",G53,E53*F53*G53))+(IF(E54=\"\",G54,E54*F54*G54))+(IF(E55=\"\",G55,E55*F55*G55))+(IF(E56=\"\",G56,E56*G56))+(IF(E57=\"\",G57,E57*G57))+(IF(E58=\"\",G58,E58*G58))+(IF(E59=\"\",G59,E59*F59*G59))+(IF(E60=\"\",G60,E60*F60*G60))+(IF(E61=\"\",G61,E61*F61*G61)))*($G$4/$H$4),((G48)+(IF(E49=\"\",G49,E49*G49))+(IF(E50=\"\",G50,E50*F50*G50))+(IF(E51=\"\",G51,E51*F51*G51))+(IF(E52=\"\",G52,E52*F52*G52))+(IF(E53=\"\",G53,E53*F53*G53))+(IF(E54=\"\",G54,E54*F54*G54))+(IF(E55=\"\",G55,E55*F55*G55))+(IF(E56=\"\",G56,E56*G56))+(IF(E57=\"\",G57,E57*G57))+(IF(E58=\"\",G58,E58*G58))+(IF(E59=\"\",G59,E59*F59*G59))+(IF(E60=\"\",G60,E60*F60*G60))+(IF(E61=\"\",G61,E61*F61*G61)))*($G$4/$H$4))","v":0}]
["Descripción del presupuesto:",null,null,"Viajes"]
[null,null,null,"Viáticos"]
[null,null,null,"Alojamiento"]
[null,null,null,"Tiempo del personal"]
[null,null,null,"Tiempo del personal"]
[null,null,null,"Tiempo del personal"]
[null,null,null,"Tiempo del consultor"]
[null,null,null,"Materiales (por ejemplo, manuales, ordenadores portátiles, cursos de aprendizaje virtual)"]
[null,null,null,"Materiales (por ejemplo, manuales, ordenadores portátiles, cursos de aprendizaje virtual)"]
[null,null,null,"Materiales (por ejemplo, manuales, ordenadores portátiles, cursos de aprendizaje virtual)"]
[null,null,null,"Otros"]
[null,null,null,"Otros"]
[null,null,null,"Otros"]
[{"$f":"'Step 4. Plan de Acción'!A10","v":""},{"$f":"IF('Step 4. Plan de Acción'!F10=\"\",\"\",'Step 4. Plan de Acción'!F10)","v":""},{"$f":"IF('Step 4. Plan de Acción'!G10=\"\",\"\",'Step 4. Plan de Acción'!G10)","v":""},"Lugar (incluidas las comidas y las pausas)",null,null,null,{"$f":"IF(C62=\"A distancia\",((G62)+(IF(E66=\"\",G66,E66*F66*G66))+(IF(E67=\"\",G67,E67*F67*G67))+(IF(E68=\"\",G68,E68*F68*G68))+(IF(E69=\"\",G69,E69*F69*G69))+(IF(E70=\"\",G70,E70*G70))+(IF(E71=\"\",G71,E71*G71))+(IF(E72=\"\",G72,E72*G72))+(IF(E73=\"\",G73,E73*F73*G73))+(IF(E74=\"\",G74,E74*F74*G74))+(IF(E75=\"\",G75,E75*F75*G75)))*($G$4/$H$4),((G62)+(IF(E63=\"\",G63,E63*G63))+(IF(E64=\"\",G64,E64*F64*G64))+(IF(E65=\"\",G65,E65*F65*G65))+(IF(E66=\"\",G66,E66*F66*G66))+(IF(E67=\"\",G67,E67*F67*G67))+(IF(E68=\"\",G68,E68*F68*G68))+(IF(E69=\"\",G69,E69*F69*G69))+(IF(E70=\"\",G70,E70*G70))+(IF(E71=\"\",G71,E71*G71))+(IF(E72=\"\",G72,E72*G72))+(IF(E73=\"\",G73,E73*F73*G73))+(IF(E74=\"\",G74,E74*F74*G74))+(IF(E75=\"\",G75,E75*F75*G75)))*($G$4/$H$4))","v":0}]
["Descripción del presupuesto:",null,null,"Viajes"]
[null,null,null,"Viáticos"]
[null,null,null,"Alojamiento"]
[null,null,null,"Tiempo del personal"]
[null,null,null,"Tiempo del personal"]
[null,null,null,"Tiempo del personal"]
[null,null,null,"Tiempo del consultor"]
[null,null,null,"Materiales (por ejemplo, manuales, ordenadores portátiles, cursos de aprendizaje virtual)"]
[null,null,null,"Materiales (por ejemplo, manuales, ordenadores portátiles, cursos de aprendizaje virtual)"]
[null,null,null,"Materiales (por ejemplo, manuales, ordenadores portátiles, cursos de aprendizaje virtual)"]
[null,null,null,"Otros"]
[null,null,null,"Otros"]
[null,null,null,"Otros"]
[{"$f":"'Step 4. Plan de Acción'!A11","v":""},{"$f":"IF('Step 4. Plan de Acción'!F11=\"\",\"\",'Step 4. Plan de Acción'!F11)","v":""},{"$f":"IF('Step 4. Plan de Acción'!G11=\"\",\"\",'Step 4. Plan de Acción'!G11)","v":""},"Lugar (incluidas las comidas y las pausas)",null,null,null,{"$f":"IF(C76=\"A distancia\",((G76)+(IF(E80=\"\",G80,E80*F80*G80))+(IF(E81=\"\",G81,E81*F81*G81))+(IF(E82=\"\",G82,E82*F82*G82))+(IF(E83=\"\",G83,E83*F83*G83))+(IF(E84=\"\",G84,E84*G84))+(IF(E85=\"\",G85,E85*G85))+(IF(E86=\"\",G86,E86*G86))+(IF(E87=\"\",G87,E87*F87*G87))+(IF(E88=\"\",G88,E88*F88*G88))+(IF(E89=\"\",G89,E89*F89*G89)))*($G$4/$H$4),((G76)+(IF(E77=\"\",G77,E77*G77))+(IF(E78=\"\",G78,E78*F78*G78))+(IF(E79=\"\",G79,E79*F79*G79))+(IF(E80=\"\",G80,E80*F80*G80))+(IF(E81=\"\",G81,E81*F81*G81))+(IF(E82=\"\",G82,E82*F82*G82))+(IF(E83=\"\",G83,E83*F83*G83))+(IF(E84=\"\",G84,E84*G84))+(IF(E85=\"\",G85,E85*G85))+(IF(E86=\"\",G86,E86*G86))+(IF(E87=\"\",G87,E87*F87*G87))+(IF(E88=\"\",G88,E88*F88*G88))+(IF(E89=\"\",G89,E89*F89*G89)))*($G$4/$H$4))","v":0}]
["Descripción del presupuesto:",null,null,"Viajes"]
[null,null,null,"Viáticos"]
[null,null,null,"Alojamiento"]
[null,null,null,"Tiempo del personal"]
[null,null,null,"Tiempo del personal"]
[null,null,null,"Tiempo del personal"]
[null,null,null,"Tiempo del consultor"]
[null,null,null,"Materiales (por ejemplo, manuales, ordenadores portátiles, cursos de aprendizaje virtual)"]
[null,null,null,"Materiales (por ejemplo, manuales, ordenadores portátiles, cursos de aprendizaje virtual)"]
[null,null,null,"Materiales (por ejemplo, manuales, ordenadores portátiles, cursos de aprendizaje virtual)"]
[null,null,null,"Otros"]
[null,null,null,"Otros"]
[null,null,null,"Otros"]
[{"$f":"'Step 4. Plan de Acción'!A12","v":""},{"$f":"IF('Step 4. Plan de Acción'!F12=\"\",\"\",'Step 4. Plan de Acción'!F12)","v":""},{"$f":"IF('Step 4. Plan de Acción'!G12=\"\",\"\",'Step 4. Plan de Acción'!G12)","v":""},"Lugar (incluidas las comidas y las pausas)",null,null,null,{"$f":"IF(C90=\"A distancia\",((G90)+(IF(E94=\"\",G94,E94*F94*G94))+(IF(E95=\"\",G95,E95*F95*G95))+(IF(E96=\"\",G96,E96*F96*G96))+(IF(E97=\"\",G97,E97*F97*G97))+(IF(E98=\"\",G98,E98*G98))+(IF(E99=\"\",G99,E99*G99))+(IF(E100=\"\",G100,E100*G100))+(IF(E101=\"\",G101,E101*F101*G101))+(IF(E102=\"\",G102,E102*F102*G102))+(IF(E103=\"\",G103,E103*F103*G103)))*($G$4/$H$4),((G90)+(IF(E91=\"\",G91,E91*G91))+(IF(E92=\"\",G92,E92*F92*G92))+(IF(E93=\"\",G93,E93*F93*G93))+(IF(E94=\"\",G94,E94*F94*G94))+(IF(E95=\"\",G95,E95*F95*G95))+(IF(E96=\"\",G96,E96*F96*G96))+(IF(E97=\"\",G97,E97*F97*G97))+(IF(E98=\"\",G98,E98*G98))+(IF(E99=\"\",G99,E99*G99))+(IF(E100=\"\",G100,E100*G100))+(IF(E101=\"\",G101,E101*F101*G101))+(IF(E102=\"\",G102,E102*F102*G102))+(IF(E103=\"\",G103,E103*F103*G103)))*($G$4/$H$4))","v":0}]
["Descripción del presupuesto:",null,null,"Viajes"]
[null,null,null,"Viáticos"]
[null,null,null,"Alojamiento"]
[null,null,null,"Tiempo del personal"]
[null,null,null,"Tiempo del personal"]
[null,null,null,"Tiempo del personal"]
[null,null,null,"Tiempo del consultor"]
[null,null,null,"Materiales (por ejemplo, manuales, ordenadores portátiles, cursos de aprendizaje virtual)"]
[null,null,null,"Materiales (por ejemplo, manuales, ordenadores portátiles, cursos de aprendizaje virtual)"]
[null,null,null,"Materiales (por ejemplo, manuales, ordenadores portátiles, cursos de aprendizaje virtual)"]
[null,null,null,"Otros"]
[null,null,null,"Otros"]
[null,null,null,"Otros"]
[{"$f":"'Step 4. Plan de Acción'!A13","v":""},{"$f":"IF('Step 4. Plan de Acción'!F13=\"\",\"\",'Step 4. Plan de Acción'!F13)","v":""},{"$f":"IF('Step 4. Plan de Acción'!G13=\"\",\"\",'Step 4. Plan de Acción'!G13)","v":""},"Lugar (incluidas las comidas y las pausas)",null,null,null,{"$f":"IF(C104=\"A distancia\",((G104)+(IF(E108=\"\",G108,E108*F108*G108))+(IF(E109=\"\",G109,E109*F109*G109))+(IF(E110=\"\",G110,E110*F110*G110))+(IF(E111=\"\",G111,E111*F111*G111))+(IF(E112=\"\",G112,E112*G112))+(IF(E113=\"\",G113,E113*G113))+(IF(E114=\"\",G114,E114*G114))+(IF(E115=\"\",G115,E115*F115*G115))+(IF(E116=\"\",G116,E116*F116*G116))+(IF(E117=\"\",G117,E117*F117*G117)))*($G$4/$H$4),((G104)+(IF(E105=\"\",G105,E105*G105))+(IF(E106=\"\",G106,E106*F106*G106))+(IF(E107=\"\",G107,E107*F107*G107))+(IF(E108=\"\",G108,E108*F108*G108))+(IF(E109=\"\",G109,E109*F109*G109))+(IF(E110=\"\",G110,E110*F110*G110))+(IF(E111=\"\",G111,E111*F111*G111))+(IF(E112=\"\",G112,E112*G112))+(IF(E113=\"\",G113,E113*G113))+(IF(E114=\"\",G114,E114*G114))+(IF(E115=\"\",G115,E115*F115*G115))+(IF(E116=\"\",G116,E116*F116*G116))+(IF(E117=\"\",G117,E117*F117*G117)))*($G$4/$H$4))","v":0}]
["Descripción del presupuesto:",null,null,"Viajes"]
[null,null,null,"Viáticos"]
[null,null,null,"Alojamiento"]
[null,null,null,"Tiempo del personal"]
[null,null,null,"Tiempo del personal"]
[null,null,null,"Tiempo del personal"]
[null,null,null,"Tiempo del consultor"]
[null,null,null,"Materiales (por ejemplo, manuales, ordenadores portátiles, cursos de aprendizaje virtual)"]
[null,null,null,"Materiales (por ejemplo, manuales, ordenadores portátiles, cursos de aprendizaje virtual)"]
[null,null,null,"Materiales (por ejemplo, manuales, ordenadores portátiles, cursos de aprendizaje virtual)"]
[null,null,null,"Otros"]
[null,null,null,"Otros"]
[null,null,null,"Otros"]
[{"$f":"'Step 4. Plan de Acción'!A14","v":""},{"$f":"IF('Step 4. Plan de Acción'!F14=\"\",\"\",'Step 4. Plan de Acción'!F14)","v":""},{"$f":"IF('Step 4. Plan de Acción'!G14=\"\",\"\",'Step 4. Plan de Acción'!G14)","v":""},"Lugar (incluidas las comidas y las pausas)",null,null,null,{"$f":"IF(C118=\"A distancia\",((G118)+(IF(E122=\"\",G122,E122*F122*G122))+(IF(E123=\"\",G123,E123*F123*G123))+(IF(E124=\"\",G124,E124*F124*G124))+(IF(E125=\"\",G125,E125*F125*G125))+(IF(E126=\"\",G126,E126*G126))+(IF(E127=\"\",G127,E127*G127))+(IF(E128=\"\",G128,E128*G128))+(IF(E129=\"\",G129,E129*F129*G129))+(IF(E130=\"\",G130,E130*F130*G130))+(IF(E131=\"\",G131,E131*F131*G131)))*($G$4/$H$4),((G118)+(IF(E119=\"\",G119,E119*G119))+(IF(E120=\"\",G120,E120*F120*G120))+(IF(E121=\"\",G121,E121*F121*G121))+(IF(E122=\"\",G122,E122*F122*G122))+(IF(E123=\"\",G123,E123*F123*G123))+(IF(E124=\"\",G124,E124*F124*G124))+(IF(E125=\"\",G125,E125*F125*G125))+(IF(E126=\"\",G126,E126*G126))+(IF(E127=\"\",G127,E127*G127))+(IF(E128=\"\",G128,E128*G128))+(IF(E129=\"\",G129,E129*F129*G129))+(IF(E130=\"\",G130,E130*F130*G130))+(IF(E131=\"\",G131,E131*F131*G131)))*($G$4/$H$4))","v":0}]
["Descripción del presupuesto:",null,null,"Viajes"]
[null,null,null,"Viáticos"]
[null,null,null,"Alojamiento"]
[null,null,null,"Tiempo del personal"]
[null,null,null,"Tiempo del personal"]
[null,null,null,"Tiempo del personal"]
[null,null,null,"Tiempo del consultor"]
[null,null,null,"Materiales (por ejemplo, manuales, ordenadores portátiles, cursos de aprendizaje virtual)"]
[null,null,null,"Materiales (por ejemplo, manuales, ordenadores portátiles, cursos de aprendizaje virtual)"]
[null,null,null,"Materiales (por ejemplo, manuales, ordenadores portátiles, cursos de aprendizaje virtual)"]
[null,null,null,"Otros"]
[null,null,null,"Otros"]
[null,null,null,"Otros"]
[{"$f":"'Step 4. Plan de Acción'!A15","v":""},{"$f":"IF('Step 4. Plan de Acción'!F15=\"\",\"\",'Step 4. Plan de Acción'!F15)","v":""},{"$f":"IF('Step 4. Plan de Acción'!G15=\"\",\"\",'Step 4. Plan de Acción'!G15)","v":""},"Lugar (incluidas las comidas y las pausas)",null,null,null,{"$f":"IF(C132=\"A distancia\",((G132)+(IF(E136=\"\",G136,E136*F136*G136))+(IF(E137=\"\",G137,E137*F137*G137))+(IF(E138=\"\",G138,E138*F138*G138))+(IF(E139=\"\",G139,E139*F139*G139))+(IF(E140=\"\",G140,E140*G140))+(IF(E141=\"\",G141,E141*G141))+(IF(E142=\"\",G142,E142*G142))+(IF(E143=\"\",G143,E143*F143*G143))+(IF(E144=\"\",G144,E144*F144*G144))+(IF(E145=\"\",G145,E145*F145*G145)))*($G$4/$H$4),((G132)+(IF(E133=\"\",G133,E133*G133))+(IF(E134=\"\",G134,E134*F134*G134))+(IF(E135=\"\",G135,E135*F135*G135))+(IF(E136=\"\",G136,E136*F136*G136))+(IF(E137=\"\",G137,E137*F137*G137))+(IF(E138=\"\",G138,E138*F138*G138))+(IF(E139=\"\",G139,E139*F139*G139))+(IF(E140=\"\",G140,E140*G140))+(IF(E141=\"\",G141,E141*G141))+(IF(E142=\"\",G142,E142*G142))+(IF(E143=\"\",G143,E143*F143*G143))+(IF(E144=\"\",G144,E144*F144*G144))+(IF(E145=\"\",G145,E145*F145*G145)))*($G$4/$H$4))","v":0}]
["Descripción del presupuesto:",null,null,"Viajes"]
[null,null,null,"Viáticos"]
[null,null,null,"Alojamiento"]
[null,null,null,"Tiempo del personal"]
[null,null,null,"Tiempo del personal"]
[null,null,null,"Tiempo del personal"]
[null,null,null,"Tiempo del consultor"]
[null,null,null,"Materiales (por ejemplo, manuales, ordenadores portátiles, cursos de aprendizaje virtual)"]
[null,null,null,"Materiales (por ejemplo, manuales, ordenadores portátiles, cursos de aprendizaje virtual)"]
[null,null,null,"Materiales (por ejemplo, manuales, ordenadores portátiles, cursos de aprendizaje virtual)"]
[null,null,null,"Otros"]
[null,null,null,"Otros"]
[null,null,null,"Otros"]
[{"$f":"'Step 4. Plan de Acción'!A16","v":""},{"$f":"IF('Step 4. Plan de Acción'!F16=\"\",\"\",'Step 4. Plan de Acción'!F16)","v":""},{"$f":"IF('Step 4. Plan de Acción'!G16=\"\",\"\",'Step 4. Plan de Acción'!G16)","v":""},"Lugar (incluidas las comidas y las pausas)",null,null,null,{"$f":"IF(C146=\"A distancia\",((G146)+(IF(E150=\"\",G150,E150*F150*G150))+(IF(E151=\"\",G151,E151*F151*G151))+(IF(E152=\"\",G152,E152*F152*G152))+(IF(E153=\"\",G153,E153*F153*G153))+(IF(E154=\"\",G154,E154*G154))+(IF(E155=\"\",G155,E155*G155))+(IF(E156=\"\",G156,E156*G156))+(IF(E157=\"\",G157,E157*F157*G157))+(IF(E158=\"\",G158,E158*F158*G158))+(IF(E159=\"\",G159,E159*F159*G159)))*($G$4/$H$4),((G146)+(IF(E147=\"\",G147,E147*G147))+(IF(E148=\"\",G148,E148*F148*G148))+(IF(E149=\"\",G149,E149*F149*G149))+(IF(E150=\"\",G150,E150*F150*G150))+(IF(E151=\"\",G151,E151*F151*G151))+(IF(E152=\"\",G152,E152*F152*G152))+(IF(E153=\"\",G153,E153*F153*G153))+(IF(E154=\"\",G154,E154*G154))+(IF(E155=\"\",G155,E155*G155))+(IF(E156=\"\",G156,E156*G156))+(IF(E157=\"\",G157,E157*F157*G157))+(IF(E158=\"\",G158,E158*F158*G158))+(IF(E159=\"\",G159,E159*F159*G159)))*($G$4/$H$4))","v":0}]
["Descripción del presupuesto:",null,null,"Viajes"]
[null,null,null,"Viáticos"]
[null,null,null,"Alojamiento"]
[null,null,null,"Tiempo del personal"]
[null,null,null,"Tiempo del personal"]
[null,null,null,"Tiempo del personal"]
[null,null,null,"Tiempo del consultor"]
[null,null,null,"Materiales (por ejemplo, manuales, ordenadores portátiles, cursos de aprendizaje virtual)"]
[null,null,null,"Materiales (por ejemplo, manuales, ordenadores portátiles, cursos de aprendizaje virtual)"]
[null,null,null,"Materiales (por ejemplo, manuales, ordenadores portátiles, cursos de aprendizaje virtual)"]
[null,null,null,"Otros"]
[null,null,null,"Otros"]
[null,null,null,"Otros"]
[{"$f":"'Step 4. Plan de Acción'!A17","v":""},{"$f":"IF('Step 4. Plan de Acción'!F17=\"\",\"\",'Step 4. Plan de Acción'!F17)","v":""},{"$f":"IF('Step 4. Plan de Acción'!G17=\"\",\"\",'Step 4. Plan de Acción'!G17)","v":""},"Lugar (incluidas las comidas y las pausas)",null,null,null,{"$f":"IF(C160=\"A distancia\",((G160)+(IF(E164=\"\",G164,E164*F164*G164))+(IF(E165=\"\",G165,E165*F165*G165))+(IF(E166=\"\",G166,E166*F166*G166))+(IF(E167=\"\",G167,E167*F167*G167))+(IF(E168=\"\",G168,E168*G168))+(IF(E169=\"\",G169,E169*G169))+(IF(E170=\"\",G170,E170*G170))+(IF(E171=\"\",G171,E171*F171*G171))+(IF(E172=\"\",G172,E172*F172*G172))+(IF(E173=\"\",G173,E173*F173*G173)))*($G$4/$H$4),((G160)+(IF(E161=\"\",G161,E161*G161))+(IF(E162=\"\",G162,E162*F162*G162))+(IF(E163=\"\",G163,E163*F163*G163))+(IF(E164=\"\",G164,E164*F164*G164))+(IF(E165=\"\",G165,E165*F165*G165))+(IF(E166=\"\",G166,E166*F166*G166))+(IF(E167=\"\",G167,E167*F167*G167))+(IF(E168=\"\",G168,E168*G168))+(IF(E169=\"\",G169,E169*G169))+(IF(E170=\"\",G170,E170*G170))+(IF(E171=\"\",G171,E171*F171*G171))+(IF(E172=\"\",G172,E172*F172*G172))+(IF(E173=\"\",G173,E173*F173*G173)))*($G$4/$H$4))","v":0}]
["Descripción del presupuesto:",null,null,"Viajes"]
[null,null,null,"Viáticos"]
[null,null,null,"Alojamiento"]
[null,null,null,"Tiempo del personal"]
[null,null,null,"Tiempo del personal"]
[null,null,null,"Tiempo del personal"]
[null,null,null,"Tiempo del consultor"]
[null,null,null,"Materiales (por ejemplo, manuales, ordenadores portátiles, cursos de aprendizaje virtual)"]
[null,null,null,"Materiales (por ejemplo, manuales, ordenadores portátiles, cursos de aprendizaje virtual)"]
[null,null,null,"Materiales (por ejemplo, manuales, ordenadores portátiles, cursos de aprendizaje virtual)"]
[null,null,null,"Otros"]
[null,null,null,"Otros"]
[null,null,null,"Otros"]
[{"$f":"'Step 4. Plan de Acción'!A18","v":""},{"$f":"IF('Step 4. Plan de Acción'!F18=\"\",\"\",'Step 4. Plan de Acción'!F18)","v":""},{"$f":"IF('Step 4. Plan de Acción'!G18=\"\",\"\",'Step 4. Plan de Acción'!G18)","v":""},"Lugar (incluidas las comidas y las pausas)",null,null,null,{"$f":"IF(C174=\"A distancia\",((G174)+(IF(E178=\"\",G178,E178*F178*G178))+(IF(E179=\"\",G179,E179*F179*G179))+(IF(E180=\"\",G180,E180*F180*G180))+(IF(E181=\"\",G181,E181*F181*G181))+(IF(E182=\"\",G182,E182*G182))+(IF(E183=\"\",G183,E183*G183))+(IF(E184=\"\",G184,E184*G184))+(IF(E185=\"\",G185,E185*F185*G185))+(IF(E186=\"\",G186,E186*F186*G186))+(IF(E187=\"\",G187,E187*F187*G187)))*($G$4/$H$4),((G174)+(IF(E175=\"\",G175,E175*G175))+(IF(E176=\"\",G176,E176*F176*G176))+(IF(E177=\"\",G177,E177*F177*G177))+(IF(E178=\"\",G178,E178*F178*G178))+(IF(E179=\"\",G179,E179*F179*G179))+(IF(E180=\"\",G180,E180*F180*G180))+(IF(E181=\"\",G181,E181*F181*G181))+(IF(E182=\"\",G182,E182*G182))+(IF(E183=\"\",G183,E183*G183))+(IF(E184=\"\",G184,E184*G184))+(IF(E185=\"\",G185,E185*F185*G185))+(IF(E186=\"\",G186,E186*F186*G186))+(IF(E187=\"\",G187,E187*F187*G187)))*($G$4/$H$4))","v":0}]
["Descripción del presupuesto:",null,null,"Viajes"]
[null,null,null,"Viáticos"]
[null,null,null,"Alojamiento"]
[null,null,null,"Tiempo del personal"]
[null,null,null,"Tiempo del personal"]
[null,null,null,"Tiempo del personal"]
[null,null,null,"Tiempo del consultor"]
[null,null,null,"Materiales (por ejemplo, manuales, ordenadores portátiles, cursos de aprendizaje virtual)"]
[null,null,null,"Materiales (por ejemplo, manuales, ordenadores portátiles, cursos de aprendizaje virtual)"]
[null,null,null,"Materiales (por ejemplo, manuales, ordenadores portátiles, cursos de aprendizaje virtual)"]
[null,null,null,"Otros"]
[null,null,null,"Otros"]
[null,null,null,"Otros"]
[{"$f":"'Step 4. Plan de Acción'!A19","v":""},{"$f":"IF('Step 4. Plan de Acción'!F19=\"\",\"\",'Step 4. Plan de Acción'!F19)","v":""},{"$f":"IF('Step 4. Plan de Acción'!G19=\"\",\"\",'Step 4. Plan de Acción'!G19)","v":""},"Lugar (incluidas las comidas y las pausas)",null,null,null,{"$f":"IF(C188=\"A distancia\",((G188)+(IF(E192=\"\",G192,E192*F192*G192))+(IF(E193=\"\",G193,E193*F193*G193))+(IF(E194=\"\",G194,E194*F194*G194))+(IF(E195=\"\",G195,E195*F195*G195))+(IF(E196=\"\",G196,E196*G196))+(IF(E197=\"\",G197,E197*G197))+(IF(E198=\"\",G198,E198*G198))+(IF(E199=\"\",G199,E199*F199*G199))+(IF(E200=\"\",G200,E200*F200*G200))+(IF(E201=\"\",G201,E201*F201*G201)))*($G$4/$H$4),((G188)+(IF(E189=\"\",G189,E189*G189))+(IF(E190=\"\",G190,E190*F190*G190))+(IF(E191=\"\",G191,E191*F191*G191))+(IF(E192=\"\",G192,E192*F192*G192))+(IF(E193=\"\",G193,E193*F193*G193))+(IF(E194=\"\",G194,E194*F194*G194))+(IF(E195=\"\",G195,E195*F195*G195))+(IF(E196=\"\",G196,E196*G196))+(IF(E197=\"\",G197,E197*G197))+(IF(E198=\"\",G198,E198*G198))+(IF(E199=\"\",G199,E199*F199*G199))+(IF(E200=\"\",G200,E200*F200*G200))+(IF(E201=\"\",G201,E201*F201*G201)))*($G$4/$H$4))","v":0}]
["Descripción del presupuesto:",null,null,"Viajes"]
[null,null,null,"Viáticos"]
[null,null,null,"Alojamiento"]
[null,null,null,"Tiempo del personal"]
[null,null,null,"Tiempo del personal"]
[null,null,null,"Tiempo del personal"]
[null,null,null,"Tiempo del consultor"]
[null,null,null,"Materiales (por ejemplo, manuales, ordenadores portátiles, cursos de aprendizaje virtual)"]
[null,null,null,"Materiales (por ejemplo, manuales, ordenadores portátiles, cursos de aprendizaje virtual)"]
[null,null,null,"Materiales (por ejemplo, manuales, ordenadores portátiles, cursos de aprendizaje virtual)"]
[null,null,null,"Otros"]
[null,null,null,"Otros"]
[null,null,null,"Otros"]
[{"$f":"'Step 4. Plan de Acción'!A20","v":""},{"$f":"IF('Step 4. Plan de Acción'!F20=\"\",\"\",'Step 4. Plan de Acción'!F20)","v":""},{"$f":"IF('Step 4. Plan de Acción'!G20=\"\",\"\",'Step 4. Plan de Acción'!G20)","v":""},"Lugar (incluidas las comidas y las pausas)",null,null,null,{"$f":"IF(C202=\"A distancia\",((G202)+(IF(E206=\"\",G206,E206*F206*G206))+(IF(E207=\"\",G207,E207*F207*G207))+(IF(E208=\"\",G208,E208*F208*G208))+(IF(E209=\"\",G209,E209*F209*G209))+(IF(E210=\"\",G210,E210*G210))+(IF(E211=\"\",G211,E211*G211))+(IF(E212=\"\",G212,E212*G212))+(IF(E213=\"\",G213,E213*F213*G213))+(IF(E214=\"\",G214,E214*F214*G214))+(IF(E215=\"\",G215,E215*F215*G215)))*($G$4/$H$4),((G202)+(IF(E203=\"\",G203,E203*G203))+(IF(E204=\"\",G204,E204*F204*G204))+(IF(E205=\"\",G205,E205*F205*G205))+(IF(E206=\"\",G206,E206*F206*G206))+(IF(E207=\"\",G207,E207*F207*G207))+(IF(E208=\"\",G208,E208*F208*G208))+(IF(E209=\"\",G209,E209*F209*G209))+(IF(E210=\"\",G210,E210*G210))+(IF(E211=\"\",G211,E211*G211))+(IF(E212=\"\",G212,E212*G212))+(IF(E213=\"\",G213,E213*F213*G213))+(IF(E214=\"\",G214,E214*F214*G214))+(IF(E215=\"\",G215,E215*F215*G215)))*($G$4/$H$4))","v":0}]
["Descripción del presupuesto:",null,null,"Viajes"]
[null,null,null,"Viáticos"]
[null,null,null,"Alojamiento"]
[null,null,null,"Tiempo del personal"]
[null,null,null,"Tiempo del personal"]
[null,null,null,"Tiempo del personal"]
[null,null,null,"Tiempo del consultor"]
[null,null,null,"Materiales (por ejemplo, manuales, ordenadores portátiles, cursos de aprendizaje virtual)"]
[null,null,null,"Materiales (por ejemplo, manuales, ordenadores portátiles, cursos de aprendizaje virtual)"]
[null,null,null,"Materiales (por ejemplo, manuales, ordenadores portátiles, cursos de aprendizaje virtual)"]
[null,null,null,"Otros"]
[null,null,null,"Otros"]
[null,null,null,"Otros"]
[{"$f":"'Step 4. Plan de Acción'!A21","v":""},{"$f":"IF('Step 4. Plan de Acción'!F21=\"\",\"\",'Step 4. Plan de Acción'!F21)","v":""},{"$f":"IF('Step 4. Plan de Acción'!G21=\"\",\"\",'Step 4. Plan de Acción'!G21)","v":""},"Lugar (incluidas las comidas y las pausas)",null,null,null,{"$f":"IF(C216=\"A distancia\",((G216)+(IF(E220=\"\",G220,E220*F220*G220))+(IF(E221=\"\",G221,E221*F221*G221))+(IF(E222=\"\",G222,E222*F222*G222))+(IF(E223=\"\",G223,E223*F223*G223))+(IF(E224=\"\",G224,E224*G224))+(IF(E225=\"\",G225,E225*G225))+(IF(E226=\"\",G226,E226*G226))+(IF(E227=\"\",G227,E227*F227*G227))+(IF(E228=\"\",G228,E228*F228*G228))+(IF(E229=\"\",G229,E229*F229*G229)))*($G$4/$H$4),((G216)+(IF(E217=\"\",G217,E217*G217))+(IF(E218=\"\",G218,E218*F218*G218))+(IF(E219=\"\",G219,E219*F219*G219))+(IF(E220=\"\",G220,E220*F220*G220))+(IF(E221=\"\",G221,E221*F221*G221))+(IF(E222=\"\",G222,E222*F222*G222))+(IF(E223=\"\",G223,E223*F223*G223))+(IF(E224=\"\",G224,E224*G224))+(IF(E225=\"\",G225,E225*G225))+(IF(E226=\"\",G226,E226*G226))+(IF(E227=\"\",G227,E227*F227*G227))+(IF(E228=\"\",G228,E228*F228*G228))+(IF(E229=\"\",G229,E229*F229*G229)))*($G$4/$H$4))","v":0}]
["Descripción del presupuesto:",null,null,"Viajes"]
[null,null,null,"Viáticos"]
[null,null,null,"Alojamiento"]
[null,null,null,"Tiempo del personal"]
[null,null,null,"Tiempo del personal"]
[null,null,null,"Tiempo del personal"]
[null,null,null,"Tiempo del consultor"]
[null,null,null,"Materiales (por ejemplo, manuales, ordenadores portátiles, cursos de aprendizaje virtual)"]
[null,null,null,"Materiales (por ejemplo, manuales, ordenadores portátiles, cursos de aprendizaje virtual)"]
[null,null,null,"Materiales (por ejemplo, manuales, ordenadores portátiles, cursos de aprendizaje virtual)"]
[null,null,null,"Otros"]
[null,null,null,"Otros"]
[null,null,null,"Otros"]
[{"$f":"'Step 4. Plan de Acción'!A22","v":""},{"$f":"IF('Step 4. Plan de Acción'!F22=\"\",\"\",'Step 4. Plan de Acción'!F22)","v":""},{"$f":"IF('Step 4. Plan de Acción'!G22=\"\",\"\",'Step 4. Plan de Acción'!G22)","v":""},"Lugar (incluidas las comidas y las pausas)",null,null,null,{"$f":"IF(C230=\"A distancia\",((G230)+(IF(E234=\"\",G234,E234*F234*G234))+(IF(E235=\"\",G235,E235*F235*G235))+(IF(E236=\"\",G236,E236*F236*G236))+(IF(E237=\"\",G237,E237*F237*G237))+(IF(E238=\"\",G238,E238*G238))+(IF(E239=\"\",G239,E239*G239))+(IF(E240=\"\",G240,E240*G240))+(IF(E241=\"\",G241,E241*F241*G241))+(IF(E242=\"\",G242,E242*F242*G242))+(IF(E243=\"\",G243,E243*F243*G243)))*($G$4/$H$4),((G230)+(IF(E231=\"\",G231,E231*G231))+(IF(E232=\"\",G232,E232*F232*G232))+(IF(E233=\"\",G233,E233*F233*G233))+(IF(E234=\"\",G234,E234*F234*G234))+(IF(E235=\"\",G235,E235*F235*G235))+(IF(E236=\"\",G236,E236*F236*G236))+(IF(E237=\"\",G237,E237*F237*G237))+(IF(E238=\"\",G238,E238*G238))+(IF(E239=\"\",G239,E239*G239))+(IF(E240=\"\",G240,E240*G240))+(IF(E241=\"\",G241,E241*F241*G241))+(IF(E242=\"\",G242,E242*F242*G242))+(IF(E243=\"\",G243,E243*F243*G243)))*($G$4/$H$4))","v":0}]
["Descripción del presupuesto:",null,null,"Viajes"]
[null,null,null,"Viáticos"]
[null,null,null,"Alojamiento"]
[null,null,null,"Tiempo del personal"]
[null,null,null,"Tiempo del personal"]
[null,null,null,"Tiempo del personal"]
[null,null,null,"Tiempo del consultor"]
[null,null,null,"Materiales (por ejemplo, manuales, ordenadores portátiles, cursos de aprendizaje virtual)"]
[null,null,null,"Materiales (por ejemplo, manuales, ordenadores portátiles, cursos de aprendizaje virtual)"]
[null,null,null,"Materiales (por ejemplo, manuales, ordenadores portátiles, cursos de aprendizaje virtual)"]
[null,null,null,"Otros"]
[null,null,null,"Otros"]
[null,null,null,"Otros"]
[{"$f":"'Step 4. Plan de Acción'!A23","v":""},{"$f":"IF('Step 4. Plan de Acción'!F23=\"\",\"\",'Step 4. Plan de Acción'!F23)","v":""},{"$f":"IF('Step 4. Plan de Acción'!G23=\"\",\"\",'Step 4. Plan de Acción'!G23)","v":""},"Lugar (incluidas las comidas y las pausas)",null,null,null,{"$f":"IF(C244=\"A distancia\",((G244)+(IF(E248=\"\",G248,E248*F248*G248))+(IF(E249=\"\",G249,E249*F249*G249))+(IF(E250=\"\",G250,E250*F250*G250))+(IF(E251=\"\",G251,E251*F251*G251))+(IF(E252=\"\",G252,E252*G252))+(IF(E253=\"\",G253,E253*G253))+(IF(E254=\"\",G254,E254*G254))+(IF(E255=\"\",G255,E255*F255*G255))+(IF(E256=\"\",G256,E256*F256*G256))+(IF(E257=\"\",G257,E257*F257*G257)))*($G$4/$H$4),((G244)+(IF(E245=\"\",G245,E245*G245))+(IF(E246=\"\",G246,E246*F246*G246))+(IF(E247=\"\",G247,E247*F247*G247))+(IF(E248=\"\",G248,E248*F248*G248))+(IF(E249=\"\",G249,E249*F249*G249))+(IF(E250=\"\",G250,E250*F250*G250))+(IF(E251=\"\",G251,E251*F251*G251))+(IF(E252=\"\",G252,E252*G252))+(IF(E253=\"\",G253,E253*G253))+(IF(E254=\"\",G254,E254*G254))+(IF(E255=\"\",G255,E255*F255*G255))+(IF(E256=\"\",G256,E256*F256*G256))+(IF(E257=\"\",G257,E257*F257*G257)))*($G$4/$H$4))","v":0}]
["Descripción del presupuesto:",null,null,"Viajes"]
[null,null,null,"Viáticos"]
[null,null,null,"Alojamiento"]
[null,null,null,"Tiempo del personal"]
[null,null,null,"Tiempo del personal"]
[null,null,null,"Tiempo del personal"]
[null,null,null,"Tiempo del consultor"]
[null,null,null,"Materiales (por ejemplo, manuales, ordenadores portátiles, cursos de aprendizaje virtual)"]
[null,null,null,"Materiales (por ejemplo, manuales, ordenadores portátiles, cursos de aprendizaje virtual)"]
[null,null,null,"Materiales (por ejemplo, manuales, ordenadores portátiles, cursos de aprendizaje virtual)"]
[null,null,null,"Otros"]
[null,null,null,"Otros"]
[null,null,null,"Otros"]
[{"$f":"'Step 4. Plan de Acción'!A24","v":""},{"$f":"IF('Step 4. Plan de Acción'!F24=\"\",\"\",'Step 4. Plan de Acción'!F24)","v":""},{"$f":"IF('Step 4. Plan de Acción'!G24=\"\",\"\",'Step 4. Plan de Acción'!G24)","v":""},"Lugar (incluidas las comidas y las pausas)",null,null,null,{"$f":"IF(C258=\"A distancia\",((G258)+(IF(E262=\"\",G262,E262*F262*G262))+(IF(E263=\"\",G263,E263*F263*G263))+(IF(E264=\"\",G264,E264*F264*G264))+(IF(E265=\"\",G265,E265*F265*G265))+(IF(E266=\"\",G266,E266*G266))+(IF(E267=\"\",G267,E267*G267))+(IF(E268=\"\",G268,E268*G268))+(IF(E269=\"\",G269,E269*F269*G269))+(IF(E270=\"\",G270,E270*F270*G270))+(IF(E271=\"\",G271,E271*F271*G271)))*($G$4/$H$4),((G258)+(IF(E259=\"\",G259,E259*G259))+(IF(E260=\"\",G260,E260*F260*G260))+(IF(E261=\"\",G261,E261*F261*G261))+(IF(E262=\"\",G262,E262*F262*G262))+(IF(E263=\"\",G263,E263*F263*G263))+(IF(E264=\"\",G264,E264*F264*G264))+(IF(E265=\"\",G265,E265*F265*G265))+(IF(E266=\"\",G266,E266*G266))+(IF(E267=\"\",G267,E267*G267))+(IF(E268=\"\",G268,E268*G268))+(IF(E269=\"\",G269,E269*F269*G269))+(IF(E270=\"\",G270,E270*F270*G270))+(IF(E271=\"\",G271,E271*F271*G271)))*($G$4/$H$4))","v":0}]
["Descripción del presupuesto:",null,null,"Viajes"]
[null,null,null,"Viáticos"]
[null,null,null,"Alojamiento"]
[null,null,null,"Tiempo del personal"]
[null,null,null,"Tiempo del personal"]
[null,null,null,"Tiempo del personal"]
[null,null,null,"Tiempo del consultor"]
[null,null,null,"Materiales (por ejemplo, manuales, ordenadores portátiles, cursos de aprendizaje virtual)"]
[null,null,null,"Materiales (por ejemplo, manuales, ordenadores portátiles, cursos de aprendizaje virtual)"]
[null,null,null,"Materiales (por ejemplo, manuales, ordenadores portátiles, cursos de aprendizaje virtual)"]
[null,null,null,"Otros"]
[null,null,null,"Otros"]
[null,null,null,"Otros"]
[{"$f":"'Step 4. Plan de Acción'!A25","v":""},{"$f":"IF('Step 4. Plan de Acción'!F25=\"\",\"\",'Step 4. Plan de Acción'!F25)","v":""},{"$f":"IF('Step 4. Plan de Acción'!G25=\"\",\"\",'Step 4. Plan de Acción'!G25)","v":""},"Lugar (incluidas las comidas y las pausas)",null,null,null,{"$f":"IF(C272=\"A distancia\",((G272)+(IF(E276=\"\",G276,E276*F276*G276))+(IF(E277=\"\",G277,E277*F277*G277))+(IF(E278=\"\",G278,E278*F278*G278))+(IF(E279=\"\",G279,E279*F279*G279))+(IF(E280=\"\",G280,E280*G280))+(IF(E281=\"\",G281,E281*G281))+(IF(E282=\"\",G282,E282*G282))+(IF(E283=\"\",G283,E283*F283*G283))+(IF(E284=\"\",G284,E284*F284*G284))+(IF(E285=\"\",G285,E285*F285*G285)))*($G$4/$H$4),((G272)+(IF(E273=\"\",G273,E273*G273))+(IF(E274=\"\",G274,E274*F274*G274))+(IF(E275=\"\",G275,E275*F275*G275))+(IF(E276=\"\",G276,E276*F276*G276))+(IF(E277=\"\",G277,E277*F277*G277))+(IF(E278=\"\",G278,E278*F278*G278))+(IF(E279=\"\",G279,E279*F279*G279))+(IF(E280=\"\",G280,E280*G280))+(IF(E281=\"\",G281,E281*G281))+(IF(E282=\"\",G282,E282*G282))+(IF(E283=\"\",G283,E283*F283*G283))+(IF(E284=\"\",G284,E284*F284*G284))+(IF(E285=\"\",G285,E285*F285*G285)))*($G$4/$H$4))","v":0}]
["Descripción del presupuesto:",null,null,"Viajes"]
[null,null,null,"Viáticos"]
[null,null,null,"Alojamiento"]
[null,null,null,"Tiempo del personal"]
[null,null,null,"Tiempo del personal"]
[null,null,null,"Tiempo del personal"]
[null,null,null,"Tiempo del consultor"]
[null,null,null,"Materiales (por ejemplo, manuales, ordenadores portátiles, cursos de aprendizaje virtual)"]
[null,null,null,"Materiales (por ejemplo, manuales, ordenadores portátiles, cursos de aprendizaje virtual)"]
[null,null,null,"Materiales (por ejemplo, manuales, ordenadores portátiles, cursos de aprendizaje virtual)"]
[null,null,null,"Otros"]
[null,null,null,"Otros"]
[null,null,null,"Otros"]
[{"$f":"'Step 4. Plan de Acción'!A26","v":""},{"$f":"IF('Step 4. Plan de Acción'!F26=\"\",\"\",'Step 4. Plan de Acción'!F26)","v":""},{"$f":"IF('Step 4. Plan de Acción'!G26=\"\",\"\",'Step 4. Plan de Acción'!G26)","v":""},"Lugar (incluidas las comidas y las pausas)",null,null,null,{"$f":"IF(C286=\"A distancia\",((G286)+(IF(E290=\"\",G290,E290*F290*G290))+(IF(E291=\"\",G291,E291*F291*G291))+(IF(E292=\"\",G292,E292*F292*G292))+(IF(E293=\"\",G293,E293*F293*G293))+(IF(E294=\"\",G294,E294*G294))+(IF(E295=\"\",G295,E295*G295))+(IF(E296=\"\",G296,E296*G296))+(IF(E297=\"\",G297,E297*F297*G297))+(IF(E298=\"\",G298,E298*F298*G298))+(IF(E299=\"\",G299,E299*F299*G299)))*($G$4/$H$4),((G286)+(IF(E287=\"\",G287,E287*G287))+(IF(E288=\"\",G288,E288*F288*G288))+(IF(E289=\"\",G289,E289*F289*G289))+(IF(E290=\"\",G290,E290*F290*G290))+(IF(E291=\"\",G291,E291*F291*G291))+(IF(E292=\"\",G292,E292*F292*G292))+(IF(E293=\"\",G293,E293*F293*G293))+(IF(E294=\"\",G294,E294*G294))+(IF(E295=\"\",G295,E295*G295))+(IF(E296=\"\",G296,E296*G296))+(IF(E297=\"\",G297,E297*F297*G297))+(IF(E298=\"\",G298,E298*F298*G298))+(IF(E299=\"\",G299,E299*F299*G299)))*($G$4/$H$4))","v":0}]
["Descripción del presupuesto:",null,null,"Viajes"]
[null,null,null,"Viáticos"]
[null,null,null,"Alojamiento"]
[null,null,null,"Tiempo del personal"]
[null,null,null,"Tiempo del personal"]
[null,null,null,"Tiempo del personal"]
[null,null,null,"Tiempo del consultor"]
[null,null,null,"Materiales (por ejemplo, manuales, ordenadores portátiles, cursos de aprendizaje virtual)"]
[null,null,null,"Materiales (por ejemplo, manuales, ordenadores portátiles, cursos de aprendizaje virtual)"]
[null,null,null,"Materiales (por ejemplo, manuales, ordenadores portátiles, cursos de aprendizaje virtual)"]
[null,null,null,"Otros"]
[null,null,null,"Otros"]
[null,null,null,"Otros"]
[{"$f":"'Step 4. Plan de Acción'!A27","v":""},{"$f":"IF('Step 4. Plan de Acción'!F27=\"\",\"\",'Step 4. Plan de Acción'!F27)","v":""},{"$f":"IF('Step 4. Plan de Acción'!G27=\"\",\"\",'Step 4. Plan de Acción'!G27)","v":""},"Lugar (incluidas las comidas y las pausas)",null,null,null,{"$f":"IF(C300=\"A distancia\",((G300)+(IF(E304=\"\",G304,E304*F304*G304))+(IF(E305=\"\",G305,E305*F305*G305))+(IF(E306=\"\",G306,E306*F306*G306))+(IF(E307=\"\",G307,E307*F307*G307))+(IF(E308=\"\",G308,E308*G308))+(IF(E309=\"\",G309,E309*G309))+(IF(E310=\"\",G310,E310*G310))+(IF(E311=\"\",G311,E311*F311*G311))+(IF(E312=\"\",G312,E312*F312*G312))+(IF(E313=\"\",G313,E313*F313*G313)))*($G$4/$H$4),((G300)+(IF(E301=\"\",G301,E301*G301))+(IF(E302=\"\",G302,E302*F302*G302))+(IF(E303=\"\",G303,E303*F303*G303))+(IF(E304=\"\",G304,E304*F304*G304))+(IF(E305=\"\",G305,E305*F305*G305))+(IF(E306=\"\",G306,E306*F306*G306))+(IF(E307=\"\",G307,E307*F307*G307))+(IF(E308=\"\",G308,E308*G308))+(IF(E309=\"\",G309,E309*G309))+(IF(E310=\"\",G310,E310*G310))+(IF(E311=\"\",G311,E311*F311*G311))+(IF(E312=\"\",G312,E312*F312*G312))+(IF(E313=\"\",G313,E313*F313*G313)))*($G$4/$H$4))","v":0}]
["Descripción del presupuesto:",null,null,"Viajes"]
[null,null,null,"Viáticos"]
[null,null,null,"Alojamiento"]
[null,null,null,"Tiempo del personal"]
[null,null,null,"Tiempo del personal"]
[null,null,null,"Tiempo del personal"]
[null,null,null,"Tiempo del consultor"]
[null,null,null,"Materiales (por ejemplo, manuales, ordenadores portátiles, cursos de aprendizaje virtual)"]
[null,null,null,"Materiales (por ejemplo, manuales, ordenadores portátiles, cursos de aprendizaje virtual)"]
[null,null,null,"Materiales (por ejemplo, manuales, ordenadores portátiles, cursos de aprendizaje virtual)"]
[null,null,null,"Otros"]
[null,null,null,"Otros"]
[null,null,null,"Otros"]
[{"$f":"'Step 4. Plan de Acción'!A28","v":""},{"$f":"IF('Step 4. Plan de Acción'!F28=\"\",\"\",'Step 4. Plan de Acción'!F28)","v":""},{"$f":"IF('Step 4. Plan de Acción'!G28=\"\",\"\",'Step 4. Plan de Acción'!G28)","v":""},"Lugar (incluidas las comidas y las pausas)",null,null,null,{"$f":"IF(C314=\"A distancia\",((G314)+(IF(E318=\"\",G318,E318*F318*G318))+(IF(E319=\"\",G319,E319*F319*G319))+(IF(E320=\"\",G320,E320*F320*G320))+(IF(E321=\"\",G321,E321*F321*G321))+(IF(E322=\"\",G322,E322*G322))+(IF(E323=\"\",G323,E323*G323))+(IF(E324=\"\",G324,E324*G324))+(IF(E325=\"\",G325,E325*F325*G325))+(IF(E326=\"\",G326,E326*F326*G326))+(IF(E327=\"\",G327,E327*F327*G327)))*($G$4/$H$4),((G314)+(IF(E315=\"\",G315,E315*G315))+(IF(E316=\"\",G316,E316*F316*G316))+(IF(E317=\"\",G317,E317*F317*G317))+(IF(E318=\"\",G318,E318*F318*G318))+(IF(E319=\"\",G319,E319*F319*G319))+(IF(E320=\"\",G320,E320*F320*G320))+(IF(E321=\"\",G321,E321*F321*G321))+(IF(E322=\"\",G322,E322*G322))+(IF(E323=\"\",G323,E323*G323))+(IF(E324=\"\",G324,E324*G324))+(IF(E325=\"\",G325,E325*F325*G325))+(IF(E326=\"\",G326,E326*F326*G326))+(IF(E327=\"\",G327,E327*F327*G327)))*($G$4/$H$4))","v":0}]
["Descripción del presupuesto:",null,null,"Viajes"]
[null,null,null,"Viáticos"]
[null,null,null,"Alojamiento"]
[null,null,null,"Tiempo del personal"]
[null,null,null,"Tiempo del personal"]
[null,null,null,"Tiempo del personal"]
[null,null,null,"Tiempo del consultor"]
[null,null,null,"Materiales (por ejemplo, manuales, ordenadores portátiles, cursos de aprendizaje virtual)"]
[null,null,null,"Materiales (por ejemplo, manuales, ordenadores portátiles, cursos de aprendizaje virtual)"]
[null,null,null,"Materiales (por ejemplo, manuales, ordenadores portátiles, cursos de aprendizaje virtual)"]
[null,null,null,"Otros"]
[null,null,null,"Otros"]
[null,null,null,"Otros"]
[{"$f":"'Step 4. Plan de Acción'!A29","v":""},{"$f":"IF('Step 4. Plan de Acción'!F29=\"\",\"\",'Step 4. Plan de Acción'!F29)","v":""},{"$f":"IF('Step 4. Plan de Acción'!G29=\"\",\"\",'Step 4. Plan de Acción'!G29)","v":""},"Lugar (incluidas las comidas y las pausas)",null,null,null,{"$f":"IF(C328=\"A distancia\",((G328)+(IF(E332=\"\",G332,E332*F332*G332))+(IF(E333=\"\",G333,E333*F333*G333))+(IF(E334=\"\",G334,E334*F334*G334))+(IF(E335=\"\",G335,E335*F335*G335))+(IF(E336=\"\",G336,E336*G336))+(IF(E337=\"\",G337,E337*G337))+(IF(E338=\"\",G338,E338*G338))+(IF(E339=\"\",G339,E339*F339*G339))+(IF(E340=\"\",G340,E340*F340*G340))+(IF(E341=\"\",G341,E341*F341*G341)))*($G$4/$H$4),((G328)+(IF(E329=\"\",G329,E329*G329))+(IF(E330=\"\",G330,E330*F330*G330))+(IF(E331=\"\",G331,E331*F331*G331))+(IF(E332=\"\",G332,E332*F332*G332))+(IF(E333=\"\",G333,E333*F333*G333))+(IF(E334=\"\",G334,E334*F334*G334))+(IF(E335=\"\",G335,E335*F335*G335))+(IF(E336=\"\",G336,E336*G336))+(IF(E337=\"\",G337,E337*G337))+(IF(E338=\"\",G338,E338*G338))+(IF(E339=\"\",G339,E339*F339*G339))+(IF(E340=\"\",G340,E340*F340*G340))+(IF(E341=\"\",G341,E341*F341*G341)))*($G$4/$H$4))","v":0}]
["Descripción del presupuesto:",null,null,"Viajes"]
[null,null,null,"Viáticos"]
[null,null,null,"Alojamiento"]
[null,null,null,"Tiempo del personal"]
[null,null,null,"Tiempo del personal"]
[null,null,null,"Tiempo del personal"]
[null,null,null,"Tiempo del consultor"]
[null,null,null,"Materiales (por ejemplo, manuales, ordenadores portátiles, cursos de aprendizaje virtual)"]
[null,null,null,"Materiales (por ejemplo, manuales, ordenadores portátiles, cursos de aprendizaje virtual)"]
[null,null,null,"Materiales (por ejemplo, manuales, ordenadores portátiles, cursos de aprendizaje virtual)"]
[null,null,null,"Otros"]
[null,null,null,"Otros"]
[null,null,null,"Otros"]
[{"$f":"'Step 4. Plan de Acción'!A30","v":""},{"$f":"IF('Step 4. Plan de Acción'!F30=\"\",\"\",'Step 4. Plan de Acción'!F30)","v":""},{"$f":"IF('Step 4. Plan de Acción'!G30=\"\",\"\",'Step 4. Plan de Acción'!G30)","v":""},"Lugar (incluidas las comidas y las pausas)",null,null,null,{"$f":"IF(C342=\"A distancia\",((G342)+(IF(E346=\"\",G346,E346*F346*G346))+(IF(E347=\"\",G347,E347*F347*G347))+(IF(E348=\"\",G348,E348*F348*G348))+(IF(E349=\"\",G349,E349*F349*G349))+(IF(E350=\"\",G350,E350*G350))+(IF(E351=\"\",G351,E351*G351))+(IF(E352=\"\",G352,E352*G352))+(IF(E353=\"\",G353,E353*F353*G353))+(IF(E354=\"\",G354,E354*F354*G354))+(IF(E355=\"\",G355,E355*F355*G355)))*($G$4/$H$4),((G342)+(IF(E343=\"\",G343,E343*G343))+(IF(E344=\"\",G344,E344*F344*G344))+(IF(E345=\"\",G345,E345*F345*G345))+(IF(E346=\"\",G346,E346*F346*G346))+(IF(E347=\"\",G347,E347*F347*G347))+(IF(E348=\"\",G348,E348*F348*G348))+(IF(E349=\"\",G349,E349*F349*G349))+(IF(E350=\"\",G350,E350*G350))+(IF(E351=\"\",G351,E351*G351))+(IF(E352=\"\",G352,E352*G352))+(IF(E353=\"\",G353,E353*F353*G353))+(IF(E354=\"\",G354,E354*F354*G354))+(IF(E355=\"\",G355,E355*F355*G355)))*($G$4/$H$4))","v":0}]
["Descripción del presupuesto:",null,null,"Viajes"]
[null,null,null,"Viáticos"]
[null,null,null,"Alojamiento"]
[null,null,null,"Tiempo del personal"]
[null,null,null,"Tiempo del personal"]
[null,null,null,"Tiempo del personal"]
[null,null,null,"Tiempo del consultor"]
[null,null,null,"Materiales (por ejemplo, manuales, ordenadores portátiles, cursos de aprendizaje virtual)"]
[null,null,null,"Materiales (por ejemplo, manuales, ordenadores portátiles, cursos de aprendizaje virtual)"]
[null,null,null,"Materiales (por ejemplo, manuales, ordenadores portátiles, cursos de aprendizaje virtual)"]
[null,null,null,"Otros"]
[null,null,null,"Otros"]
[null,null,null,"Otros"]
[{"$f":"'Step 4. Plan de Acción'!A31","v":""},{"$f":"IF('Step 4. Plan de Acción'!F31=\"\",\"\",'Step 4. Plan de Acción'!F31)","v":""},{"$f":"IF('Step 4. Plan de Acción'!G31=\"\",\"\",'Step 4. Plan de Acción'!G31)","v":""},"Lugar (incluidas las comidas y las pausas)",null,null,null,{"$f":"IF(C356=\"A distancia\",((G356)+(IF(E360=\"\",G360,E360*F360*G360))+(IF(E361=\"\",G361,E361*F361*G361))+(IF(E362=\"\",G362,E362*F362*G362))+(IF(E363=\"\",G363,E363*F363*G363))+(IF(E364=\"\",G364,E364*G364))+(IF(E365=\"\",G365,E365*G365))+(IF(E366=\"\",G366,E366*G366))+(IF(E367=\"\",G367,E367*F367*G367))+(IF(E368=\"\",G368,E368*F368*G368))+(IF(E369=\"\",G369,E369*F369*G369)))*($G$4/$H$4),((G356)+(IF(E357=\"\",G357,E357*G357))+(IF(E358=\"\",G358,E358*F358*G358))+(IF(E359=\"\",G359,E359*F359*G359))+(IF(E360=\"\",G360,E360*F360*G360))+(IF(E361=\"\",G361,E361*F361*G361))+(IF(E362=\"\",G362,E362*F362*G362))+(IF(E363=\"\",G363,E363*F363*G363))+(IF(E364=\"\",G364,E364*G364))+(IF(E365=\"\",G365,E365*G365))+(IF(E366=\"\",G366,E366*G366))+(IF(E367=\"\",G367,E367*F367*G367))+(IF(E368=\"\",G368,E368*F368*G368))+(IF(E369=\"\",G369,E369*F369*G369)))*($G$4/$H$4))","v":0}]
["Descripción del presupuesto:",null,null,"Viajes"]
[null,null,null,"Viáticos"]
[null,null,null,"Alojamiento"]
[null,null,null,"Tiempo del personal"]
[null,null,null,"Tiempo del personal"]
[null,null,null,"Tiempo del personal"]
[null,null,null,"Tiempo del consultor"]
[null,null,null,"Materiales (por ejemplo, manuales, ordenadores portátiles, cursos de aprendizaje virtual)"]
[null,null,null,"Materiales (por ejemplo, manuales, ordenadores portátiles, cursos de aprendizaje virtual)"]
[null,null,null,"Materiales (por ejemplo, manuales, ordenadores portátiles, cursos de aprendizaje virtual)"]
[null,null,null,"Otros"]
[null,null,null,"Otros"]
[null,null,null,"Otros"]
[{"$f":"'Step 4. Plan de Acción'!A32","v":""},{"$f":"IF('Step 4. Plan de Acción'!F32=\"\",\"\",'Step 4. Plan de Acción'!F32)","v":""},{"$f":"IF('Step 4. Plan de Acción'!G32=\"\",\"\",'Step 4. Plan de Acción'!G32)","v":""},"Lugar (incluidas las comidas y las pausas)",null,null,null,{"$f":"IF(C370=\"A distancia\",((G370)+(IF(E374=\"\",G374,E374*F374*G374))+(IF(E375=\"\",G375,E375*F375*G375))+(IF(E376=\"\",G376,E376*F376*G376))+(IF(E377=\"\",G377,E377*F377*G377))+(IF(E378=\"\",G378,E378*G378))+(IF(E379=\"\",G379,E379*G379))+(IF(E380=\"\",G380,E380*G380))+(IF(E381=\"\",G381,E381*F381*G381))+(IF(E382=\"\",G382,E382*F382*G382))+(IF(E383=\"\",G383,E383*F383*G383)))*($G$4/$H$4),((G370)+(IF(E371=\"\",G371,E371*G371))+(IF(E372=\"\",G372,E372*F372*G372))+(IF(E373=\"\",G373,E373*F373*G373))+(IF(E374=\"\",G374,E374*F374*G374))+(IF(E375=\"\",G375,E375*F375*G375))+(IF(E376=\"\",G376,E376*F376*G376))+(IF(E377=\"\",G377,E377*F377*G377))+(IF(E378=\"\",G378,E378*G378))+(IF(E379=\"\",G379,E379*G379))+(IF(E380=\"\",G380,E380*G380))+(IF(E381=\"\",G381,E381*F381*G381))+(IF(E382=\"\",G382,E382*F382*G382))+(IF(E383=\"\",G383,E383*F383*G383)))*($G$4/$H$4))","v":0}]
["Descripción del presupuesto:",null,null,"Viajes"]
[null,null,null,"Viáticos"]
[null,null,null,"Alojamiento"]
[null,null,null,"Tiempo del personal"]
[null,null,null,"Tiempo del personal"]
[null,null,null,"Tiempo del personal"]
[null,null,null,"Tiempo del consultor"]
[null,null,null,"Materiales (por ejemplo, manuales, ordenadores portátiles, cursos de aprendizaje virtual)"]
[null,null,null,"Materiales (por ejemplo, manuales, ordenadores portátiles, cursos de aprendizaje virtual)"]
[null,null,null,"Materiales (por ejemplo, manuales, ordenadores portátiles, cursos de aprendizaje virtual)"]
[null,null,null,"Otros"]
[null,null,null,"Otros"]
[null,null,null,"Otros"]
[{"$f":"'Step 4. Plan de Acción'!A33","v":""},{"$f":"IF('Step 4. Plan de Acción'!F33=\"\",\"\",'Step 4. Plan de Acción'!F33)","v":""},{"$f":"IF('Step 4. Plan de Acción'!G33=\"\",\"\",'Step 4. Plan de Acción'!G33)","v":""},"Lugar (incluidas las comidas y las pausas)",null,null,null,{"$f":"IF(C384=\"A distancia\",((G384)+(IF(E388=\"\",G388,E388*F388*G388))+(IF(E389=\"\",G389,E389*F389*G389))+(IF(E390=\"\",G390,E390*F390*G390))+(IF(E391=\"\",G391,E391*F391*G391))+(IF(E392=\"\",G392,E392*G392))+(IF(E393=\"\",G393,E393*G393))+(IF(E394=\"\",G394,E394*G394))+(IF(E395=\"\",G395,E395*F395*G395))+(IF(E396=\"\",G396,E396*F396*G396))+(IF(E397=\"\",G397,E397*F397*G397)))*($G$4/$H$4),((G384)+(IF(E385=\"\",G385,E385*G385))+(IF(E386=\"\",G386,E386*F386*G386))+(IF(E387=\"\",G387,E387*F387*G387))+(IF(E388=\"\",G388,E388*F388*G388))+(IF(E389=\"\",G389,E389*F389*G389))+(IF(E390=\"\",G390,E390*F390*G390))+(IF(E391=\"\",G391,E391*F391*G391))+(IF(E392=\"\",G392,E392*G392))+(IF(E393=\"\",G393,E393*G393))+(IF(E394=\"\",G394,E394*G394))+(IF(E395=\"\",G395,E395*F395*G395))+(IF(E396=\"\",G396,E396*F396*G396))+(IF(E397=\"\",G397,E397*F397*G397)))*($G$4/$H$4))","v":0}]
["Descripción del presupuesto:",null,null,"Viajes"]
[null,null,null,"Viáticos"]
[null,null,null,"Alojamiento"]
[null,null,null,"Tiempo del personal"]
[null,null,null,"Tiempo del personal"]
[null,null,null,"Tiempo del personal"]
[null,null,null,"Tiempo del consultor"]
[null,null,null,"Materiales (por ejemplo, manuales, ordenadores portátiles, cursos de aprendizaje virtual)"]
[null,null,null,"Materiales (por ejemplo, manuales, ordenadores portátiles, cursos de aprendizaje virtual)"]
[null,null,null,"Materiales (por ejemplo, manuales, ordenadores portátiles, cursos de aprendizaje virtual)"]
[null,null,null,"Otros"]
[null,null,null,"Otros"]
[null,null,null,"Otros"]
[{"$f":"'Step 4. Plan de Acción'!A34","v":""},{"$f":"IF('Step 4. Plan de Acción'!F34=\"\",\"\",'Step 4. Plan de Acción'!F34)","v":""},{"$f":"IF('Step 4. Plan de Acción'!G34=\"\",\"\",'Step 4. Plan de Acción'!G34)","v":""},"Lugar (incluidas las comidas y las pausas)",null,null,null,{"$f":"IF(C398=\"A distancia\",((G398)+(IF(E402=\"\",G402,E402*F402*G402))+(IF(E403=\"\",G403,E403*F403*G403))+(IF(E404=\"\",G404,E404*F404*G404))+(IF(E405=\"\",G405,E405*F405*G405))+(IF(E406=\"\",G406,E406*G406))+(IF(E407=\"\",G407,E407*G407))+(IF(E408=\"\",G408,E408*G408))+(IF(E409=\"\",G409,E409*F409*G409))+(IF(E410=\"\",G410,E410*F410*G410))+(IF(E411=\"\",G411,E411*F411*G411)))*($G$4/$H$4),((G398)+(IF(E399=\"\",G399,E399*G399))+(IF(E400=\"\",G400,E400*F400*G400))+(IF(E401=\"\",G401,E401*F401*G401))+(IF(E402=\"\",G402,E402*F402*G402))+(IF(E403=\"\",G403,E403*F403*G403))+(IF(E404=\"\",G404,E404*F404*G404))+(IF(E405=\"\",G405,E405*F405*G405))+(IF(E406=\"\",G406,E406*G406))+(IF(E407=\"\",G407,E407*G407))+(IF(E408=\"\",G408,E408*G408))+(IF(E409=\"\",G409,E409*F409*G409))+(IF(E410=\"\",G410,E410*F410*G410))+(IF(E411=\"\",G411,E411*F411*G411)))*($G$4/$H$4))","v":0}]
["Descripción del presupuesto:",null,null,"Viajes"]
[null,null,null,"Viáticos"]
[null,null,null,"Alojamiento"]
[null,null,null,"Tiempo del personal"]
[null,null,null,"Tiempo del personal"]
[null,null,null,"Tiempo del personal"]
[null,null,null,"Tiempo del consultor"]
[null,null,null,"Materiales (por ejemplo, manuales, ordenadores portátiles, cursos de aprendizaje virtual)"]
[null,null,null,"Materiales (por ejemplo, manuales, ordenadores portátiles, cursos de aprendizaje virtual)"]
[null,null,null,"Materiales (por ejemplo, manuales, ordenadores portátiles, cursos de aprendizaje virtual)"]
[null,null,null,"Otros"]
[null,null,null,"Otros"]
[null,null,null,"Otros"]
[{"$f":"'Step 4. Plan de Acción'!A35","v":""},{"$f":"IF('Step 4. Plan de Acción'!F35=\"\",\"\",'Step 4. Plan de Acción'!F35)","v":""},{"$f":"IF('Step 4. Plan de Acción'!G35=\"\",\"\",'Step 4. Plan de Acción'!G35)","v":""},"Lugar (incluidas las comidas y las pausas)",null,null,null,{"$f":"IF(C412=\"A distancia\",((G412)+(IF(E416=\"\",G416,E416*F416*G416))+(IF(E417=\"\",G417,E417*F417*G417))+(IF(E418=\"\",G418,E418*F418*G418))+(IF(E419=\"\",G419,E419*F419*G419))+(IF(E420=\"\",G420,E420*G420))+(IF(E421=\"\",G421,E421*G421))+(IF(E422=\"\",G422,E422*G422))+(IF(E423=\"\",G423,E423*F423*G423))+(IF(E424=\"\",G424,E424*F424*G424))+(IF(E425=\"\",G425,E425*F425*G425)))*($G$4/$H$4),((G412)+(IF(E413=\"\",G413,E413*G413))+(IF(E414=\"\",G414,E414*F414*G414))+(IF(E415=\"\",G415,E415*F415*G415))+(IF(E416=\"\",G416,E416*F416*G416))+(IF(E417=\"\",G417,E417*F417*G417))+(IF(E418=\"\",G418,E418*F418*G418))+(IF(E419=\"\",G419,E419*F419*G419))+(IF(E420=\"\",G420,E420*G420))+(IF(E421=\"\",G421,E421*G421))+(IF(E422=\"\",G422,E422*G422))+(IF(E423=\"\",G423,E423*F423*G423))+(IF(E424=\"\",G424,E424*F424*G424))+(IF(E425=\"\",G425,E425*F425*G425)))*($G$4/$H$4))","v":0}]
["Descripción del presupuesto:",null,null,"Viajes"]
[null,null,null,"Viáticos"]
[null,null,null,"Alojamiento"]
[null,null,null,"Tiempo del personal"]
[null,null,null,"Tiempo del personal"]
[null,null,null,"Tiempo del personal"]
[null,null,null,"Tiempo del consultor"]
[null,null,null,"Materiales (por ejemplo, manuales, ordenadores portátiles, cursos de aprendizaje virtual)"]
[null,null,null,"Materiales (por ejemplo, manuales, ordenadores portátiles, cursos de aprendizaje virtual)"]
[null,null,null,"Materiales (por ejemplo, manuales, ordenadores portátiles, cursos de aprendizaje virtual)"]
[null,null,null,"Otros"]
[null,null,null,"Otros"]
[null,null,null,"Otros"]
[{"$f":"'Step 4. Plan de Acción'!A36","v":""},{"$f":"IF('Step 4. Plan de Acción'!F36=\"\",\"\",'Step 4. Plan de Acción'!F36)","v":""},{"$f":"IF('Step 4. Plan de Acción'!G36=\"\",\"\",'Step 4. Plan de Acción'!G36)","v":""},"Lugar (incluidas las comidas y las pausas)",null,null,null,{"$f":"IF(C426=\"A distancia\",((G426)+(IF(E430=\"\",G430,E430*F430*G430))+(IF(E431=\"\",G431,E431*F431*G431))+(IF(E432=\"\",G432,E432*F432*G432))+(IF(E433=\"\",G433,E433*F433*G433))+(IF(E434=\"\",G434,E434*G434))+(IF(E435=\"\",G435,E435*G435))+(IF(E436=\"\",G436,E436*G436))+(IF(E437=\"\",G437,E437*F437*G437))+(IF(E438=\"\",G438,E438*F438*G438))+(IF(E439=\"\",G439,E439*F439*G439)))*($G$4/$H$4),((G426)+(IF(E427=\"\",G427,E427*G427))+(IF(E428=\"\",G428,E428*F428*G428))+(IF(E429=\"\",G429,E429*F429*G429))+(IF(E430=\"\",G430,E430*F430*G430))+(IF(E431=\"\",G431,E431*F431*G431))+(IF(E432=\"\",G432,E432*F432*G432))+(IF(E433=\"\",G433,E433*F433*G433))+(IF(E434=\"\",G434,E434*G434))+(IF(E435=\"\",G435,E435*G435))+(IF(E436=\"\",G436,E436*G436))+(IF(E437=\"\",G437,E437*F437*G437))+(IF(E438=\"\",G438,E438*F438*G438))+(IF(E439=\"\",G439,E439*F439*G439)))*($G$4/$H$4))","v":0}]
["Descripción del presupuesto:",null,null,"Viajes"]
[null,null,null,"Viáticos"]
[null,null,null,"Alojamiento"]
[null,null,null,"Tiempo del personal"]
[null,null,null,"Tiempo del personal"]
[null,null,null,"Tiempo del personal"]
[null,null,null,"Tiempo del consultor"]
[null,null,null,"Materiales (por ejemplo, manuales, ordenadores portátiles, cursos de aprendizaje virtual)"]
[null,null,null,"Materiales (por ejemplo, manuales, ordenadores portátiles, cursos de aprendizaje virtual)"]
[null,null,null,"Materiales (por ejemplo, manuales, ordenadores portátiles, cursos de aprendizaje virtual)"]
[null,null,null,"Otros"]
[null,null,null,"Otros"]
[null,null,null,"Otros"]
[{"$f":"'Step 4. Plan de Acción'!A37","v":""},{"$f":"IF('Step 4. Plan de Acción'!F37=\"\",\"\",'Step 4. Plan de Acción'!F37)","v":""},{"$f":"IF('Step 4. Plan de Acción'!G37=\"\",\"\",'Step 4. Plan de Acción'!G37)","v":""},"Lugar (incluidas las comidas y las pausas)",null,null,null,{"$f":"IF(C440=\"A distancia\",((G440)+(IF(E444=\"\",G444,E444*F444*G444))+(IF(E445=\"\",G445,E445*F445*G445))+(IF(E446=\"\",G446,E446*F446*G446))+(IF(E447=\"\",G447,E447*F447*G447))+(IF(E448=\"\",G448,E448*G448))+(IF(E449=\"\",G449,E449*G449))+(IF(E450=\"\",G450,E450*G450))+(IF(E451=\"\",G451,E451*F451*G451))+(IF(E452=\"\",G452,E452*F452*G452))+(IF(E453=\"\",G453,E453*F453*G453)))*($G$4/$H$4),((G440)+(IF(E441=\"\",G441,E441*G441))+(IF(E442=\"\",G442,E442*F442*G442))+(IF(E443=\"\",G443,E443*F443*G443))+(IF(E444=\"\",G444,E444*F444*G444))+(IF(E445=\"\",G445,E445*F445*G445))+(IF(E446=\"\",G446,E446*F446*G446))+(IF(E447=\"\",G447,E447*F447*G447))+(IF(E448=\"\",G448,E448*G448))+(IF(E449=\"\",G449,E449*G449))+(IF(E450=\"\",G450,E450*G450))+(IF(E451=\"\",G451,E451*F451*G451))+(IF(E452=\"\",G452,E452*F452*G452))+(IF(E453=\"\",G453,E453*F453*G453)))*($G$4/$H$4))","v":0}]
["Descripción del presupuesto:",null,null,"Viajes"]
[null,null,null,"Viáticos"]
[null,null,null,"Alojamiento"]
[null,null,null,"Tiempo del personal"]
[null,null,null,"Tiempo del personal"]
[null,null,null,"Tiempo del personal"]
[null,null,null,"Tiempo del consultor"]
[null,null,null,"Materiales (por ejemplo, manuales, ordenadores portátiles, cursos de aprendizaje virtual)"]
[null,null,null,"Materiales (por ejemplo, manuales, ordenadores portátiles, cursos de aprendizaje virtual)"]
[null,null,null,"Materiales (por ejemplo, manuales, ordenadores portátiles, cursos de aprendizaje virtual)"]
[null,null,null,"Otros"]
[null,null,null,"Otros"]
[null,null,null,"Otros"]
[{"$f":"'Step 4. Plan de Acción'!A38","v":""},{"$f":"IF('Step 4. Plan de Acción'!F38=\"\",\"\",'Step 4. Plan de Acción'!F38)","v":""},{"$f":"IF('Step 4. Plan de Acción'!G38=\"\",\"\",'Step 4. Plan de Acción'!G38)","v":""},"Lugar (incluidas las comidas y las pausas)",null,null,null,{"$f":"IF(C454=\"A distancia\",((G454)+(IF(E458=\"\",G458,E458*F458*G458))+(IF(E459=\"\",G459,E459*F459*G459))+(IF(E460=\"\",G460,E460*F460*G460))+(IF(E461=\"\",G461,E461*F461*G461))+(IF(E462=\"\",G462,E462*G462))+(IF(E463=\"\",G463,E463*G463))+(IF(E464=\"\",G464,E464*G464))+(IF(E465=\"\",G465,E465*F465*G465))+(IF(E466=\"\",G466,E466*F466*G466))+(IF(E467=\"\",G467,E467*F467*G467)))*($G$4/$H$4),((G454)+(IF(E455=\"\",G455,E455*G455))+(IF(E456=\"\",G456,E456*F456*G456))+(IF(E457=\"\",G457,E457*F457*G457))+(IF(E458=\"\",G458,E458*F458*G458))+(IF(E459=\"\",G459,E459*F459*G459))+(IF(E460=\"\",G460,E460*F460*G460))+(IF(E461=\"\",G461,E461*F461*G461))+(IF(E462=\"\",G462,E462*G462))+(IF(E463=\"\",G463,E463*G463))+(IF(E464=\"\",G464,E464*G464))+(IF(E465=\"\",G465,E465*F465*G465))+(IF(E466=\"\",G466,E466*F466*G466))+(IF(E467=\"\",G467,E467*F467*G467)))*($G$4/$H$4))","v":0}]
["Descripción del presupuesto:",null,null,"Viajes"]
[null,null,null,"Viáticos"]
[null,null,null,"Alojamiento"]
[null,null,null,"Tiempo del personal"]
[null,null,null,"Tiempo del personal"]
[null,null,null,"Tiempo del personal"]
[null,null,null,"Tiempo del consultor"]
[null,null,null,"Materiales (por ejemplo, manuales, ordenadores portátiles, cursos de aprendizaje virtual)"]
[null,null,null,"Materiales (por ejemplo, manuales, ordenadores portátiles, cursos de aprendizaje virtual)"]
[null,null,null,"Materiales (por ejemplo, manuales, ordenadores portátiles, cursos de aprendizaje virtual)"]
[null,null,null,"Otros"]
[null,null,null,"Otros"]
[null,null,null,"Otros"]
[{"$f":"'Step 4. Plan de Acción'!A39","v":""},{"$f":"IF('Step 4. Plan de Acción'!F39=\"\",\"\",'Step 4. Plan de Acción'!F39)","v":""},{"$f":"IF('Step 4. Plan de Acción'!G39=\"\",\"\",'Step 4. Plan de Acción'!G39)","v":""},"Lugar (incluidas las comidas y las pausas)",null,null,null,{"$f":"IF(C468=\"A distancia\",((G468)+(IF(E472=\"\",G472,E472*F472*G472))+(IF(E473=\"\",G473,E473*F473*G473))+(IF(E474=\"\",G474,E474*F474*G474))+(IF(E475=\"\",G475,E475*F475*G475))+(IF(E476=\"\",G476,E476*G476))+(IF(E477=\"\",G477,E477*G477))+(IF(E478=\"\",G478,E478*G478))+(IF(E479=\"\",G479,E479*F479*G479))+(IF(E480=\"\",G480,E480*F480*G480))+(IF(E481=\"\",G481,E481*F481*G481)))*($G$4/$H$4),((G468)+(IF(E469=\"\",G469,E469*G469))+(IF(E470=\"\",G470,E470*F470*G470))+(IF(E471=\"\",G471,E471*F471*G471))+(IF(E472=\"\",G472,E472*F472*G472))+(IF(E473=\"\",G473,E473*F473*G473))+(IF(E474=\"\",G474,E474*F474*G474))+(IF(E475=\"\",G475,E475*F475*G475))+(IF(E476=\"\",G476,E476*G476))+(IF(E477=\"\",G477,E477*G477))+(IF(E478=\"\",G478,E478*G478))+(IF(E479=\"\",G479,E479*F479*G479))+(IF(E480=\"\",G480,E480*F480*G480))+(IF(E481=\"\",G481,E481*F481*G481)))*($G$4/$H$4))","v":0}]
["Descripción del presupuesto:",null,null,"Viajes"]
[null,null,null,"Viáticos"]
[null,null,null,"Alojamiento"]
[null,null,null,"Tiempo del personal"]
[null,null,null,"Tiempo del personal"]
[null,null,null,"Tiempo del personal"]
[null,null,null,"Tiempo del consultor"]
[null,null,null,"Materiales (por ejemplo, manuales, ordenadores portátiles, cursos de aprendizaje virtual)"]
[null,null,null,"Materiales (por ejemplo, manuales, ordenadores portátiles, cursos de aprendizaje virtual)"]
[null,null,null,"Materiales (por ejemplo, manuales, ordenadores portátiles, cursos de aprendizaje virtual)"]
[null,null,null,"Otros"]
[null,null,null,"Otros"]
[null,null,null,"Otros"]
[{"$f":"'Step 4. Plan de Acción'!A40","v":""},{"$f":"IF('Step 4. Plan de Acción'!F40=\"\",\"\",'Step 4. Plan de Acción'!F40)","v":""},{"$f":"IF('Step 4. Plan de Acción'!G40=\"\",\"\",'Step 4. Plan de Acción'!G40)","v":""},"Lugar (incluidas las comidas y las pausas)",null,null,null,{"$f":"IF(C482=\"A distancia\",((G482)+(IF(E486=\"\",G486,E486*F486*G486))+(IF(E487=\"\",G487,E487*F487*G487))+(IF(E488=\"\",G488,E488*F488*G488))+(IF(E489=\"\",G489,E489*F489*G489))+(IF(E490=\"\",G490,E490*G490))+(IF(E491=\"\",G491,E491*G491))+(IF(E492=\"\",G492,E492*G492))+(IF(E493=\"\",G493,E493*F493*G493))+(IF(E494=\"\",G494,E494*F494*G494))+(IF(E495=\"\",G495,E495*F495*G495)))*($G$4/$H$4),((G482)+(IF(E483=\"\",G483,E483*G483))+(IF(E484=\"\",G484,E484*F484*G484))+(IF(E485=\"\",G485,E485*F485*G485))+(IF(E486=\"\",G486,E486*F486*G486))+(IF(E487=\"\",G487,E487*F487*G487))+(IF(E488=\"\",G488,E488*F488*G488))+(IF(E489=\"\",G489,E489*F489*G489))+(IF(E490=\"\",G490,E490*G490))+(IF(E491=\"\",G491,E491*G491))+(IF(E492=\"\",G492,E492*G492))+(IF(E493=\"\",G493,E493*F493*G493))+(IF(E494=\"\",G494,E494*F494*G494))+(IF(E495=\"\",G495,E495*F495*G495)))*($G$4/$H$4))","v":0}]
["Descripción del presupuesto:",null,null,"Viajes"]
[null,null,null,"Viáticos"]
[null,null,null,"Alojamiento"]
[null,null,null,"Tiempo del personal"]
[null,null,null,"Tiempo del personal"]
[null,null,null,"Tiempo del personal"]
[null,null,null,"Tiempo del consultor"]
[null,null,null,"Materiales (por ejemplo, manuales, ordenadores portátiles, cursos de aprendizaje virtual)"]
[null,null,null,"Materiales (por ejemplo, manuales, ordenadores portátiles, cursos de aprendizaje virtual)"]
[null,null,null,"Materiales (por ejemplo, manuales, ordenadores portátiles, cursos de aprendizaje virtual)"]
[null,null,null,"Otros"]
[null,null,null,"Otros"]
[null,null,null,"Otros"]
[{"$f":"'Step 4. Plan de Acción'!A41","v":""},{"$f":"IF('Step 4. Plan de Acción'!F41=\"\",\"\",'Step 4. Plan de Acción'!F41)","v":""},{"$f":"IF('Step 4. Plan de Acción'!G41=\"\",\"\",'Step 4. Plan de Acción'!G41)","v":""},"Lugar (incluidas las comidas y las pausas)",null,null,null,{"$f":"IF(C496=\"A distancia\",((G496)+(IF(E500=\"\",G500,E500*F500*G500))+(IF(E501=\"\",G501,E501*F501*G501))+(IF(E502=\"\",G502,E502*F502*G502))+(IF(E503=\"\",G503,E503*F503*G503))+(IF(E504=\"\",G504,E504*G504))+(IF(E505=\"\",G505,E505*G505))+(IF(E506=\"\",G506,E506*G506))+(IF(E507=\"\",G507,E507*F507*G507))+(IF(E508=\"\",G508,E508*F508*G508))+(IF(E509=\"\",G509,E509*F509*G509)))*($G$4/$H$4),((G496)+(IF(E497=\"\",G497,E497*G497))+(IF(E498=\"\",G498,E498*F498*G498))+(IF(E499=\"\",G499,E499*F499*G499))+(IF(E500=\"\",G500,E500*F500*G500))+(IF(E501=\"\",G501,E501*F501*G501))+(IF(E502=\"\",G502,E502*F502*G502))+(IF(E503=\"\",G503,E503*F503*G503))+(IF(E504=\"\",G504,E504*G504))+(IF(E505=\"\",G505,E505*G505))+(IF(E506=\"\",G506,E506*G506))+(IF(E507=\"\",G507,E507*F507*G507))+(IF(E508=\"\",G508,E508*F508*G508))+(IF(E509=\"\",G509,E509*F509*G509)))*($G$4/$H$4))","v":0}]
["Descripción del presupuesto:",null,null,"Viajes"]
[null,null,null,"Viáticos"]
[null,null,null,"Alojamiento"]
[null,null,null,"Tiempo del personal"]
[null,null,null,"Tiempo del personal"]
[null,null,null,"Tiempo del personal"]
[null,null,null,"Tiempo del consultor"]
[null,null,null,"Materiales (por ejemplo, manuales, ordenadores portátiles, cursos de aprendizaje virtual)"]
[null,null,null,"Materiales (por ejemplo, manuales, ordenadores portátiles, cursos de aprendizaje virtual)"]
[null,null,null,"Materiales (por ejemplo, manuales, ordenadores portátiles, cursos de aprendizaje virtual)"]
[null,null,null,"Otros"]
[null,null,null,"Otros"]
[null,null,null,"Otros"]
[{"$f":"'Step 4. Plan de Acción'!A42","v":""},{"$f":"IF('Step 4. Plan de Acción'!F42=\"\",\"\",'Step 4. Plan de Acción'!F42)","v":""},{"$f":"IF('Step 4. Plan de Acción'!G42=\"\",\"\",'Step 4. Plan de Acción'!G42)","v":""},"Lugar (incluidas las comidas y las pausas)",null,null,null,{"$f":"IF(C510=\"A distancia\",((G510)+(IF(E514=\"\",G514,E514*F514*G514))+(IF(E515=\"\",G515,E515*F515*G515))+(IF(E516=\"\",G516,E516*F516*G516))+(IF(E517=\"\",G517,E517*F517*G517))+(IF(E518=\"\",G518,E518*G518))+(IF(E519=\"\",G519,E519*G519))+(IF(E520=\"\",G520,E520*G520))+(IF(E521=\"\",G521,E521*F521*G521))+(IF(E522=\"\",G522,E522*F522*G522))+(IF(E523=\"\",G523,E523*F523*G523)))*($G$4/$H$4),((G510)+(IF(E511=\"\",G511,E511*G511))+(IF(E512=\"\",G512,E512*F512*G512))+(IF(E513=\"\",G513,E513*F513*G513))+(IF(E514=\"\",G514,E514*F514*G514))+(IF(E515=\"\",G515,E515*F515*G515))+(IF(E516=\"\",G516,E516*F516*G516))+(IF(E517=\"\",G517,E517*F517*G517))+(IF(E518=\"\",G518,E518*G518))+(IF(E519=\"\",G519,E519*G519))+(IF(E520=\"\",G520,E520*G520))+(IF(E521=\"\",G521,E521*F521*G521))+(IF(E522=\"\",G522,E522*F522*G522))+(IF(E523=\"\",G523,E523*F523*G523)))*($G$4/$H$4))","v":0}]
["Descripción del presupuesto:",null,null,"Viajes"]
[null,null,null,"Viáticos"]
[null,null,null,"Alojamiento"]
[null,null,null,"Tiempo del personal"]
[null,null,null,"Tiempo del personal"]
[null,null,null,"Tiempo del personal"]
[null,null,null,"Tiempo del consultor"]
[null,null,null,"Materiales (por ejemplo, manuales, ordenadores portátiles, cursos de aprendizaje virtual)"]
[null,null,null,"Materiales (por ejemplo, manuales, ordenadores portátiles, cursos de aprendizaje virtual)"]
[null,null,null,"Materiales (por ejemplo, manuales, ordenadores portátiles, cursos de aprendizaje virtual)"]
[null,null,null,"Otros"]
[null,null,null,"Otros"]
[null,null,null,"Otros"]
[{"$f":"'Step 4. Plan de Acción'!A43","v":""},{"$f":"IF('Step 4. Plan de Acción'!F43=\"\",\"\",'Step 4. Plan de Acción'!F43)","v":""},{"$f":"IF('Step 4. Plan de Acción'!G43=\"\",\"\",'Step 4. Plan de Acción'!G43)","v":""},"Lugar (incluidas las comidas y las pausas)",null,null,null,{"$f":"IF(C524=\"A distancia\",((G524)+(IF(E528=\"\",G528,E528*F528*G528))+(IF(E529=\"\",G529,E529*F529*G529))+(IF(E530=\"\",G530,E530*F530*G530))+(IF(E531=\"\",G531,E531*F531*G531))+(IF(E532=\"\",G532,E532*G532))+(IF(E533=\"\",G533,E533*G533))+(IF(E534=\"\",G534,E534*G534))+(IF(E535=\"\",G535,E535*F535*G535))+(IF(E536=\"\",G536,E536*F536*G536))+(IF(E537=\"\",G537,E537*F537*G537)))*($G$4/$H$4),((G524)+(IF(E525=\"\",G525,E525*G525))+(IF(E526=\"\",G526,E526*F526*G526))+(IF(E527=\"\",G527,E527*F527*G527))+(IF(E528=\"\",G528,E528*F528*G528))+(IF(E529=\"\",G529,E529*F529*G529))+(IF(E530=\"\",G530,E530*F530*G530))+(IF(E531=\"\",G531,E531*F531*G531))+(IF(E532=\"\",G532,E532*G532))+(IF(E533=\"\",G533,E533*G533))+(IF(E534=\"\",G534,E534*G534))+(IF(E535=\"\",G535,E535*F535*G535))+(IF(E536=\"\",G536,E536*F536*G536))+(IF(E537=\"\",G537,E537*F537*G537)))*($G$4/$H$4))","v":0}]
["Descripción del presupuesto:",null,null,"Viajes"]
[null,null,null,"Viáticos"]
[null,null,null,"Alojamiento"]
[null,null,null,"Tiempo del personal"]
[null,null,null,"Tiempo del personal"]
[null,null,null,"Tiempo del personal"]
[null,null,null,"Tiempo del consultor"]
[null,null,null,"Materiales (por ejemplo, manuales, ordenadores portátiles, cursos de aprendizaje virtual)"]
[null,null,null,"Materiales (por ejemplo, manuales, ordenadores portátiles, cursos de aprendizaje virtual)"]
[null,null,null,"Materiales (por ejemplo, manuales, ordenadores portátiles, cursos de aprendizaje virtual)"]
[null,null,null,"Otros"]
[null,null,null,"Otros"]
[null,null,null,"Otros"]
[{"$f":"'Step 4. Plan de Acción'!A44","v":""},{"$f":"IF('Step 4. Plan de Acción'!F44=\"\",\"\",'Step 4. Plan de Acción'!F44)","v":""},{"$f":"IF('Step 4. Plan de Acción'!G44=\"\",\"\",'Step 4. Plan de Acción'!G44)","v":""},"Lugar (incluidas las comidas y las pausas)",null,null,null,{"$f":"IF(C538=\"A distancia\",((G538)+(IF(E542=\"\",G542,E542*F542*G542))+(IF(E543=\"\",G543,E543*F543*G543))+(IF(E544=\"\",G544,E544*F544*G544))+(IF(E545=\"\",G545,E545*F545*G545))+(IF(E546=\"\",G546,E546*G546))+(IF(E547=\"\",G547,E547*G547))+(IF(E548=\"\",G548,E548*G548))+(IF(E549=\"\",G549,E549*F549*G549))+(IF(E550=\"\",G550,E550*F550*G550))+(IF(E551=\"\",G551,E551*F551*G551)))*($G$4/$H$4),((G538)+(IF(E539=\"\",G539,E539*G539))+(IF(E540=\"\",G540,E540*F540*G540))+(IF(E541=\"\",G541,E541*F541*G541))+(IF(E542=\"\",G542,E542*F542*G542))+(IF(E543=\"\",G543,E543*F543*G543))+(IF(E544=\"\",G544,E544*F544*G544))+(IF(E545=\"\",G545,E545*F545*G545))+(IF(E546=\"\",G546,E546*G546))+(IF(E547=\"\",G547,E547*G547))+(IF(E548=\"\",G548,E548*G548))+(IF(E549=\"\",G549,E549*F549*G549))+(IF(E550=\"\",G550,E550*F550*G550))+(IF(E551=\"\",G551,E551*F551*G551)))*($G$4/$H$4))","v":0}]
["Descripción del presupuesto:",null,null,"Viajes"]
[null,null,null,"Viáticos"]
[null,null,null,"Alojamiento"]
[null,null,null,"Tiempo del personal"]
[null,null,null,"Tiempo del personal"]
[null,null,null,"Tiempo del personal"]
[null,null,null,"Tiempo del consultor"]
[null,null,null,"Materiales (por ejemplo, manuales, ordenadores portátiles, cursos de aprendizaje virtual)"]
[null,null,null,"Materiales (por ejemplo, manuales, ordenadores portátiles, cursos de aprendizaje virtual)"]
[null,null,null,"Materiales (por ejemplo, manuales, ordenadores portátiles, cursos de aprendizaje virtual)"]
[null,null,null,"Otros"]
[null,null,null,"Otros"]
[null,null,null,"Otros"]
[{"$f":"'Step 4. Plan de Acción'!A45","v":""},{"$f":"IF('Step 4. Plan de Acción'!F45=\"\",\"\",'Step 4. Plan de Acción'!F45)","v":""},{"$f":"IF('Step 4. Plan de Acción'!G45=\"\",\"\",'Step 4. Plan de Acción'!G45)","v":""},"Lugar (incluidas las comidas y las pausas)",null,null,null,{"$f":"IF(C552=\"A distancia\",((G552)+(IF(E556=\"\",G556,E556*F556*G556))+(IF(E557=\"\",G557,E557*F557*G557))+(IF(E558=\"\",G558,E558*F558*G558))+(IF(E559=\"\",G559,E559*F559*G559))+(IF(E560=\"\",G560,E560*G560))+(IF(E561=\"\",G561,E561*G561))+(IF(E562=\"\",G562,E562*G562))+(IF(E563=\"\",G563,E563*F563*G563))+(IF(E564=\"\",G564,E564*F564*G564))+(IF(E565=\"\",G565,E565*F565*G565)))*($G$4/$H$4),((G552)+(IF(E553=\"\",G553,E553*G553))+(IF(E554=\"\",G554,E554*F554*G554))+(IF(E555=\"\",G555,E555*F555*G555))+(IF(E556=\"\",G556,E556*F556*G556))+(IF(E557=\"\",G557,E557*F557*G557))+(IF(E558=\"\",G558,E558*F558*G558))+(IF(E559=\"\",G559,E559*F559*G559))+(IF(E560=\"\",G560,E560*G560))+(IF(E561=\"\",G561,E561*G561))+(IF(E562=\"\",G562,E562*G562))+(IF(E563=\"\",G563,E563*F563*G563))+(IF(E564=\"\",G564,E564*F564*G564))+(IF(E565=\"\",G565,E565*F565*G565)))*($G$4/$H$4))","v":0}]
["Descripción del presupuesto:",null,null,"Viajes"]
[null,null,null,"Viáticos"]
[null,null,null,"Alojamiento"]
[null,null,null,"Tiempo del personal"]
[null,null,null,"Tiempo del personal"]
[null,null,null,"Tiempo del personal"]
[null,null,null,"Tiempo del consultor"]
[null,null,null,"Materiales (por ejemplo, manuales, ordenadores portátiles, cursos de aprendizaje virtual)"]
[null,null,null,"Materiales (por ejemplo, manuales, ordenadores portátiles, cursos de aprendizaje virtual)"]
[null,null,null,"Materiales (por ejemplo, manuales, ordenadores portátiles, cursos de aprendizaje virtual)"]
[null,null,null,"Otros"]
[null,null,null,"Otros"]
[null,null,null,"Otros"]